{"text_format":"1","workbook":"xlsx","n_sheets":14,"sheets":["Раздел0","Раздел1","Раздел2","Раздел3","Раздел4","Раздел5","Раздел6","Раздел7","Раздел8","Раздел9","Раздел10","Раздел11","Раздел12","Раздел13"],"not_rendered":{"charts":0,"images":0,"macros":1,"external_links":3,"defined_names":774,"comments":0,"pivot_tables":0},"unopened":[],"bounds":{"document_bytes":16777216,"sheet_cells":100000,"rows_first":2000,"rows_last":500,"rows_between":2000,"halvings":0,"cell_chars":16384,"cell_head_chars":4096},"cells_cut":0,"cells_raw":0,"read":"whole","date_system":"1900"}

{"sheet":"Раздел0","index":0,"n_rows":39,"n_cols":14,"rows_kept":39,"cut":false,"hidden":false,"merged":[[40,0,40,18],[37,1,37,3],[37,4,37,7],[37,8,37,11],[37,12,37,17],[38,1,38,3],[38,4,38,7],[38,8,38,11],[38,12,38,17],[35,1,36,3],[35,4,35,17],[36,4,36,7],[36,8,36,11],[36,12,36,17],[30,2,30,9],[30,10,30,11],[31,1,31,6],[31,7,31,17],[32,1,32,3],[32,4,32,17],[33,1,33,7],[33,8,33,11],[33,12,33,17],[34,1,34,7],[34,8,34,11],[34,12,34,17],[26,2,26,9],[27,2,27,9],[28,1,28,9],[28,10,28,11],[29,1,29,9],[29,10,29,11],[23,1,23,9],[23,10,23,11],[24,1,24,9],[24,10,24,11],[25,1,25,9],[20,2,20,9],[20,10,20,11],[21,2,21,9],[21,13,21,16],[22,1,22,9],[22,10,22,11],[17,2,17,9],[17,13,17,16],[18,2,18,9],[18,13,18,16],[19,2,19,9],[19,10,19,11],[14,10,14,11],[14,13,14,16],[15,2,15,9],[15,13,15,16],[16,2,16,9],[16,13,16,16],[0,0,0,18],[1,0,39,0],[1,4,1,14],[1,18,39,18],[3,4,3,14],[5,3,5,15],[7,4,7,14],[9,5,9,13],[10,5,10,13],[12,1,12,9],[12,10,12,11],[12,13,12,16],[13,1,13,9],[13,10,13,11],[13,13,13,16],[14,2,14,9]]}
[]
[null,null,null,null,"СТАТИСТИЧЕСКОЕ НАБЛЮДЕНИЕ МИНИСТЕРСТВА СПОРТА РОССИЙСКОЙ ФЕДЕРАЦИИ"]
[]
[null,null,null,null,"КОНФИДЕНЦИАЛЬНОСТЬ ГАРАНТИРУЕТСЯ ПОЛУЧАТЕЛЕМ ИНФОРМАЦИИ"]
[]
[null,null,null,"Нарушение порядка предоставления первичных статистических данных или несвоевременное предоставление этих данных, либо предоставление недостоверных первичных статистических данных влечет ответственность, установленную статьей 13.19 Кодекса Российской Федерации об административных правонарушениях, а также статьей 3 Закона Российской Федерации от 13.05.1992 № 2761-1 «Об ответственности за нарушение порядка представления государственной статистической отчетности»"]
[]
[null,null,null,null,"ВОЗМОЖНО ПРЕДОСТАВЛЕНИЕ В ЭЛЕКТРОННОМ ВИДЕ"]
[]
[null,null,null,null,null,"СВЕДЕНИЯ ПО ПОДГОТОВКЕ СПОРТИВНОГО РЕЗЕРВА"]
[null,null,null,null,null,"по состоянию на 31 декабря 2020 г."]
[]
[null,"Предоставляют:",null,null,null,null,null,null,null,null,"Сроки предоставления",null,null,"Форма № 5-ФК"]
[null,"юридические лица (кроме субъектов малого и среднего предпринимательства) – \n\nорганизации, осуществляющие спортивную подготовку или обеспечивающие подготовку спортивного резерва, независимо от их организационно-правовых форм и форм собственности: детско-юношеские спортивные школы (ДЮСШ), спортивные школы (СШ), спортивные школы олимпийского резерва (СШОР), училища олимпийского резерва (УОР - колледжи, техникумы), центры спортивной подготовки (ЦСП), центры олимпийской подготовки (ЦОП), другие организации;\n\n",null,null,null,null,null,null,null,null,"10 января",null,null,"Письмо Минспорта России: \nот 08.10.2020 № ИСХ-02-5-10/10166"]
[null,"-","органу местного самоуправления поселения, внутригородской территории города "]
[null,null,"федерального значения;"]
[null,"-","органу местного самоуправления городского округа, муниципального района в"]
[null,null,"области физической культуры и спорта;"]
[null,"-","территориальному органу исполнительной власти города федерального значения в "]
[null,null,"области физической культуры и спорта;"]
[null,"-","иным органам местного самоуправления, в ведении которых находятся"]
[null,null,"организации, осуществляющие спортивную подготовку;",null,null,null,null,null,null,null,null,null,null,"Годовая"]
[null,"органы местного самоуправления поселений, внутригородских территорий городов  ",null,null,null,null,null,null,null,null,"15 января"]
[null,"федерального значения, городских округов, муниципальных районов в области"]
[null,"физической культуры и спорта, территориальные органы исполнительной власти "]
[null,"городов федерального значения в области физической культуры и спорта, иные органы \nместного самоуправления, в ведении которых находятся организации, осуществляющие \nспортивную подготовку:"]
[null,"-","органу исполнительной власти субъекта Российской Федерации в области "]
[null,null,"физической культуры и спорта;"]
[null,"органы исполнительной власти субъектов Российской Федерации в области ",null,null,null,null,null,null,null,null,"20 января"]
[null,"физической культуры и спорта:"]
[null,"-","Министерству спорта Российской Федерации"]
[null,"Наименование отчитывающейся организации",null,null,null,null,null,"муниципальное бюджетное учреждение \"Спортивная школа олимпийского резерва № 2\" города Каменск-Шахтинский (МБУ \"СШОР № 2\")"]
[null,"Почтовый адрес",null,null,"347800 Ростовская область, г.Каменск-Шахтинский, ул. Степинь, дом 1"]
[null,"Муниципальный район",null,null,null,null,null,null,"Городской округ",null,null,null,"Муниципальный округ"]
[null,null,null,null,null,null,null,null,"Каменск-Шахтинский"]
[null,"Код\nформы\nпо ОКУД",null,null,"Код"]
[null,null,null,null,"отчитывающейся организации\nпо ОКПО"]
[null,1,null,null,2,null,null,null,3,null,null,null,4]
[null,"0609403",null,null,"27221679"]

{"sheet":"Раздел1","index":1,"n_rows":28,"n_cols":14,"rows_kept":28,"cut":false,"hidden":false,"merged":[[0,0,16,0],[0,1,0,10],[0,11,16,11],[1,7,1,10],[2,1,3,1],[2,2,3,2],[2,3,3,3],[2,4,2,10],[21,8,21,9],[25,1,25,7],[22,8,23,8],[26,1,27,1],[26,2,27,2],[26,6,26,7],[26,3,26,4],[27,3,27,4],[22,1,24,1],[22,2,24,2],[22,3,22,7],[23,4,23,5],[23,6,23,7],[24,4,24,5],[24,6,24,7],[27,6,27,7]]}
[null,"Раздел I. Число организаций"]
[null,null,null,null,null,null,null,"Код по ОКЕИ: единица – 642"]
[null,"Ведомственная \nпринадлежность","№ стро-ки","Число организаций и структурных подразделений – всего","в том числе по виду организации:"]
[null,null,null,null,"ДЮСШ ","СШ","СШОР","УОР","ЦСП","ЦОП","Другие\nорганизации"]
[null,1,2,3,4,5,6,7,8,9,10]
[null,"Организации в ведении органов управления в сфере физической культуры и спорта","01",{"$f":"SUM(E6:K6)","v":1},null,null,1,null,null,null,null,null,null,{"$f":"SUM(E6:H6,J6:K6)","v":1}]
[null,"Структурные подразделения, реализующие программы спортивной подготовки","02",{"$f":"SUM(E7:K7)","v":0},null,null,null,null,null,null,null,null,null,{"$f":"SUM(E6:K6)","v":1}]
[null,"Обособленные структурные подразделения, реализующие программы спортивной подготовки","03",0,null,null,null,null,null,null,null,null,null,{"$f":"SUM(I18:J18)","v":0}]
[null,"Структурные подразделения, реализующие дополнительные общеобразовательные программы в области физической культуры и спорта ","04",0,null,null,null,null,null,null,null,null,null,{"$f":"SUM(F13,F16)","v":0}]
[null,"Организации в ведении органов управления в сфере образования","05",0,null,null,null,null,null,null,null,null,null,{"$f":"SUM(K7,K9)","v":0}]
[null,"Структурные подразделения, реализующие программы спортивной подготовки","06",0]
[null,"Обособленные структурные подразделения, реализующие программы спортивной подготовки","07",0]
[null,"Организации другой ведомственной принадлежности","08",0]
[null,"Структурные подразделения, реализующие программы спортивной подготовки","09",0]
[null,"Обособленные структурные подразделения, реализующие программы спортивной подготовки","10",0]
[null,"Структурные подразделения, реализующие дополнительные общеобразовательные программы в области физической культуры и спорта","11",{"$f":"SUM(E16:K16)","v":0}]
[null,"Частные организации (из стр. 08)","12",0]
[null,"Итого организаций","13",{"$f":"SUM(E18:K18)","v":1},{"$f":"SUM(E6,E10,E13)","v":0},{"$f":"SUM(F6,F10,F13)","v":0},{"$f":"SUM(G6,G10,G13)","v":1},0,0,0,0]
[null,"Итого обособленных структурных подразделений, реализующих программы спортивной подготовки","14",{"$f":"SUM(E19:K19)","v":0},{"$f":"SUM(E8,E12,E15)","v":0},{"$f":"SUM(F8,F12,F15)","v":0},0,0,0,{"$f":"SUM(J8,J12,J15)","v":0},0]
[]
[null,"ОГРН","15","1026102108647"]
[null,null,null,null,null,null,null,null,"Код по ОКЕИ: единица – 642"]
[null,"Виды правовых образований","16","Публичные правовые образования",null,null,null,null,"Иные правовые образования \n(в том числе частные)"]
[null,null,null,"Российская Федерация","Субъект Российской Федерации",null,"Муниципальное образование"]
[null,null,null,null,null,null,1]
[null,"Строка 17 заполняется только организациями сферы физической культуры и спорта"]
[null,"Переход на программу спортивной подготовки","17","Не перешли",null,"Частично перешли","Полностью перешли"]
[null,null,null,null,null,null,1]

{"sheet":"Раздел2","index":2,"n_rows":270,"n_cols":36,"rows_kept":270,"cut":false,"hidden":false,"merged":[[4,8,4,11],[2,3,4,4],[2,5,6,5],[5,15,6,15],[5,16,6,16],[5,20,5,21],[5,4,6,4],[5,8,6,8],[5,9,6,9],[5,10,6,10],[5,11,6,11],[5,12,6,12],[5,13,6,13],[5,14,6,14],[0,0,218,0],[0,1,0,20],[1,20,1,27],[2,1,5,1],[2,2,5,2],[2,6,2,27],[3,6,6,6],[3,20,4,27],[4,12,4,16],[4,17,6,17],[4,18,6,18],[4,19,6,19],[5,3,6,3],[5,22,5,27],[4,7,6,7],[3,7,3,19]]}
[null,"Раздел II. Численность занимающихся"]
[null,null,null,null,null,null,null,null,null,null,null,null,null,null,null,null,null,null,null,null,"Коды по ОКЕИ: человек - 792, единица - 642"]
[null,"Виды спорта","№ строки","Число отделений по видам спорта, единица",null,"Базовый вид спорта","Число занимающихся на 31 декабря отчетного года, человек"]
[null,null,null,null,null,null,"всего","Занимающиеся ",null,null,null,null,null,null,null,null,null,null,null,null,"Обучающиеся по дополнительным общеобразовательным программам в области физической культуры и спорта"]
[null,null,null,null,null,null,null,"спортивно-оздоровительный","по этапам спортивной подготовки",null,null,null,"по возрастам",null,null,null,null,"от 5 до 18 лет (из гр. 7-11)","женщин (из гр. 7-11)","в платных группах (из гр. 7)"]
[null,null,null,"всего","в том числе олимпийские отделения",null,null,null,"начальной подготовки","трениро-вочный","совершен-ствования спортивного мастерства","высшего спортивного мастерства","до 5 лет","от 6 до 15 лет","от 16 до 21 года","от 22 до 30 лет","старше 30 лет",null,null,null,"по общеразвивающим программам",null,"по предпрофессиональным программам"]
[null,null,null,null,null,null,null,null,null,null,null,null,null,null,null,null,null,null,null,null,"всего","в платных группах (из гр. 20)","всего","базовый уровень (из гр. 22)","углубленный уровень (из гр. 22)","в платных группах (из гр. 22)","базовый уровень (из гр. 25)","углубленный уровень (из гр. 25)"]
[null,1,2,3,4,5,6,7,8,9,10,11,12,13,14,15,16,17,18,19,20,21,22,23,24,25,26,27]
[null,"Авиамодельный спорт","01",null,null,null,{"$f":"SUM(H9:L9,U9,W9)*IF(D9>0,1,0)","v":0},null,null,null,null,null,null,null,null,null,null,null,null,null,null,null,{"$f":"SUM(X9:Y9)","v":0},null,null,{"$f":"SUM(AA9:AB9)","v":0},null,null,{"$f":"Раздел3!#REF!","v":{"$error":"#REF!"}},{"$f":"Раздел3!W8","v":0},{"$f":"SUM(Раздел6!F9:O9)","v":0},{"$f":"SUM(Раздел1!E10:J10)","v":0}]
[null,"Автомобильный спорт","02",null,null,null,{"$f":"SUM(H10:L10,U10,W10)*IF(D10>0,1,0)","v":0},null,null,null,null,null,null,null,null,null,null,null,null,null,null,null,{"$f":"SUM(X10:Y10)","v":0},null,null,{"$f":"SUM(AA10:AB10)","v":0},null,null,{"$f":"Раздел3!#REF!","v":{"$error":"#REF!"}},{"$f":"Раздел3!W9","v":0},{"$f":"SUM(Раздел6!F10:O10)","v":0},{"$f":"SUM(Раздел1!E11:J11)","v":0}]
[null,"Автомодельный спорт","03",null,null,null,0,null,null,null,null,null,null,null,null,null,null,null,null,null,null,null,0,null,null,0,null,null,null,null,null,{"$f":"SUM(Раздел1!E13:J13)","v":0}]
[null,"Айкидо","04",null,null,null,0,null,null,null,null,null,null,null,null,null,null,null,null,null,null,null,0,null,null,0,null,null,{"$f":"Раздел3!#REF!","v":{"$error":"#REF!"}},{"$f":"Раздел3!W10","v":0},{"$f":"SUM(Раздел6!F11:O11)","v":0},{"$f":"SUM(Раздел1!E14:J14)","v":0}]
[null,"Айсшток","05",null,null,null,0,null,null,null,null,null,null,null,null,null,null,null,null,null,null,null,0,null,null,0,null,null,null,null,null,{"$f":"SUM(Раздел1!E16:K16)","v":0}]
[null,"Акробатический рок-н-ролл","06",null,null,null,0,null,null,null,null,null,null,null,null,null,null,null,null,null,null,null,{"$f":"SUM(X14:Y14)","v":0},null,null,0,null,null,{"$f":"Раздел3!#REF!","v":{"$error":"#REF!"}},{"$f":"Раздел3!W11","v":0},{"$f":"SUM(Раздел6!F12:O12)","v":0},{"$f":"Раздел1!F13+Раздел1!F16","v":0}]
[null,"Альпинизм","07",null,null,null,0,null,null,null,null,null,null,null,null,null,null,null,null,null,null,null,0,null,null,0,null,null,{"$f":"Раздел3!#REF!","v":{"$error":"#REF!"}},{"$f":"Раздел3!W12","v":0},{"$f":"SUM(Раздел6!F13:O13)","v":0},{"$f":"Раздел1!K13+Раздел1!F14","v":0}]
[null,"Американский футбол","08",null,null,null,0,null,null,null,null,null,null,null,null,null,null,null,null,null,null,null,0,null,null,0,null,null,{"$f":"Раздел3!#REF!","v":{"$error":"#REF!"}},{"$f":"Раздел3!W13","v":0},{"$f":"SUM(Раздел6!F14:O14)","v":0},{"$f":"Раздел1!K13+Раздел1!E16","v":0}]
[null,"Армейский рукопашный бой","09",null,null,null,0,null,null,null,null,null,null,null,null,null,null,null,null,null,null,null,0,null,null,0,null,null,null,null,null,{"$f":"Раздел2!K13+Раздел2!F14+Раздел2!E16","v":0}]
[null,"Армрестлинг","10",null,null,null,0,null,null,null,null,null,null,null,null,null,null,null,null,null,null,null,0,null,null,0,null,null,{"$f":"Раздел3!#REF!","v":{"$error":"#REF!"}},{"$f":"Раздел3!W14","v":0},{"$f":"SUM(Раздел6!F15:O15)","v":0}]
[null,"Бадминтон","11",null,null,null,0,null,null,null,null,null,null,null,null,null,null,null,null,null,null,null,0,null,null,0,null,null,{"$f":"Раздел3!#REF!","v":{"$error":"#REF!"}},{"$f":"Раздел3!W15","v":0},{"$f":"SUM(Раздел6!F16:O16)","v":0}]
[null,"Баскетбол - всего","12",{"$f":"IF(SUM(D21:D22)>=1,1,0)","v":1},{"$f":"IF(SUM(E21:E22)>=1,1,0)","v":0},null,173,{"$f":"SUM(H21:H22)","v":0},{"$f":"SUM(I21:I22)","v":162},11,0,0,0,162,11,0,0,173,0,0,0,0,0,0,0,0,0,0,{"$f":"Раздел3!#REF!","v":{"$error":"#REF!"}},{"$f":"Раздел3!W16","v":0},{"$f":"SUM(Раздел6!F17:O17)","v":0}]
[null,"в том числе:\nБаскетбол (муж.)","13",1,null,null,173,null,162,11,null,null,null,162,11,null,null,173,null,null,null,null,{"$f":"SUM(X21:Y21)","v":0},null,null,0,null,null,{"$f":"Раздел3!#REF!","v":{"$error":"#REF!"}},{"$f":"Раздел3!W17","v":0},{"$f":"SUM(Раздел6!F18:O18)","v":0}]
[null,"Баскетбол (жен.)","14",null,null,null,0,null,null,null,null,null,null,null,null,null,null,null,{"$f":"SUM(H22:L22)","v":0},null,null,null,0,null,null,0,null,null,{"$f":"Раздел3!#REF!","v":{"$error":"#REF!"}},{"$f":"Раздел3!W18","v":0},{"$f":"SUM(Раздел6!F19:O19)","v":0}]
[null,"Бейсбол","15",null,null,null,0,null,null,null,null,null,null,null,null,null,null,null,null,null,null,null,0,null,null,0,null,null,{"$f":"Раздел3!#REF!","v":{"$error":"#REF!"}},{"$f":"Раздел3!W19","v":0},{"$f":"SUM(Раздел6!F20:O20)","v":0}]
[null,"Биатлон","16",null,null,null,0,null,null,null,null,null,null,null,null,null,null,null,null,null,null,null,0,null,null,0,null,null,{"$f":"Раздел3!#REF!","v":{"$error":"#REF!"}},{"$f":"Раздел3!W20","v":0},{"$f":"SUM(Раздел6!F21:O21)","v":0}]
[null,"Бильярдный спорт","17",null,null,null,0,null,null,null,null,null,null,null,null,null,null,null,null,null,null,null,0,null,null,0,null,null,{"$f":"Раздел3!#REF!","v":{"$error":"#REF!"}},{"$f":"Раздел3!W21","v":0},{"$f":"SUM(Раздел6!F22:O22)","v":0}]
[null,"Бобслей - всего","18",{"$f":"IF(SUM(D27:D28)>=1,1,0)","v":0},{"$f":"IF(SUM(E27:E28)>=1,1,0)","v":0},null,0,{"$f":"SUM(H27:H28)","v":0},{"$f":"SUM(I27:I28)","v":0},0,0,0,0,0,0,0,0,0,0,0,0,0,0,0,0,0,0,0,{"$f":"Раздел3!#REF!","v":{"$error":"#REF!"}},{"$f":"Раздел3!W22","v":0},{"$f":"SUM(Раздел6!F23:O23)","v":0}]
[null,"в том числе:\nБобслей","19",null,null,null,0,null,null,null,null,null,null,null,null,null,null,null,null,null,null,null,0,null,null,0,null,null,{"$f":"Раздел3!#REF!","v":{"$error":"#REF!"}},{"$f":"Раздел3!W23","v":0},{"$f":"SUM(Раздел6!F24:O24)","v":0}]
[null,"Скелетон","20",null,null,null,0,null,null,null,null,null,null,null,null,null,null,null,null,null,null,null,0,null,null,0,null,null,{"$f":"Раздел3!#REF!","v":{"$error":"#REF!"}},{"$f":"Раздел3!W24","v":0},{"$f":"SUM(Раздел6!F25:O25)","v":0}]
[null,"Бодибилдинг","21",null,null,null,0,null,null,null,null,null,null,null,null,null,null,null,null,null,null,null,0,null,null,0,null,null,{"$f":"Раздел3!#REF!","v":{"$error":"#REF!"}},{"$f":"Раздел3!W25","v":0},{"$f":"SUM(Раздел6!F26:O26)","v":0}]
[null,"Бокс","22",1,null,null,72,null,24,48,null,null,null,55,17,null,null,72,2,null,null,null,0,null,null,0,null,null,{"$f":"Раздел3!#REF!","v":{"$error":"#REF!"}},{"$f":"Раздел3!W26","v":0},{"$f":"SUM(Раздел6!F27:O27)","v":0}]
[null,"Борьба на поясах","23",null,null,null,0,null,null,null,null,null,null,null,null,null,null,null,null,null,null,null,0,null,null,0,null,null,{"$f":"Раздел3!#REF!","v":{"$error":"#REF!"}},{"$f":"Раздел3!W27","v":0},{"$f":"SUM(Раздел6!F28:O28)","v":0}]
[null,"Боулинг","24",null,null,null,0,null,null,null,null,null,null,null,null,null,null,null,null,null,null,null,0,null,null,0,null,null,{"$f":"Раздел3!#REF!","v":{"$error":"#REF!"}},{"$f":"Раздел3!W28","v":0},{"$f":"SUM(Раздел6!F29:O29)","v":0}]
[null,"Боулспорт","25",null,null,null,0,null,null,null,null,null,null,null,null,null,null,null,null,null,null,null,0,null,null,0]
[null,"Велосипедный спорт - всего","26",{"$f":"IF(SUM(D35:D38)>=1,1,0)","v":0},{"$f":"IF(SUM(E35:E38)>=1,1,0)","v":0},null,0,{"$f":"SUM(H35:H38)","v":0},{"$f":"SUM(I35:I38)","v":0},0,0,0,0,0,0,0,0,0,0,0,0,0,0,0,0,0,0,0,{"$f":"Раздел3!#REF!","v":{"$error":"#REF!"}},{"$f":"Раздел3!W29","v":0},{"$f":"SUM(Раздел6!F30:O30)","v":0}]
[null,"в том числе:\nBMX","27",null,null,null,0,null,null,null,null,null,null,null,null,null,null,null,null,null,null,null,0,null,null,0]
[null,"Маунтинбайк","28",null,null,null,0,null,null,null,null,null,null,null,null,null,null,null,null,null,null,null,0,null,null,0]
[null,"Трек","29",null,null,null,0,null,null,null,null,null,null,null,null,null,null,null,null,null,null,null,0,null,null,0]
[null,"Шоссе","30",null,null,null,0,null,null,null,null,null,null,null,null,null,null,null,null,null,null,null,0,null,null,0]
[null,"Вертолетный спорт","31",null,null,null,0,null,null,null,null,null,null,null,null,null,null,null,null,null,null,null,0,null,null,0,null,null,{"$f":"Раздел3!#REF!","v":{"$error":"#REF!"}},{"$f":"Раздел3!W30","v":0},{"$f":"SUM(Раздел6!F31:O31)","v":0}]
[null,"Водно-моторный спорт","32",null,null,null,0,null,null,null,null,null,null,null,null,null,null,null,null,null,null,null,0,null,null,0,null,null,{"$f":"Раздел3!#REF!","v":{"$error":"#REF!"}},{"$f":"Раздел3!W31","v":0},{"$f":"SUM(Раздел6!F32:O32)","v":0}]
[null,"Водно-спасательное многоборье","33",null,null,null,0,null,null,null,null,null,null,null,null,null,null,null,null,null,null,null,0,null,null,0,null,null,{"$f":"Раздел3!#REF!","v":{"$error":"#REF!"}},{"$f":"Раздел3!W32","v":0},{"$f":"SUM(Раздел6!F33:O33)","v":0}]
[null,"Водное поло - всего ","34",{"$f":"IF(SUM(D43:D44)>=1,1,0)","v":0},{"$f":"IF(SUM(E43:E44)>=1,1,0)","v":0},null,{"$f":"SUM(H42:L42,U42,W42)*IF(D42>0,1,0)","v":0},{"$f":"SUM(H43:H44)","v":0},{"$f":"SUM(I43:I44)","v":0},0,0,0,0,0,0,0,0,0,0,0,0,0,0,0,0,0,0,0,{"$f":"Раздел3!#REF!","v":{"$error":"#REF!"}},{"$f":"Раздел3!W37","v":0},{"$f":"SUM(Раздел6!F38:O38)","v":0}]
[null,"в том числе:\nВодное поло (муж.)","35",null,null,null,0,null,null,null,null,null,null,null,null,null,null,null,null,null,null,null,0,null,null,0,null,null,{"$f":"Раздел3!#REF!","v":{"$error":"#REF!"}},{"$f":"Раздел3!W38","v":0},{"$f":"SUM(Раздел6!F39:O39)","v":0}]
[null,"Водное поло (жен.)","36",null,null,null,0,null,null,null,null,null,null,null,null,null,null,null,{"$f":"SUM(H44:L44)","v":0},null,null,null,0,null,null,0,null,null,{"$f":"Раздел3!#REF!","v":{"$error":"#REF!"}},{"$f":"Раздел3!W39","v":0},{"$f":"SUM(Раздел6!F40:O40)","v":0}]
[null,"Воднолыжный спорт","37",null,null,null,0,null,null,null,null,null,null,null,null,null,null,null,null,null,null,null,0,null,null,0]
[null,"Военно-прикладной спорт","38",null,null,null,0,null,null,null,null,null,null,null,null,null,null,null,null,null,null,null,0,null,null,0,null,null,{"$f":"Раздел3!#REF!","v":{"$error":"#REF!"}},{"$f":"Раздел3!W41","v":0},{"$f":"SUM(Раздел6!F42:O42)","v":0}]
[null,"Военно-спортивное многоборье","39",null,null,null,0,null,null,null,null,null,null,null,null,null,null,null,null,null,null,null,0,null,null,0,null,null,{"$f":"Раздел3!#REF!","v":{"$error":"#REF!"}},{"$f":"Раздел3!W42","v":0},{"$f":"SUM(Раздел6!F43:O43)","v":0}]
[null,"Воздухоплавательный спорт","40",null,null,null,0,null,null,null,null,null,null,null,null,null,null,null,null,null,null,null,0,null,null,0]
[null,"Воздушно-силовая атлетика","41",null,null,null,0,null,null,null,null,null,null,null,null,null,null,null,null,null,null,null,0,null,null,0]
[null,"Волейбол - всего","42",{"$f":"IF(SUM(D51:D54)>=1,1,0)","v":0},{"$f":"IF(SUM(E51:E54)>=1,1,0)","v":0},null,0,{"$f":"SUM(H51:H54)","v":0},{"$f":"SUM(I51:I54)","v":0},0,0,0,0,0,0,0,0,0,0,0,0,0,0,0,0,0,0,0]
[null,"в том числе:\nВолейбол (муж.)","43",null,null,null,0,null,null,null,null,null,null,null,null,null,null,null,null,null,null,null,0,null,null,0,null,null,{"$f":"Раздел3!#REF!","v":{"$error":"#REF!"}},{"$f":"Раздел3!W44","v":0},{"$f":"SUM(Раздел6!F45:O45)","v":0}]
[null,"Волейбол (жен.)","44",null,null,null,0,null,null,null,null,null,null,null,null,null,null,null,{"$f":"SUM(H52:L52)","v":0},null,null,null,0,null,null,0,null,null,{"$f":"Раздел3!#REF!","v":{"$error":"#REF!"}},{"$f":"Раздел3!W45","v":0},{"$f":"SUM(Раздел6!F46:O46)","v":0}]
[null,"Пляжный волейбол (муж.)","45",null,null,null,0,null,null,null,null,null,null,null,null,null,null,null,null,null,null,null,0,null,null,0,null,null,{"$f":"Раздел3!#REF!","v":{"$error":"#REF!"}},{"$f":"Раздел3!W46","v":0},{"$f":"SUM(Раздел6!F47:O47)","v":0}]
[null,"Пляжный волейбол (жен.)","46",null,null,null,0,null,null,null,null,null,null,null,null,null,null,null,{"$f":"SUM(H54:L54)","v":0},null,null,null,0,null,null,0,null,null,{"$f":"Раздел3!#REF!","v":{"$error":"#REF!"}},{"$f":"Раздел3!W47","v":0},{"$f":"SUM(Раздел6!F48:O48)","v":0}]
[null,"Восточное боевое единоборство","47",null,null,null,0,null,null,null,null,null,null,null,null,null,null,null,null,null,null,null,0,null,null,0,null,null,{"$f":"Раздел3!#REF!","v":{"$error":"#REF!"}},{"$f":"Раздел3!W48","v":0},{"$f":"SUM(Раздел6!F49:O49)","v":0}]
[null,"Всестилевое каратэ","48",null,null,null,0,null,null,null,null,null,null,null,null,null,null,null,null,null,null,null,0,null,null,0,null,null,{"$f":"Раздел3!#REF!","v":{"$error":"#REF!"}},{"$f":"Раздел3!W49","v":0},{"$f":"SUM(Раздел6!F50:O50)","v":0}]
[null,"Гандбол - всего","49",{"$f":"IF(SUM(D58:D60)>=1,1,0)","v":0},{"$f":"IF(SUM(E58:E60)>=1,1,0)","v":0},null,0,{"$f":"SUM(H58:H60)","v":0},{"$f":"SUM(I58:I60)","v":0},0,0,0,0,0,0,0,0,0,0,0,0,0,0,0,0,0,0,0,{"$f":"Раздел3!#REF!","v":{"$error":"#REF!"}},{"$f":"Раздел3!W50","v":0},{"$f":"SUM(Раздел6!F51:O51)","v":0}]
[null,"в том числе:\nГандбол (муж.)","50",null,null,null,0,null,null,null,null,null,null,null,null,null,null,null,null,null,null,null,0,null,null,0,null,null,{"$f":"Раздел3!#REF!","v":{"$error":"#REF!"}},{"$f":"Раздел3!W51","v":0},{"$f":"SUM(Раздел6!F52:O52)","v":0}]
[null,"Гандбол (жен.)","51",null,null,null,0,null,null,null,null,null,null,null,null,null,null,null,{"$f":"SUM(H59:L59)","v":0},null,null,null,0,null,null,0,null,null,{"$f":"Раздел3!#REF!","v":{"$error":"#REF!"}},{"$f":"Раздел3!W52","v":0},{"$f":"SUM(Раздел6!F53:O53)","v":0}]
[null,"Пляжный гандбол","52",null,null,null,0,null,null,null,null,null,null,null,null,null,null,null,null,null,null,null,0,null,null,0,null,null,{"$f":"Раздел3!#REF!","v":{"$error":"#REF!"}},{"$f":"Раздел3!W53","v":0},{"$f":"SUM(Раздел6!F54:O54)","v":0}]
[null,"Гиревой спорт","53",null,null,null,0,null,null,null,null,null,null,null,null,null,null,null,null,null,null,null,0,null,null,0,null,null,{"$f":"Раздел3!#REF!","v":{"$error":"#REF!"}},{"$f":"Раздел3!W54","v":0},{"$f":"SUM(Раздел6!F55:O55)","v":0}]
[null,"Го","54",null,null,null,0,null,null,null,null,null,null,null,null,null,null,null,null,null,null,null,0,null,null,0]
[null,"Гольф","55",null,null,null,0,null,null,null,null,null,null,null,null,null,null,null,null,null,null,null,0,null,null,0,null,null,{"$f":"Раздел3!#REF!","v":{"$error":"#REF!"}},{"$f":"Раздел3!W55","v":0},{"$f":"SUM(Раздел6!F56:O56)","v":0}]
[null,"Гонки на охотничьих лыжах","56",null,null,null,0,null,null,null,null,null,null,null,null,null,null,null,null,null,null,null,0,null,null,0,null,null,{"$f":"Раздел3!#REF!","v":{"$error":"#REF!"}},{"$f":"Раздел3!W56","v":0},{"$f":"SUM(Раздел6!F57:O57)","v":0}]
[null,"Гонки с препятствиями","57",null,null,null,0,null,null,null,null,null,null,null,null,null,null,null,null,null,null,null,0,null,null,0]
[null,"Горнолыжный спорт","58",null,null,null,0,null,null,null,null,null,null,null,null,null,null,null,null,null,null,null,0,null,null,0,null,null,{"$f":"Раздел3!#REF!","v":{"$error":"#REF!"}},{"$f":"Раздел3!W57","v":0},{"$f":"SUM(Раздел6!F58:O58)","v":0}]
[null,"Городошный спорт","59",null,null,null,0,null,null,null,null,null,null,null,null,null,null,null,null,null,null,null,0,null,null,0,null,null,{"$f":"Раздел3!#REF!","v":{"$error":"#REF!"}},{"$f":"Раздел3!W58","v":0},{"$f":"SUM(Раздел6!F59:O59)","v":0}]
[null,"Гребля на байдарках и каноэ","60",null,null,null,0,null,null,null,null,null,null,null,null,null,null,null,null,null,null,null,0,null,null,0,null,null,{"$f":"Раздел3!#REF!","v":{"$error":"#REF!"}},{"$f":"Раздел3!W59","v":0},{"$f":"SUM(Раздел6!F60:O60)","v":0}]
[null,"Гребля на шлюпках","61",null,null,null,0,null,null,null,null,null,null,null,null,null,null,null,null,null,null,null,0,null,null,0,null,null,{"$f":"Раздел3!#REF!","v":{"$error":"#REF!"}},{"$f":"Раздел3!W60","v":0},{"$f":"SUM(Раздел6!F61:O61)","v":0}]
[null,"Гребной слалом","62",null,null,null,0,null,null,null,null,null,null,null,null,null,null,null,null,null,null,null,0,null,null,0]
[null,"Гребной спорт - всего","63",{"$f":"IF(SUM(D72:D75)>=1,1,0)","v":0},{"$f":"IF(SUM(E72:E75)>=1,1,0)","v":0},null,0,{"$f":"SUM(H72:H75)","v":0},{"$f":"SUM(I72:I75)","v":0},0,0,0,0,0,0,0,0,0,0,0,0,0,0,0,0,0,0,0,{"$f":"Раздел3!#REF!","v":{"$error":"#REF!"}},{"$f":"Раздел3!W61","v":0},{"$f":"SUM(Раздел6!F62:O62)","v":0}]
[null,"в том числе:\nАкадемическая гребля","64",null,null,null,0,null,null,null,null,null,null,null,null,null,null,null,null,null,null,null,0,null,null,0,null,null,{"$f":"Раздел3!#REF!","v":{"$error":"#REF!"}},{"$f":"Раздел3!W62","v":0},{"$f":"SUM(Раздел6!F63:O63)","v":0}]
[null,"Гребля-индор","65",null,null,null,0,null,null,null,null,null,null,null,null,null,null,null,null,null,null,null,0,null,null,0,null,null,{"$f":"Раздел3!#REF!","v":{"$error":"#REF!"}},{"$f":"Раздел3!W63","v":0},{"$f":"SUM(Раздел6!F64:O64)","v":0}]
[null,"Народная гребля","66",null,null,null,{"$f":"SUM(H74:L74,U74,W74)*IF(D74>0,1,0)","v":0},null,null,null,null,null,null,null,null,null,null,null,null,null,null,null,{"$f":"SUM(X74:Y74)","v":0},null,null,{"$f":"SUM(AA74:AB74)","v":0},null,null,{"$f":"Раздел3!#REF!","v":{"$error":"#REF!"}},{"$f":"Раздел3!W64","v":0},{"$f":"SUM(Раздел6!F65:O65)","v":0}]
[null,"Прибрежная гребля","67",null,null,null,0,null,null,null,null,null,null,null,null,null,null,null,null,null,null,null,0,null,null,0,null,null,{"$f":"Раздел3!#REF!","v":{"$error":"#REF!"}},{"$f":"Раздел3!W65","v":0},{"$f":"SUM(Раздел6!F66:O66)","v":0}]
[null,"Гребно-парусное двоеборье","68",null,null,null,0,null,null,null,null,null,null,null,null,null,null,null,null,null,null,null,0,null,null,0,null,null,{"$f":"Раздел3!#REF!","v":{"$error":"#REF!"}},{"$f":"Раздел3!W66","v":0},{"$f":"SUM(Раздел6!F67:O67)","v":0}]
[null,"Дартс","69",null,null,null,0,null,null,null,null,null,null,null,null,null,null,null,null,null,null,null,0,null,null,0,null,null,{"$f":"Раздел3!#REF!","v":{"$error":"#REF!"}},{"$f":"Раздел3!W67","v":0},{"$f":"SUM(Раздел6!F68:O68)","v":0}]
[null,"Джиу-джитсу","70",null,null,null,0,null,null,null,null,null,null,null,null,null,null,null,null,null,null,null,0,null,null,0,null,null,{"$f":"Раздел3!#REF!","v":{"$error":"#REF!"}},{"$f":"Раздел3!W68","v":0},{"$f":"SUM(Раздел6!F69:O69)","v":0}]
[null,"Дзюдо","71",null,null,null,0,null,null,null,null,null,null,null,null,null,null,null,null,null,null,null,0,null,null,0,null,null,{"$f":"Раздел3!#REF!","v":{"$error":"#REF!"}},{"$f":"Раздел3!W69","v":0},{"$f":"SUM(Раздел6!F70:O70)","v":0}]
[null,"Ездовой спорт","72",null,null,null,0,null,null,null,null,null,null,null,null,null,null,null,null,null,null,null,0,null,null,0,null,null,{"$f":"Раздел3!#REF!","v":{"$error":"#REF!"}},{"$f":"Раздел3!W70","v":0},{"$f":"SUM(Раздел6!F71:O71)","v":0}]
[null,"Капоэйра","73",null,null,null,0,null,null,null,null,null,null,null,null,null,null,null,null,null,null,null,0,null,null,0,null,null,{"$f":"Раздел3!#REF!","v":{"$error":"#REF!"}},{"$f":"Раздел3!W71","v":0},{"$f":"SUM(Раздел6!F72:O72)","v":0}]
[null,"Каратэ","74",null,null,null,0,null,null,null,null,null,null,null,null,null,null,null,null,null,null,null,0,null,null,0,null,null,{"$f":"Раздел3!#REF!","v":{"$error":"#REF!"}},{"$f":"Раздел3!W72","v":0},{"$f":"SUM(Раздел6!F73:O73)","v":0}]
[null,"Кендо","75",null,null,null,0,null,null,null,null,null,null,null,null,null,null,null,null,null,null,null,0,null,null,0,null,null,{"$f":"Раздел3!#REF!","v":{"$error":"#REF!"}},{"$f":"Раздел3!W73","v":0},{"$f":"SUM(Раздел6!F74:O74)","v":0}]
[null,"Керешу","76",null,null,null,0,null,null,null,null,null,null,null,null,null,null,null,null,null,null,null,0,null,null,0,null,null,{"$f":"Раздел3!#REF!","v":{"$error":"#REF!"}},{"$f":"Раздел3!W74","v":0},{"$f":"SUM(Раздел6!F75:O75)","v":0}]
[null,"Кёрлинг - всего","77",{"$f":"IF(SUM(D86:D88)>=1,1,0)","v":0},{"$f":"IF(SUM(E86:E88)>=1,1,0)","v":0},null,0,{"$f":"SUM(H86:H88)","v":0},{"$f":"SUM(I86:I88)","v":0},0,0,0,0,0,0,0,0,0,0,0,0,0,0,0,0,0,0,0,{"$f":"Раздел3!#REF!","v":{"$error":"#REF!"}},{"$f":"Раздел3!W75","v":0},{"$f":"SUM(Раздел6!F76:O76)","v":0}]
[null,"в том числе:\nКерлинг (муж.)","78",null,null,null,0,null,null,null,null,null,null,null,null,null,null,null,null,null,null,null,0,null,null,0,null,null,{"$f":"Раздел3!#REF!","v":{"$error":"#REF!"}},{"$f":"Раздел3!W76","v":0},{"$f":"SUM(Раздел6!F77:O77)","v":0}]
[null,"Керлинг (жен.)","79",null,null,null,0,null,null,null,null,null,null,null,null,null,null,null,{"$f":"SUM(H87:L87)","v":0},null,null,null,0,null,null,0,null,null,{"$f":"Раздел3!#REF!","v":{"$error":"#REF!"}},{"$f":"Раздел3!W77","v":0},{"$f":"SUM(Раздел6!F78:O78)","v":0}]
[null,"Кёрлинг – смешанные пары","80",null,null,null,0,null,null,null,null,null,null,null,null,null,null,null,null,null,null,null,0,null,null,0]
[null,"Кикбоксинг","81",null,null,null,0,null,null,null,null,null,null,null,null,null,null,null,null,null,null,null,0,null,null,0,null,null,{"$f":"Раздел3!#REF!","v":{"$error":"#REF!"}},{"$f":"Раздел3!W78","v":0},{"$f":"SUM(Раздел6!F79:O79)","v":0}]
[null,"Кинологический спорт","82",null,null,null,0,null,null,null,null,null,null,null,null,null,null,null,null,null,null,null,0,null,null,0,null,null,{"$f":"Раздел3!#REF!","v":{"$error":"#REF!"}},{"$f":"Раздел3!W79","v":0},{"$f":"SUM(Раздел6!F80:O80)","v":0}]
[null,"Киокусинкай","83",null,null,null,0,null,null,null,null,null,null,null,null,null,null,null,null,null,null,null,0,null,null,0,null,null,{"$f":"Раздел3!#REF!","v":{"$error":"#REF!"}},{"$f":"Раздел3!W80","v":0},{"$f":"SUM(Раздел6!F81:O81)","v":0}]
[null,"Комплексное единоборство","84",null,null,null,0,null,null,null,null,null,null,null,null,null,null,null,null,null,null,null,0,null,null,0,null,null,{"$f":"Раздел3!#REF!","v":{"$error":"#REF!"}},{"$f":"Раздел3!W81","v":0},{"$f":"SUM(Раздел6!F82:O82)","v":0}]
[null,"Компьютерный спорт","85",null,null,null,0,null,null,null,null,null,null,null,null,null,null,null,null,null,null,null,0,null,null,0,null,null,{"$f":"Раздел3!#REF!","v":{"$error":"#REF!"}},{"$f":"Раздел3!W82","v":0},{"$f":"SUM(Раздел6!F83:O83)","v":0}]
[null,"Конный спорт","86",null,null,null,0,null,null,null,null,null,null,null,null,null,null,null,null,null,null,null,0,null,null,0,null,null,{"$f":"Раздел3!#REF!","v":{"$error":"#REF!"}},{"$f":"Раздел3!W83","v":0},{"$f":"SUM(Раздел6!F84:O84)","v":0}]
[null,"Конькобежный спорт - всего","87",{"$f":"IF(SUM(D96:D97)>=1,1,0)","v":0},{"$f":"IF(SUM(E96:E97)>=1,1,0)","v":0},null,0,{"$f":"SUM(H96:H97)","v":0},{"$f":"SUM(I96:I97)","v":0},0,0,0,0,0,0,0,0,0,0,0,0,0,0,0,0,0,0,{"$f":"SUM(AB96:AB97)","v":0},{"$f":"Раздел3!#REF!","v":{"$error":"#REF!"}},{"$f":"Раздел3!W84","v":0},{"$f":"SUM(Раздел6!F85:O85)","v":0}]
[null,"в том числе:\nКонькобежный спорт","88",null,null,null,0,null,null,null,null,null,null,null,null,null,null,null,null,null,null,null,0,null,null,0,null,null,{"$f":"Раздел3!#REF!","v":{"$error":"#REF!"}},{"$f":"Раздел3!W86","v":0},{"$f":"SUM(Раздел6!F87:O87)","v":0}]
[null,"Шорт-трек","89",null,null,null,0,null,null,null,null,null,null,null,null,null,null,null,null,null,null,null,0,null,null,0,null,null,{"$f":"Раздел3!#REF!","v":{"$error":"#REF!"}},{"$f":"Раздел3!W87","v":0},{"$f":"SUM(Раздел6!F88:O88)","v":0}]
[null,"Корэш","90",null,null,null,0,null,null,null,null,null,null,null,null,null,null,null,null,null,null,null,0,null,null,0,null,null,{"$f":"Раздел3!#REF!","v":{"$error":"#REF!"}},{"$f":"Раздел3!W88","v":0},{"$f":"SUM(Раздел6!F89:O89)","v":0}]
[null,"Корфбол","91",null,null,null,0,null,null,null,null,null,null,null,null,null,null,null,null,null,null,null,0,null,null,0,null,null,{"$f":"Раздел3!#REF!","v":{"$error":"#REF!"}},{"$f":"Раздел3!W89","v":0},{"$f":"SUM(Раздел6!F90:O90)","v":0}]
[null,"Крикет","92",null,null,null,0,null,null,null,null,null,null,null,null,null,null,null,null,null,null,null,0,null,null,0]
[null,"Кудо","93",null,null,null,0,null,null,null,null,null,null,null,null,null,null,null,null,null,null,null,0,null,null,0,null,null,{"$f":"Раздел3!#REF!","v":{"$error":"#REF!"}},{"$f":"Раздел3!W90","v":0},{"$f":"SUM(Раздел6!F91:O91)","v":0}]
[null,"Лапта","94",null,null,null,0,null,null,null,null,null,null,null,null,null,null,null,null,null,null,null,0,null,null,0,null,null,{"$f":"Раздел3!#REF!","v":{"$error":"#REF!"}},{"$f":"Раздел3!W91","v":0},{"$f":"SUM(Раздел6!F92:O92)","v":0}]
[null,"Легкая атлетика - всего","95",{"$f":"IF(SUM(D104:D110)>=1,1,0)","v":1},{"$f":"IF(SUM(E104:E110)>=1,1,0)","v":1},null,263,{"$f":"SUM(H104:H110)","v":0},{"$f":"SUM(I104:I110)","v":166},97,0,0,0,239,24,0,0,263,135,0,0,0,0,0,0,0,0,0,{"$f":"Раздел3!#REF!","v":{"$error":"#REF!"}},{"$f":"Раздел3!W92","v":0},{"$f":"SUM(Раздел6!F93:O93)","v":0}]
[null,"в том числе:\nСпринтерский и барьерный бег","96",null,null,null,0,null,null,null,null,null,null,null,null,null,null,null,null,null,null,null,0,null,null,0,null,null,{"$f":"Раздел3!#REF!","v":{"$error":"#REF!"}},{"$f":"Раздел3!W93","v":0},{"$f":"SUM(Раздел6!F94:O94)","v":0}]
[null,"Бег на средние дистанции и бег с препятствиями","97",null,null,null,0,null,null,null,null,null,null,null,null,null,null,null,null,null,null,null,0,null,null,0,null,null,{"$f":"Раздел3!#REF!","v":{"$error":"#REF!"}},{"$f":"Раздел3!W94","v":0},{"$f":"SUM(Раздел6!F95:O95)","v":0}]
[null,"Бег на длинные и сверхдлинные дистанции","98",null,null,null,0,null,null,null,null,null,null,null,null,null,null,null,null,null,null,null,0,null,null,0,null,null,{"$f":"Раздел3!#REF!","v":{"$error":"#REF!"}},{"$f":"Раздел3!W95","v":0},{"$f":"SUM(Раздел6!F96:O96)","v":0}]
[null,"Многоборья","99",1,1,null,263,null,166,97,null,null,null,239,24,null,null,263,135,null,null,null,0,null,null,0,null,null,{"$f":"Раздел3!#REF!","v":{"$error":"#REF!"}},{"$f":"Раздел3!W96","v":0},{"$f":"SUM(Раздел6!F97:O97)","v":0}]
[null,"Прыжки","100",null,null,null,0,null,null,null,null,null,null,null,null,null,null,null,null,null,null,null,0,null,null,0,null,null,{"$f":"Раздел3!#REF!","v":{"$error":"#REF!"}},{"$f":"Раздел3!W97","v":0},{"$f":"SUM(Раздел6!F98:O98)","v":0}]
[null,"Метания","101",null,null,null,0,null,null,null,null,null,null,null,null,null,null,null,null,null,null,null,0,null,null,0,null,null,{"$f":"Раздел3!#REF!","v":{"$error":"#REF!"}},{"$f":"Раздел3!W98","v":0},{"$f":"SUM(Раздел6!F99:O99)","v":0}]
[null,"Спортивная ходьба","102",null,null,null,0,null,null,null,null,null,null,null,null,null,null,null,null,null,null,null,0,null,null,0,null,null,{"$f":"Раздел3!#REF!","v":{"$error":"#REF!"}},{"$f":"Раздел3!W99","v":0},{"$f":"SUM(Раздел6!F100:O100)","v":0}]
[null,"Лыжное двоеборье","103",null,null,null,0,null,null,null,null,null,null,null,null,null,null,null,null,null,null,null,0,null,null,0,null,null,{"$f":"Раздел3!#REF!","v":{"$error":"#REF!"}},{"$f":"Раздел3!W100","v":0},{"$f":"SUM(Раздел6!F101:O101)","v":0}]
[null,"Лыжные гонки","104",null,null,null,0,null,null,null,null,null,null,null,null,null,null,null,null,null,null,null,0,null,null,0,null,null,{"$f":"Раздел3!#REF!","v":{"$error":"#REF!"}},{"$f":"Раздел3!W101","v":0},{"$f":"SUM(Раздел6!F102:O102)","v":0}]
[null,"Мас-рестлинг","105",null,null,null,0,null,null,null,null,null,null,null,null,null,null,null,null,null,null,null,0,null,null,0,null,null,{"$f":"Раздел3!#REF!","v":{"$error":"#REF!"}},{"$f":"Раздел3!W102","v":0},{"$f":"SUM(Раздел6!F103:O103)","v":0}]
[null,"Международное военно-спортивное многоборье","106",null,null,null,0,null,null,null,null,null,null,null,null,null,null,null,null,null,null,null,0,null,null,0,null,null,{"$f":"Раздел3!#REF!","v":{"$error":"#REF!"}},{"$f":"Раздел3!W103","v":0},{"$f":"SUM(Раздел6!F104:O104)","v":0}]
[null,"Многоборье кинологов","107",null,null,null,0,null,null,null,null,null,null,null,null,null,null,null,null,null,null,null,0,null,null,0,null,null,{"$f":"Раздел3!#REF!","v":{"$error":"#REF!"}},{"$f":"Раздел3!W104","v":0},{"$f":"SUM(Раздел6!F105:O105)","v":0}]
[null,"Многоборье спасателей МЧС России","108",null,null,null,0,null,null,null,null,null,null,null,null,null,null,null,null,null,null,null,0,null,null,0,null,null,{"$f":"Раздел3!#REF!","v":{"$error":"#REF!"}},{"$f":"Раздел3!W105","v":0},{"$f":"SUM(Раздел6!F106:O106)","v":0}]
[null,"Морское многоборье","109",null,null,null,0,null,null,null,null,null,null,null,null,null,null,null,null,null,null,null,0,null,null,0,null,null,{"$f":"Раздел3!#REF!","v":{"$error":"#REF!"}},{"$f":"Раздел3!W106","v":0},{"$f":"SUM(Раздел6!F107:O107)","v":0}]
[null,"Мотоциклетный спорт","110",null,null,null,0,null,null,null,null,null,null,null,null,null,null,null,null,null,null,null,0,null,null,0,null,null,{"$f":"Раздел3!#REF!","v":{"$error":"#REF!"}},{"$f":"Раздел3!W107","v":0},{"$f":"SUM(Раздел6!F108:O108)","v":0}]
[null,"Настольный теннис","111",null,null,null,0,null,null,null,null,null,null,null,null,null,null,null,null,null,null,null,0,null,null,0,null,null,{"$f":"Раздел3!#REF!","v":{"$error":"#REF!"}},{"$f":"Раздел3!W108","v":0},{"$f":"SUM(Раздел6!F109:O109)","v":0}]
[null,"Падел","112",null,null,null,0,null,null,null,null,null,null,null,null,null,null,null,null,null,null,null,0,null,null,0]
[null,"Парашютный спорт","113",null,null,null,0,null,null,null,null,null,null,null,null,null,null,null,null,null,null,null,0,null,null,0,null,null,{"$f":"Раздел3!#REF!","v":{"$error":"#REF!"}},{"$f":"Раздел3!W109","v":0},{"$f":"SUM(Раздел6!F110:O110)","v":0}]
[null,"Парусный спорт","114",null,null,null,0,null,null,null,null,null,null,null,null,null,null,null,null,null,null,null,0,null,null,0,null,null,{"$f":"Раздел3!#REF!","v":{"$error":"#REF!"}},{"$f":"Раздел3!W110","v":0},{"$f":"SUM(Раздел6!F111:O111)","v":0}]
[null,"Пауэрлифтинг","115",null,null,null,0,null,null,null,null,null,null,null,null,null,null,null,null,null,null,null,0,null,null,0,null,null,{"$f":"Раздел3!#REF!","v":{"$error":"#REF!"}},{"$f":"Раздел3!W111","v":0},{"$f":"SUM(Раздел6!F112:O112)","v":0}]
[null,"Перетягивание каната","116",null,null,null,0,null,null,null,null,null,null,null,null,null,null,null,null,null,null,null,0,null,null,0,null,null,{"$f":"Раздел3!#REF!","v":{"$error":"#REF!"}},{"$f":"Раздел3!W112","v":0},{"$f":"SUM(Раздел6!F113:O113)","v":0}]
[null,"Плавание - всего","117",{"$f":"IF(SUM(D126:D127)>=1,1,0)","v":1},{"$f":"IF(SUM(E126:E127)>=1,1,0)","v":0},null,86,{"$f":"SUM(H126:H127)","v":0},{"$f":"SUM(I126:I127)","v":49},37,0,0,0,83,3,0,0,86,29,0,0,0,0,0,0,0,0,0,{"$f":"Раздел3!#REF!","v":{"$error":"#REF!"}},{"$f":"Раздел3!W114","v":0},{"$f":"SUM(Раздел6!F115:O115)","v":0}]
[null,"в том числе:\nПлавание ","118",1,null,null,86,null,49,37,null,null,null,83,3,null,null,86,29,null,null,null,0,null,null,0,null,null,{"$f":"Раздел3!#REF!","v":{"$error":"#REF!"}},{"$f":"Раздел3!W115","v":0},{"$f":"SUM(Раздел6!F116:O116)","v":0}]
[null,"Открытая вода","119",null,null,null,0,null,null,null,null,null,null,null,null,null,null,null,null,null,null,null,0,null,null,0,null,null,{"$f":"Раздел3!#REF!","v":{"$error":"#REF!"}},{"$f":"Раздел3!W116","v":0},{"$f":"SUM(Раздел6!F117:O117)","v":0}]
[null,"Планерный спорт","120",null,null,null,0,null,null,null,null,null,null,null,null,null,null,null,null,null,null,null,0,null,null,0,null,null,{"$f":"Раздел3!#REF!","v":{"$error":"#REF!"}},{"$f":"Раздел3!W117","v":0},{"$f":"SUM(Раздел6!F118:O118)","v":0}]
[null,"Подводный спорт","121",null,null,null,0,null,null,null,null,null,null,null,null,null,null,null,null,null,null,null,0,null,null,0,null,null,{"$f":"Раздел3!#REF!","v":{"$error":"#REF!"}},{"$f":"Раздел3!W118","v":0},{"$f":"SUM(Раздел6!F119:O119)","v":0}]
[null,"Пожарно-спасательный спорт","122",null,null,null,0,null,null,null,null,null,null,null,null,null,null,null,null,null,null,null,0,null,null,0,null,null,{"$f":"Раздел3!#REF!","v":{"$error":"#REF!"}},{"$f":"Раздел3!W119","v":0},{"$f":"SUM(Раздел6!F120:O120)","v":0}]
[null,"Полиатлон","123",null,null,null,0,null,null,null,null,null,null,null,null,null,null,null,null,null,null,null,0,null,null,0,null,null,{"$f":"Раздел3!#REF!","v":{"$error":"#REF!"}},{"$f":"Раздел3!W120","v":0},{"$f":"SUM(Раздел6!F121:O121)","v":0}]
[null,"Практическая стрельба","124",null,null,null,0,null,null,null,null,null,null,null,null,null,null,null,null,null,null,null,0,null,null,0,null,null,{"$f":"Раздел3!#REF!","v":{"$error":"#REF!"}},{"$f":"Раздел3!W121","v":0},{"$f":"SUM(Раздел6!F122:O122)","v":0}]
[null,"Прыжки в воду - всего","125",{"$f":"IF(SUM(D134:D135)>=1,1,0)","v":0},{"$f":"IF(SUM(E134:E135)>=1,1,0)","v":0},null,0,{"$f":"SUM(H134:H135)","v":0},{"$f":"SUM(I134:I135)","v":0},0,0,0,0,0,0,0,0,0,0,0,0,0,0,0,0,0,0,0,{"$f":"Раздел3!#REF!","v":{"$error":"#REF!"}},{"$f":"Раздел3!W122","v":0},{"$f":"SUM(Раздел6!F123:O123)","v":0}]
[null,"в том числе:\nПрыжки в воду","126",null,null,null,0,null,null,null,null,null,null,null,null,null,null,null,null,null,null,null,0,null,null,0,null,null,{"$f":"Раздел3!#REF!","v":{"$error":"#REF!"}},{"$f":"Раздел3!W123","v":0},{"$f":"SUM(Раздел6!F124:O124)","v":0}]
[null,"Прыжки в открытый водоем","127",null,null,null,0,null,null,null,null,null,null,null,null,null,null,null,null,null,null,null,0,null,null,0,null,null,{"$f":"Раздел3!#REF!","v":{"$error":"#REF!"}},{"$f":"Раздел3!W124","v":0},{"$f":"SUM(Раздел6!F125:O125)","v":0}]
[null,"Прыжки на батуте - всего","128",{"$f":"IF(SUM(D137:D140)>=1,1,0)","v":0},{"$f":"IF(SUM(E137:E140)>=1,1,0)","v":0},null,0,{"$f":"SUM(H137:H140)","v":0},{"$f":"SUM(I137:I140)","v":0},0,0,0,0,0,0,0,0,0,0,0,0,0,0,0,0,0,0,0,{"$f":"Раздел3!#REF!","v":{"$error":"#REF!"}},{"$f":"Раздел3!W125","v":0},{"$f":"SUM(Раздел6!F126:O126)","v":0}]
[null,"в том числе:\nАкробатическая дорожка","129",null,null,null,0,null,null,null,null,null,null,null,null,null,null,null,null,null,null,null,0,null,null,0,null,null,{"$f":"Раздел3!#REF!","v":{"$error":"#REF!"}},{"$f":"Раздел3!W126","v":0},{"$f":"SUM(Раздел6!F127:O127)","v":0}]
[null,"Двойной минитрамп","130",null,null,null,{"$f":"SUM(H138:L138,U138,W138)*IF(D138>0,1,0)","v":0},null,null,null,null,null,null,null,null,null,null,null,null,null,null,null,{"$f":"SUM(X138:Y138)","v":0},null,null,{"$f":"SUM(AA138:AB138)","v":0},null,null,{"$f":"Раздел3!#REF!","v":{"$error":"#REF!"}},{"$f":"Раздел3!W127","v":0},{"$f":"SUM(Раздел6!F128:O128)","v":0}]
[null,"Индивидуальные прыжки","131",null,null,null,0,null,null,null,null,null,null,null,null,null,null,null,null,null,null,null,0,null,null,0,null,null,{"$f":"Раздел3!#REF!","v":{"$error":"#REF!"}},{"$f":"Раздел3!W128","v":0},{"$f":"SUM(Раздел6!F129:O129)","v":0}]
[null,"Синхронные прыжки","132",null,null,null,0,null,null,null,null,null,null,null,null,null,null,null,null,null,null,null,0,null,null,0,null,null,{"$f":"Раздел3!#REF!","v":{"$error":"#REF!"}},{"$f":"Раздел3!W129","v":0},{"$f":"SUM(Раздел6!F130:O130)","v":0}]
[null,"Прыжки на лыжах с трамплина","133",null,null,null,0,null,null,null,null,null,null,null,null,null,null,null,null,null,null,null,0,null,null,0,null,null,{"$f":"Раздел3!#REF!","v":{"$error":"#REF!"}},{"$f":"Раздел3!W130","v":0},{"$f":"SUM(Раздел6!F131:O131)","v":0}]
[null,"Пулевая стрельба - всего","134",{"$f":"IF(SUM(D143:D147)>=1,1,0)","v":0},{"$f":"IF(SUM(E143:E147)>=1,1,0)","v":0},null,0,{"$f":"SUM(H143:H147)","v":0},{"$f":"SUM(I143:I147)","v":0},0,0,0,0,0,0,0,0,0,0,0,0,0,0,0,0,0,0,0,{"$f":"Раздел3!#REF!","v":{"$error":"#REF!"}},{"$f":"Раздел3!W131","v":0},{"$f":"SUM(Раздел6!F132:O132)","v":0}]
[null,"в том числе:\nПневматическая винтовка","135",null,null,null,0,null,null,null,null,null,null,null,null,null,null,null,null,null,null,null,0,null,null,0,null,null,{"$f":"Раздел3!#REF!","v":{"$error":"#REF!"}},{"$f":"Раздел3!W132","v":0},{"$f":"SUM(Раздел6!F133:O133)","v":0}]
[null,"Пневматический пистолет","136",null,null,null,0,null,null,null,null,null,null,null,null,null,null,null,null,null,null,null,0,null,null,0,null,null,{"$f":"Раздел3!#REF!","v":{"$error":"#REF!"}},{"$f":"Раздел3!W133","v":0},{"$f":"SUM(Раздел6!F134:O134)","v":0}]
[null,"Малокалиберная винтовка","137",null,null,null,0,null,null,null,null,null,null,null,null,null,null,null,null,null,null,null,0,null,null,0,null,null,{"$f":"Раздел3!#REF!","v":{"$error":"#REF!"}},{"$f":"Раздел3!W134","v":0},{"$f":"SUM(Раздел6!F135:O135)","v":0}]
[null,"Малокалиберный пистолет","138",null,null,null,0,null,null,null,null,null,null,null,null,null,null,null,null,null,null,null,0,null,null,0,null,null,{"$f":"Раздел3!#REF!","v":{"$error":"#REF!"}},{"$f":"Раздел3!W135","v":0},{"$f":"SUM(Раздел6!F136:O136)","v":0}]
[null,"Движущаяся мишень","139",null,null,null,0,null,null,null,null,null,null,null,null,null,null,null,null,null,null,null,0,null,null,0,null,null,{"$f":"Раздел3!#REF!","v":{"$error":"#REF!"}},{"$f":"Раздел3!W136","v":0},{"$f":"SUM(Раздел6!F137:O137)","v":0}]
[null,"Пэйнтбол","140",null,null,null,0,null,null,null,null,null,null,null,null,null,null,null,null,null,null,null,0,null,null,0,null,null,{"$f":"Раздел3!#REF!","v":{"$error":"#REF!"}},{"$f":"Раздел3!W137","v":0},{"$f":"SUM(Раздел6!F138:O138)","v":0}]
[null,"Радиоспорт","141",null,null,null,0,null,null,null,null,null,null,null,null,null,null,null,null,null,null,null,0,null,null,0,null,null,{"$f":"Раздел3!#REF!","v":{"$error":"#REF!"}},{"$f":"Раздел3!W138","v":0},{"$f":"SUM(Раздел6!F139:O139)","v":0}]
[null,"Рафтинг","142",null,null,null,0,null,null,null,null,null,null,null,null,null,null,null,null,null,null,null,0,null,null,0,null,null,{"$f":"Раздел3!#REF!","v":{"$error":"#REF!"}},{"$f":"Раздел3!W139","v":0},{"$f":"SUM(Раздел6!F140:O140)","v":0}]
[null,"Регби - всего","143",{"$f":"IF(SUM(D152:D155)>=1,1,0)","v":0},{"$f":"IF(SUM(E152:E155)>=1,1,0)","v":0},null,0,{"$f":"SUM(H152:H155)","v":0},{"$f":"SUM(I152:I155)","v":0},0,0,0,0,0,0,0,0,0,0,0,0,0,0,0,0,0,0,0,{"$f":"Раздел3!#REF!","v":{"$error":"#REF!"}},{"$f":"Раздел3!W140","v":0},{"$f":"SUM(Раздел6!F141:O141)","v":0}]
[null,"в том числе:\nРегби","144",null,null,null,0,null,null,null,null,null,null,null,null,null,null,null,null,null,null,null,0,null,null,0,null,null,{"$f":"Раздел3!#REF!","v":{"$error":"#REF!"}},{"$f":"Раздел3!W141","v":0},{"$f":"SUM(Раздел6!F142:O142)","v":0}]
[null,"Регби 7 (муж.)","145",null,null,null,0,null,null,null,null,null,null,null,null,null,null,null,null,null,null,null,0,null,null,0,null,null,{"$f":"Раздел3!#REF!","v":{"$error":"#REF!"}},{"$f":"Раздел3!W142","v":0},{"$f":"SUM(Раздел6!F143:O143)","v":0}]
[null,"Регби 7 (жен.)","146",null,null,null,0,null,null,null,null,null,null,null,null,null,null,null,{"$f":"SUM(H154:L154)","v":0},null,null,null,0,null,null,0,null,null,{"$f":"Раздел3!#REF!","v":{"$error":"#REF!"}},{"$f":"Раздел3!W143","v":0},{"$f":"SUM(Раздел6!F144:O144)","v":0}]
[null,"Регби - пляжное","147",null,null,null,0,null,null,null,null,null,null,null,null,null,null,null,null,null,null,null,0,null,null,0,null,null,{"$f":"Раздел3!#REF!","v":{"$error":"#REF!"}},{"$f":"Раздел3!W144","v":0},{"$f":"SUM(Раздел6!F145:O145)","v":0}]
[null,"Регбол","148",null,null,null,0,null,null,null,null,null,null,null,null,null,null,null,null,null,null,null,0,null,null,0,null,null,{"$f":"Раздел3!#REF!","v":{"$error":"#REF!"}},{"$f":"Раздел3!W145","v":0},{"$f":"SUM(Раздел6!F146:O146)","v":0}]
[null,"Роллер спорт","149",null,null,null,0,null,null,null,null,null,null,null,null,null,null,null,null,null,null,null,0,null,null,0,null,null,{"$f":"Раздел3!#REF!","v":{"$error":"#REF!"}},{"$f":"Раздел3!W146","v":0},{"$f":"SUM(Раздел6!F147:O147)","v":0}]
[null,"Роуп скиппинг (спортивная скакалка)","150",null,null,null,0,null,null,null,null,null,null,null,null,null,null,null,null,null,null,null,0,null,null,0]
[null,"Рукопашный бой","151",null,null,null,0,null,null,null,null,null,null,null,null,null,null,null,null,null,null,null,0,null,null,0,null,null,{"$f":"Раздел3!#REF!","v":{"$error":"#REF!"}},{"$f":"Раздел3!W147","v":0},{"$f":"SUM(Раздел6!F148:O148)","v":0}]
[null,"Рыболовный спорт","152",null,null,null,0,null,null,null,null,null,null,null,null,null,null,null,null,null,null,null,0,null,null,0,null,null,{"$f":"Раздел3!#REF!","v":{"$error":"#REF!"}},{"$f":"Раздел3!W148","v":0},{"$f":"SUM(Раздел6!F149:O149)","v":0}]
[null,"Сават","153",null,null,null,0,null,null,null,null,null,null,null,null,null,null,null,null,null,null,null,0,null,null,0,null,null,{"$f":"Раздел3!#REF!","v":{"$error":"#REF!"}},{"$f":"Раздел3!W149","v":0},{"$f":"SUM(Раздел6!F150:O150)","v":0}]
[null,"Самбо","154",null,null,null,0,null,null,null,null,null,null,null,null,null,null,null,null,null,null,null,0,null,null,0,null,null,{"$f":"Раздел3!#REF!","v":{"$error":"#REF!"}},{"$f":"Раздел3!W150","v":0},{"$f":"SUM(Раздел6!F151:O151)","v":0}]
[null,"Самолетный спорт","155",null,null,null,0,null,null,null,null,null,null,null,null,null,null,null,null,null,null,null,0,null,null,0,null,null,{"$f":"Раздел3!#REF!","v":{"$error":"#REF!"}},{"$f":"Раздел3!W151","v":0},{"$f":"SUM(Раздел6!F152:O152)","v":0}]
[null,"Санный спорт","156",null,null,null,0,null,null,null,null,null,null,null,null,null,null,null,null,null,null,null,0,null,null,0,null,null,{"$f":"Раздел3!#REF!","v":{"$error":"#REF!"}},{"$f":"Раздел3!W152","v":0},{"$f":"SUM(Раздел6!F153:O153)","v":0}]
[null,"Северное многоборье","157",null,null,null,0,null,null,null,null,null,null,null,null,null,null,null,null,null,null,null,0,null,null,0,null,null,{"$f":"Раздел3!#REF!","v":{"$error":"#REF!"}},{"$f":"Раздел3!W153","v":0},{"$f":"SUM(Раздел6!F154:O154)","v":0}]
[null,"Серфинг","158",null,null,null,0,null,null,null,null,null,null,null,null,null,null,null,null,null,null,null,0,null,null,0,null,null,{"$f":"Раздел3!#REF!","v":{"$error":"#REF!"}},{"$f":"Раздел3!W154","v":0},{"$f":"SUM(Раздел6!F155:O155)","v":0}]
[null,"Синхронное плавание","159",null,null,null,0,null,null,null,null,null,null,null,null,null,null,null,null,null,null,null,0,null,null,0,null,null,{"$f":"Раздел3!#REF!","v":{"$error":"#REF!"}},{"$f":"Раздел3!W155","v":0},{"$f":"SUM(Раздел6!F156:O156)","v":0}]
[null,"Скалолазание","160",null,null,null,0,null,null,null,null,null,null,null,null,null,null,null,null,null,null,null,0,null,null,0,null,null,{"$f":"Раздел3!#REF!","v":{"$error":"#REF!"}},{"$f":"Раздел3!W156","v":0},{"$f":"SUM(Раздел6!F157:O157)","v":0}]
[null,"Сквош","161",null,null,null,0,null,null,null,null,null,null,null,null,null,null,null,null,null,null,null,0,null,null,0,null,null,{"$f":"Раздел3!#REF!","v":{"$error":"#REF!"}},{"$f":"Раздел3!W157","v":0},{"$f":"SUM(Раздел6!F158:O158)","v":0}]
[null,"Скейтбординг","162",null,null,null,0,null,null,null,null,null,null,null,null,null,null,null,null,null,null,null,0,null,null,0,null,null,{"$f":"Раздел3!#REF!","v":{"$error":"#REF!"}},{"$f":"Раздел3!W158","v":0},{"$f":"SUM(Раздел6!F159:O159)","v":0}]
[null,"Служебно-боевая стрельба ","163",null,null,null,0,null,null,null,null,null,null,null,null,null,null,null,null,null,null,null,0,null,null,0]
[null,"Служебно-прикладной спорт","164",null,null,null,0,null,null,null,null,null,null,null,null,null,null,null,null,null,null,null,0,null,null,0,null,null,{"$f":"Раздел3!#REF!","v":{"$error":"#REF!"}},{"$f":"Раздел3!W159","v":0},{"$f":"SUM(Раздел6!F160:O160)","v":0}]
[null,"Служебно-прикладной спорт ФСО России","165",null,null,null,0,null,null,null,null,null,null,null,null,null,null,null,null,null,null,null,0,null,null,0,null,null,{"$f":"Раздел3!#REF!","v":{"$error":"#REF!"}},{"$f":"Раздел3!W160","v":0},{"$f":"SUM(Раздел6!F161:O161)","v":0}]
[null,"Служебно-прикладной спорт ФТС России","166",null,null,null,0,null,null,null,null,null,null,null,null,null,null,null,null,null,null,null,0,null,null,0,null,null,{"$f":"Раздел3!#REF!","v":{"$error":"#REF!"}},{"$f":"Раздел3!W161","v":0},{"$f":"SUM(Раздел6!F162:O162)","v":0}]
[null,"Служебное двоеборье","167",null,null,null,0,null,null,null,null,null,null,null,null,null,null,null,null,null,null,null,0,null,null,0,null,null,{"$f":"Раздел3!#REF!","v":{"$error":"#REF!"}},{"$f":"Раздел3!W162","v":0},{"$f":"SUM(Раздел6!F163:O163)","v":0}]
[null,"Служебное единоборство","168",null,null,null,0,null,null,null,null,null,null,null,null,null,null,null,null,null,null,null,0,null,null,0,null,null,{"$f":"Раздел3!#REF!","v":{"$error":"#REF!"}},{"$f":"Раздел3!W163","v":0},{"$f":"SUM(Раздел6!F164:O164)","v":0}]
[null,"Служебное многоборье","169",null,null,null,0,null,null,null,null,null,null,null,null,null,null,null,null,null,null,null,0,null,null,0,null,null,{"$f":"Раздел3!#REF!","v":{"$error":"#REF!"}},{"$f":"Раздел3!W164","v":0},{"$f":"SUM(Раздел6!F165:O165)","v":0}]
[null,"Служебный биатлон","170",null,null,null,0,null,null,null,null,null,null,null,null,null,null,null,null,null,null,null,0,null,null,0,null,null,{"$f":"Раздел3!#REF!","v":{"$error":"#REF!"}},{"$f":"Раздел3!W165","v":0},{"$f":"SUM(Раздел6!F166:O166)","v":0}]
[null,"Спасательный спорт","171",null,null,null,0,null,null,null,null,null,null,null,null,null,null,null,null,null,null,null,0,null,null,0,null,null,{"$f":"Раздел3!#REF!","v":{"$error":"#REF!"}},{"$f":"Раздел3!W167","v":0},{"$f":"SUM(Раздел6!F168:O168)","v":0}]
[null,"Стрельба из боевого ручного стрелкового оружия","172",null,null,null,0,null,null,null,null,null,null,null,null,null,null,null,null,null,null,null,0,null,null,0,null,null,{"$f":"Раздел3!#REF!","v":{"$error":"#REF!"}},{"$f":"Раздел3!W168","v":0},{"$f":"SUM(Раздел6!F169:O169)","v":0}]
[null,"Стрельба из штатного или табельного оружия","173",null,null,null,0,null,null,null,null,null,null,null,null,null,null,null,null,null,null,null,0,null,null,0,null,null,{"$f":"Раздел3!#REF!","v":{"$error":"#REF!"}},{"$f":"Раздел3!W169","v":0},{"$f":"SUM(Раздел6!F170:O170)","v":0}]
[null,"Смешанное боевое единоборство (ММА)","174",null,null,null,0,null,null,null,null,null,null,null,null,null,null,null,null,null,null,null,0,null,null,0,null,null,{"$f":"Раздел3!#REF!","v":{"$error":"#REF!"}},{"$f":"Раздел3!W170","v":0},{"$f":"SUM(Раздел6!F171:O171)","v":0}]
[null,"Сноуборд","175",null,null,null,0,null,null,null,null,null,null,null,null,null,null,null,null,null,null,null,0,null,null,0,null,null,{"$f":"Раздел3!#REF!","v":{"$error":"#REF!"}},{"$f":"Раздел3!W171","v":0},{"$f":"SUM(Раздел6!F172:O172)","v":0}]
[null,"Современное пятиборье","176",null,null,null,0,null,null,null,null,null,null,null,null,null,null,null,null,null,null,null,0,null,null,0,null,null,{"$f":"Раздел3!#REF!","v":{"$error":"#REF!"}},{"$f":"Раздел3!W172","v":0},{"$f":"SUM(Раздел6!F173:O173)","v":0}]
[null,"Софтбол","177",null,null,null,0,null,null,null,null,null,null,null,null,null,null,null,null,null,null,null,0,null,null,0,null,null,{"$f":"Раздел3!#REF!","v":{"$error":"#REF!"}},{"$f":"Раздел3!W173","v":0},{"$f":"SUM(Раздел6!F174:O174)","v":0}]
[null,"Спорт сверхлегкой авиации","178",null,null,null,0,null,null,null,null,null,null,null,null,null,null,null,null,null,null,null,0,null,null,0,null,null,{"$f":"Раздел3!#REF!","v":{"$error":"#REF!"}},{"$f":"Раздел3!W174","v":0},{"$f":"SUM(Раздел6!F175:O175)","v":0}]
[null,"Спортивная акробатика","179",null,null,null,0,null,null,null,null,null,null,null,null,null,null,null,null,null,null,null,0,null,null,0,null,null,{"$f":"Раздел3!#REF!","v":{"$error":"#REF!"}},{"$f":"Раздел3!W175","v":0},{"$f":"SUM(Раздел6!F176:O176)","v":0}]
[null,"Спортивная аэробика","180",null,null,null,0,null,null,null,null,null,null,null,null,null,null,null,null,null,null,null,0,null,null,0,null,null,{"$f":"Раздел3!#REF!","v":{"$error":"#REF!"}},{"$f":"Раздел3!W176","v":0},{"$f":"SUM(Раздел6!F177:O177)","v":0}]
[null,"Спортивная борьба - всего","181",{"$f":"IF(SUM(D190:D194)>=1,1,0)","v":1},{"$f":"IF(SUM(E190:E194)>=1,1,0)","v":0},null,109,{"$f":"SUM(H190:H194)","v":0},{"$f":"SUM(I190:I194)","v":60},49,0,0,0,85,24,0,0,109,0,0,0,0,0,0,0,0,0,0,{"$f":"Раздел3!#REF!","v":{"$error":"#REF!"}},{"$f":"Раздел3!W177","v":0},{"$f":"SUM(Раздел6!F178:O178)","v":0}]
[null,"в том числе:\nВольная борьба","182",null,null,null,0,null,null,null,null,null,null,null,null,null,null,null,null,null,null,null,0,null,null,0,null,null,{"$f":"Раздел3!#REF!","v":{"$error":"#REF!"}},{"$f":"Раздел3!W178","v":0},{"$f":"SUM(Раздел6!F179:O179)","v":0}]
[null,"Греко-римская борьба","183",1,null,null,109,null,60,49,null,null,null,85,24,null,null,109,null,null,null,null,0,null,null,0,null,null,{"$f":"Раздел3!#REF!","v":{"$error":"#REF!"}},{"$f":"Раздел3!W179","v":0},{"$f":"SUM(Раздел6!F180:O180)","v":0}]
[null,"Грэпплинг","184",null,null,null,0,null,null,null,null,null,null,null,null,null,null,null,null,null,null,null,0,null,null,0,null,null,{"$f":"Раздел3!#REF!","v":{"$error":"#REF!"}},{"$f":"Раздел3!W180","v":0},{"$f":"SUM(Раздел6!F181:O181)","v":0}]
[null,"Грэпплинг-ги","185",null,null,null,0,null,null,null,null,null,null,null,null,null,null,null,null,null,null,null,0,null,null,0,null,null,{"$f":"Раздел3!#REF!","v":{"$error":"#REF!"}},{"$f":"Раздел3!W181","v":0},{"$f":"SUM(Раздел6!F182:O182)","v":0}]
[null,"Панкратион","186",null,null,null,0,null,null,null,null,null,null,null,null,null,null,null,null,null,null,null,0,null,null,0,null,null,{"$f":"Раздел3!#REF!","v":{"$error":"#REF!"}},{"$f":"Раздел3!W182","v":0},{"$f":"SUM(Раздел6!F183:O183)","v":0}]
[null,"Спортивная гимнастика","187",null,null,null,0,null,null,null,null,null,null,null,null,null,null,null,null,null,null,null,0,null,null,0,null,null,{"$f":"Раздел3!#REF!","v":{"$error":"#REF!"}},{"$f":"Раздел3!W183","v":0},{"$f":"SUM(Раздел6!F184:O184)","v":0}]
[null,"Спортивная йога","188",null,null,null,0,null,null,null,null,null,null,null,null,null,null,null,null,null,null,null,0,null,null,0,null,null,{"$f":"Раздел3!#REF!","v":{"$error":"#REF!"}},{"$f":"Раздел3!W184","v":0},{"$f":"SUM(Раздел6!F185:O185)","v":0}]
[null,"Спортивно-прикладное собаководство","189",null,null,null,0,null,null,null,null,null,null,null,null,null,null,null,null,null,null,null,0,null,null,0,null,null,{"$f":"Раздел3!#REF!","v":{"$error":"#REF!"}},{"$f":"Раздел3!W185","v":0},{"$f":"SUM(Раздел6!F186:O186)","v":0}]
[null,"Спортивное метание ножа","190",null,null,null,0,null,null,null,null,null,null,null,null,null,null,null,null,null,null,null,0,null,null,0]
[null,"Спортивное ориентирование","191",null,null,null,0,null,null,null,null,null,null,null,null,null,null,null,null,null,null,null,0,null,null,0,null,null,{"$f":"Раздел3!#REF!","v":{"$error":"#REF!"}},{"$f":"Раздел3!W186","v":0},{"$f":"SUM(Раздел6!F187:O187)","v":0}]
[null,"Спортивный бридж","192",null,null,null,0,null,null,null,null,null,null,null,null,null,null,null,null,null,null,null,0,null,null,0,null,null,{"$f":"Раздел3!#REF!","v":{"$error":"#REF!"}},{"$f":"Раздел3!W187","v":0},{"$f":"SUM(Раздел6!F188:O188)","v":0}]
[null,"Спортивный туризм","193",null,null,null,0,null,null,null,null,null,null,null,null,null,null,null,null,null,null,null,0,null,null,0,null,null,{"$f":"Раздел3!#REF!","v":{"$error":"#REF!"}},{"$f":"Раздел3!W188","v":0},{"$f":"SUM(Раздел6!F189:O189)","v":0}]
[null,"Стендовая стрельба - всего","194",{"$f":"IF(SUM(D203:D206)>=1,1,0)","v":0},{"$f":"IF(SUM(E203:E206)>=1,1,0)","v":0},null,{"$f":"SUM(H202:L202,U202,W202)*IF(D202>0,1,0)","v":0},{"$f":"SUM(H203:H206)","v":0},{"$f":"SUM(I203:I206)","v":0},0,0,0,0,0,0,0,0,0,0,0,0,0,0,0,0,0,0,0,{"$f":"Раздел3!#REF!","v":{"$error":"#REF!"}},{"$f":"Раздел3!W189","v":0},{"$f":"SUM(Раздел6!F190:O190)","v":0}]
[null,"в том числе:\nТрап","195",null,null,null,0,null,null,null,null,null,null,null,null,null,null,null,null,null,null,null,{"$f":"SUM(X203:Y203)","v":0},null,null,{"$f":"SUM(AA203:AB203)","v":0},null,null,{"$f":"Раздел3!#REF!","v":{"$error":"#REF!"}},{"$f":"Раздел3!W190","v":0},{"$f":"SUM(Раздел6!F191:O191)","v":0}]
[null,"Скит","196",null,null,null,0,null,null,null,null,null,null,null,null,null,null,null,null,null,null,null,0,null,null,0,null,null,{"$f":"Раздел3!#REF!","v":{"$error":"#REF!"}},{"$f":"Раздел3!W191","v":0},{"$f":"SUM(Раздел6!F192:O192)","v":0}]
[null,"Дубль-трап","197",null,null,null,0,null,null,null,null,null,null,null,null,null,null,null,null,null,null,null,0,null,null,0,null,null,{"$f":"Раздел3!#REF!","v":{"$error":"#REF!"}},{"$f":"Раздел3!W192","v":0},{"$f":"SUM(Раздел6!F193:O193)","v":0}]
[null,"Спортинг","198",null,null,null,0,null,null,null,null,null,null,null,null,null,null,null,null,null,null,null,0,null,null,0,null,null,{"$f":"Раздел3!#REF!","v":{"$error":"#REF!"}},{"$f":"Раздел3!W193","v":0},{"$f":"SUM(Раздел6!F194:O194)","v":0}]
[null,"Страйкбол","199",null,null,null,0,null,null,null,null,null,null,null,null,null,null,null,null,null,null,null,0,null,null,0]
[null,"Стрельба из арбалета","200",null,null,null,0,null,null,null,null,null,null,null,null,null,null,null,null,null,null,null,0,null,null,0,null,null,{"$f":"Раздел3!#REF!","v":{"$error":"#REF!"}},{"$f":"Раздел3!W194","v":0},{"$f":"SUM(Раздел6!F195:O195)","v":0}]
[null,"Стрельба из лука - всего","201",{"$f":"IF(SUM(D210:D212)>=1,1,0)","v":0},{"$f":"IF(SUM(E210:E212)>=1,1,0)","v":0},null,0,{"$f":"SUM(H210:H212)","v":0},{"$f":"SUM(I210:I212)","v":0},0,0,0,0,0,0,0,0,0,0,0,0,0,0,0,0,0,0,0,{"$f":"Раздел3!#REF!","v":{"$error":"#REF!"}},{"$f":"Раздел3!W195","v":0},{"$f":"SUM(Раздел6!F196:O196)","v":0}]
[null,"в том числе:\nКлассический лук","202",null,null,null,0,null,null,null,null,null,null,null,null,null,null,null,null,null,null,null,0,null,null,0,null,null,{"$f":"Раздел3!#REF!","v":{"$error":"#REF!"}},{"$f":"Раздел3!W196","v":0},{"$f":"SUM(Раздел6!F197:O197)","v":0}]
[null,"   Блочный лук","203",null,null,null,0,null,null,null,null,null,null,null,null,null,null,null,null,null,null,null,0,null,null,0,null,null,{"$f":"Раздел3!#REF!","v":{"$error":"#REF!"}},{"$f":"Раздел3!W197","v":0},{"$f":"SUM(Раздел6!F198:O198)","v":0}]
[null,"   Ачери ","204",null,null,null,0,null,null,null,null,null,null,null,null,null,null,null,null,null,null,null,0,null,null,0,null,null,{"$f":"Раздел3!#REF!","v":{"$error":"#REF!"}},{"$f":"Раздел3!W198","v":0},{"$f":"SUM(Раздел6!F199:O199)","v":0}]
[null,"Судомодельный спорт","205",null,null,null,0,null,null,null,null,null,null,null,null,null,null,null,null,null,null,null,0,null,null,0,null,null,{"$f":"Раздел3!#REF!","v":{"$error":"#REF!"}},{"$f":"Раздел3!W199","v":0},{"$f":"SUM(Раздел6!F200:O200)","v":0}]
[null,"Сумо","206",null,null,null,0,null,null,null,null,null,null,null,null,null,null,null,null,null,null,null,0,null,null,0,null,null,{"$f":"Раздел3!#REF!","v":{"$error":"#REF!"}},{"$f":"Раздел3!W200","v":0},{"$f":"SUM(Раздел6!F201:O201)","v":0}]
[null,"Таврели","207",null,null,null,0,null,null,null,null,null,null,null,null,null,null,null,null,null,null,null,0,null,null,0,null,null,{"$f":"Раздел3!#REF!","v":{"$error":"#REF!"}},{"$f":"Раздел3!W202","v":0},{"$f":"SUM(Раздел6!F203:O203)","v":0}]
[null,"Тайский бокс","208",null,null,null,0,null,null,null,null,null,null,null,null,null,null,null,null,null,null,null,0,null,null,0]
[null,"Танцевальный спорт","209",null,null,null,0,null,null,null,null,null,null,null,null,null,null,null,null,null,null,null,0,null,null,0,null,null,{"$f":"Раздел3!#REF!","v":{"$error":"#REF!"}},{"$f":"Раздел3!W203","v":0},{"$f":"SUM(Раздел6!F204:O204)","v":0}]
[null,"Теннис","210",null,null,null,0,null,null,null,null,null,null,null,null,null,null,null,null,null,null,null,0,null,null,0,null,null,{"$f":"Раздел3!#REF!","v":{"$error":"#REF!"}},{"$f":"Раздел3!W204","v":0},{"$f":"SUM(Раздел6!F205:O205)","v":0}]
[null,"Триатлон","211",null,null,null,0,null,null,null,null,null,null,null,null,null,null,null,null,null,null,null,0,null,null,0,null,null,{"$f":"Раздел3!#REF!","v":{"$error":"#REF!"}},{"$f":"Раздел3!W205","v":0},{"$f":"SUM(Раздел6!F206:O206)","v":0}]
[null,"Тхэквондо (ВТФ)","212",null,null,null,0,null,null,null,null,null,null,null,null,null,null,null,null,null,null,null,0,null,null,0,null,null,{"$f":"Раздел3!#REF!","v":{"$error":"#REF!"}},{"$f":"Раздел3!W206","v":0},{"$f":"SUM(Раздел6!F207:O207)","v":0}]
[null,"Тхэквондо ГТФ","213",null,null,null,0,null,null,null,null,null,null,null,null,null,null,null,null,null,null,null,0,null,null,0]
[null,"Тхэквондо ИТФ","214",null,null,null,0,null,null,null,null,null,null,null,null,null,null,null,null,null,null,null,0,null,null,0]
[null,"Тхэквондо МФТ","215",null,null,null,0,null,null,null,null,null,null,null,null,null,null,null,null,null,null,null,0,null,null,0]
[null,"Тяжелая атлетика","216",null,null,null,0,null,null,null,null,null,null,null,null,null,null,null,null,null,null,null,0,null,null,0,null,null,{"$f":"Раздел3!#REF!","v":{"$error":"#REF!"}},{"$f":"Раздел3!W210","v":0},{"$f":"SUM(Раздел6!F211:O211)","v":0}]
[null,"Универсальный бой","217",null,null,null,0,null,null,null,null,null,null,null,null,null,null,null,null,null,null,null,0,null,null,0,null,null,{"$f":"Раздел3!#REF!","v":{"$error":"#REF!"}},{"$f":"Раздел3!W211","v":0},{"$f":"SUM(Раздел6!F212:O212)","v":0}]
[null,"Ушу","218",null,null,null,0,null,null,null,null,null,null,null,null,null,null,null,null,null,null,null,0,null,null,0,null,null,{"$f":"Раздел3!#REF!","v":{"$error":"#REF!"}},{"$f":"Раздел3!W212","v":0},{"$f":"SUM(Раздел6!F213:O213)","v":0}]
[null,"Фехтование - всего","219",{"$f":"IF(SUM(D228:D231)>=1,1,0)","v":0},{"$f":"IF(SUM(E228:E231)>=1,1,0)","v":0},null,0,{"$f":"SUM(H228:H231)","v":0},{"$f":"SUM(I228:I231)","v":0},0,0,0,0,0,0,0,0,0,0,0,0,0,0,0,0,0,0,0,{"$f":"Раздел3!#REF!","v":{"$error":"#REF!"}},{"$f":"Раздел3!W213","v":0},{"$f":"SUM(Раздел6!F214:O214)","v":0}]
[null,"в том числе:\nРапира","220",null,null,null,0,null,null,null,null,null,null,null,null,null,null,null,null,null,null,null,0,null,null,0,null,null,{"$f":"Раздел3!#REF!","v":{"$error":"#REF!"}},{"$f":"Раздел3!W214","v":0},{"$f":"SUM(Раздел6!F215:O215)","v":0}]
[null,"Сабля","221",null,null,null,0,null,null,null,null,null,null,null,null,null,null,null,null,null,null,null,0,null,null,0,null,null,{"$f":"Раздел3!#REF!","v":{"$error":"#REF!"}},{"$f":"Раздел3!W215","v":0},{"$f":"SUM(Раздел6!F216:O216)","v":0}]
[null,"Шпага","222",null,null,null,0,null,null,null,null,null,null,null,null,null,null,null,null,null,null,null,0,null,null,0,null,null,{"$f":"Раздел3!#REF!","v":{"$error":"#REF!"}},{"$f":"Раздел3!W216","v":0},{"$f":"SUM(Раздел6!F217:O217)","v":0},null,null,null,null,{"$f":"SUM(Раздел3!F218:W218)","v":0}]
[null,"Арт-фехтование","223",null,null,null,0,null,null,null,null,null,null,null,null,null,null,null,null,null,null,null,0,null,null,0,null,null,{"$f":"Раздел3!#REF!","v":{"$error":"#REF!"}},{"$f":"Раздел3!W218","v":0},{"$f":"SUM(Раздел6!F219:O219)","v":0},{"$f":"Раздел10!D15","v":0}]
[null,"Фигурное катание на коньках","224",null,null,null,0,null,null,null,null,null,null,null,null,null,null,null,null,null,null,null,0,null,null,0,null,null,{"$f":"Раздел3!#REF!","v":{"$error":"#REF!"}},{"$f":"Раздел3!W219","v":0}]
[null,"Фитнес-аэробика","225",null,null,null,0,null,null,null,null,null,null,null,null,null,null,null,null,null,null,null,0,null,null,0,null,null,{"$f":"Раздел3!#REF!","v":{"$error":"#REF!"}},{"$f":"Раздел3!W220","v":0},null,null,null,null,{"$f":"Раздел1!I28","v":0}]
[null,"Флаинг диск","226",null,null,null,0,null,null,null,null,null,null,null,null,null,null,null,null,null,null,null,0,null,null,0,null,null,{"$f":"Раздел3!#REF!","v":{"$error":"#REF!"}},{"$f":"Раздел3!W221","v":0}]
[null,"Флорбол","227",null,null,null,0,null,null,null,null,null,null,null,null,null,null,null,null,null,null,null,0,null,null,0,null,null,{"$f":"Раздел3!#REF!","v":{"$error":"#REF!"}},{"$f":"Раздел3!W222","v":0}]
[null,"Фристайл - всего","228",{"$f":"IF(SUM(D237:D242)>=1,1,0)","v":0},{"$f":"IF(SUM(E237:E242)>=1,1,0)","v":0},null,0,{"$f":"SUM(H237:H242)","v":0},{"$f":"SUM(I237:I242)","v":0},0,0,0,0,0,0,0,0,0,0,0,0,0,0,0,0,0,0,0,{"$f":"Раздел3!#REF!","v":{"$error":"#REF!"}},{"$f":"Раздел3!W223","v":0}]
[null,"в том числе:\nАкробатика","229",null,null,null,0,null,null,null,null,null,null,null,null,null,null,null,null,null,null,null,0,null,null,0,null,null,{"$f":"Раздел3!#REF!","v":{"$error":"#REF!"}},{"$f":"Раздел3!W224","v":0}]
[null,"Биг-эйр","230",null,null,null,0,null,null,null,null,null,null,null,null,null,null,null,null,null,null,null,0,null,null,0]
[null,"Могул","231",null,null,null,0,null,null,null,null,null,null,null,null,null,null,null,null,null,null,null,0,null,null,0,null,null,{"$f":"Раздел3!#REF!","v":{"$error":"#REF!"}},{"$f":"Раздел3!W225","v":0}]
[null,"Ски-кросс","232",null,null,null,0,null,null,null,null,null,null,null,null,null,null,null,null,null,null,null,0,null,null,0,null,null,{"$f":"Раздел3!#REF!","v":{"$error":"#REF!"}},{"$f":"Раздел3!W226","v":0}]
[null,"Хаф-пайп","233",null,null,null,0,null,null,null,null,null,null,null,null,null,null,null,null,null,null,null,0,null,null,0,null,null,{"$f":"Раздел3!#REF!","v":{"$error":"#REF!"}},{"$f":"Раздел3!W227","v":0}]
[null,"Слоуп-стайл","234",null,null,null,0,null,null,null,null,null,null,null,null,null,null,null,null,null,null,null,0,null,null,0,null,null,{"$f":"Раздел3!#REF!","v":{"$error":"#REF!"}},{"$f":"Раздел3!W228","v":0}]
[null,"Функциональное многоборье","235",null,null,null,0,null,null,null,null,null,null,null,null,null,null,null,null,null,null,null,0,null,null,0,null,null,{"$f":"Раздел3!#REF!","v":{"$error":"#REF!"}},{"$f":"Раздел3!W229","v":0}]
[null,"Футбол - всего","236",{"$f":"IF(SUM(D245:D250)>=1,1,0)","v":1},{"$f":"IF(SUM(E245:E250)>=1,1,0)","v":0},null,176,{"$f":"SUM(H245:H250)","v":0},{"$f":"SUM(I245:I250)","v":102},74,0,0,0,161,15,0,0,176,0,0,0,0,0,0,0,0,0,0,{"$f":"Раздел3!#REF!","v":{"$error":"#REF!"}},{"$f":"Раздел3!W230","v":0}]
[null,"в том числе:\nФутбол (муж.)","237",1,null,null,176,null,102,74,null,null,null,161,15,null,null,176,null,null,null,null,0,null,null,0,null,null,{"$f":"Раздел3!#REF!","v":{"$error":"#REF!"}},{"$f":"Раздел3!W231","v":0}]
[null,"Футбол (жен.)","238",null,null,null,0,null,null,null,null,null,null,null,null,null,null,null,{"$f":"SUM(H246:L246)","v":0},null,null,null,0,null,null,0,null,null,{"$f":"Раздел3!#REF!","v":{"$error":"#REF!"}},{"$f":"Раздел3!W233","v":0}]
[null,"Мини-футбол (футзал)","239",null,null,null,0,null,null,null,null,null,null,null,null,null,null,null,null,null,null,null,0,null,null,0,null,null,{"$f":"Раздел3!#REF!","v":{"$error":"#REF!"}},{"$f":"Раздел3!W234","v":0}]
[null,"Пляжный футбол","240",null,null,null,0,null,null,null,null,null,null,null,null,null,null,null,null,null,null,null,0,null,null,0,null,null,{"$f":"Раздел3!#REF!","v":{"$error":"#REF!"}},{"$f":"Раздел3!W235","v":0}]
[null,"Футбол 6х6, 7х7, 8х8","241",null,null,null,0,null,null,null,null,null,null,null,null,null,null,null,null,null,null,null,0,null,null,0]
[null,"Интерактивный футбол","242",null,null,null,0,null,null,null,null,null,null,null,null,null,null,null,null,null,null,null,0,null,null,0]
[null,"Футгольф","243",null,null,null,0,null,null,null,null,null,null,null,null,null,null,null,null,null,null,null,0,null,null,0]
[null,"Хапкидо","244",null,null,null,0,null,null,null,null,null,null,null,null,null,null,null,null,null,null,null,0,null,null,0]
[null,"Хапсагай","245",null,null,null,0,null,null,null,null,null,null,null,null,null,null,null,null,null,null,null,0,null,null,0,null,null,{"$f":"Раздел3!#REF!","v":{"$error":"#REF!"}},{"$f":"Раздел3!W236","v":0}]
[null,"Хоккей - всего","246",{"$f":"IF(SUM(D255:D256)>=1,1,0)","v":0},{"$f":"IF(SUM(E255:E256)>=1,1,0)","v":0},null,0,{"$f":"SUM(H255:H256)","v":0},{"$f":"SUM(I255:I256)","v":0},0,0,0,0,0,0,0,0,0,0,0,0,0,0,0,0,0,0,0,{"$f":"Раздел3!#REF!","v":{"$error":"#REF!"}},{"$f":"Раздел3!W237","v":0}]
[null,"в том числе:\nХоккей (муж.)","247",null,null,null,0,null,null,null,null,null,null,null,null,null,null,null,null,null,null,null,0,null,null,0,null,null,{"$f":"Раздел3!#REF!","v":{"$error":"#REF!"}},{"$f":"Раздел3!W238","v":0}]
[null,"Хоккей (жен.)","248",null,null,null,0,null,null,null,null,null,null,null,null,null,null,null,{"$f":"SUM(H256:L256)","v":0},null,null,null,0,null,null,0,null,null,{"$f":"Раздел3!#REF!","v":{"$error":"#REF!"}},{"$f":"Раздел3!W239","v":0}]
[null,"Хоккей на траве - всего","249",{"$f":"IF(SUM(D258:D260)>=1,1,0)","v":0},{"$f":"IF(SUM(E258:E260)>=1,1,0)","v":0},null,0,{"$f":"SUM(H258:H260)","v":0},{"$f":"SUM(I258:I260)","v":0},0,0,{"$f":"SUM(L258:L260)","v":0},0,0,0,0,0,{"$f":"SUM(R258:R260)","v":0},0,0,0,0,0,0,0,0,0,0]
[null,"в том числе:\nХоккей на траве (муж.)","250",null,null,null,0,null,null,null,null,null,null,null,null,null,null,null,null,null,null,null,0,null,null,0]
[null,"Хоккей на траве (жен.)","251",null,null,null,0,null,null,null,null,null,null,null,null,null,null,null,{"$f":"SUM(H259:L259)","v":0},null,null,null,0,null,null,0]
[null,"Индорхоккей","252",null,null,null,0,null,null,null,null,null,null,null,null,null,null,null,null,null,null,null,0,null,null,0]
[null,"Хоккей с мячом","253",null,null,null,0,null,null,null,null,null,null,null,null,null,null,null,null,null,null,null,0,null,null,0]
[null,"Художественная гимнастика","254",1,null,null,136,null,12,100,24,null,null,134,2,null,null,136,136,null,null,null,0,null,null,0]
[null,"Хуреш","255",null,null,null,{"$f":"SUM(H263:L263,U263,W263)*IF(D263>0,1,0)","v":0},null,null,null,null,null,null,null,null,null,null,null,null,null,null,null,0,null,null,0]
[null,"Чир спорт","256",null,null,null,0,null,null,null,null,null,null,null,null,null,null,null,null,null,null,null,0,null,null,0]
[null,"Шахматы","257",null,null,null,0,null,null,null,null,null,null,null,null,null,null,null,null,null,null,null,0,null,null,0]
[null,"Шашки","258",null,null,null,{"$f":"SUM(H266:L266,U266,W266)*IF(D266>0,1,0)","v":0},null,null,null,null,null,null,null,null,null,null,null,null,null,null,null,{"$f":"SUM(X266:Y266)","v":0},null,null,{"$f":"SUM(AA266:AB266)","v":0}]
[null,"Шодсанлат","259",null,null,null,0,null,null,null,null,null,null,null,null,null,null,null,null,null,null,null,0,null,null,0]
[null,"Эстетическая гимнастика","260",null,null,null,0,null,null,null,null,null,null,null,null,null,null,null,null,null,null,null,0,null,null,0]
[null,"Якутские национальные прыжки","261",null,null,null,0,null,null,null,null,null,null,null,null,null,null,null,null,null,null,null,0,null,null,0]
[null,"ИТОГО","262",{"$f":"SUM(D9:D20,D23:D26,D29:D34,D45:D50,D55:D57,D39:D42,D61:D71,D76:D85,D89:D95,D98:D103,D111:D116,D117:D125,D128:D133,D136,D141:D142,D148:D151,D156:D161,D162:D176,D177:D189,D195:D202,D207:D209,D213:D217,D218:D227,D232:D236,D243:D244,D251:D254,D257,D261:D269)","v":7},{"$f":"SUM(E9:E20,E23:E26,E29:E34,E45:E50,E55:E57,E39:E42,E61:E71,E76:E85,E89:E95,E98:E103,E111:E116,E117:E125,E128:E133,E136,E141:E142,E148:E151,E156:E161,E162:E176,E177:E189,E195:E202,E207:E209,E213:E217,E218:E227,E232:E236,E243:E244,E251:E254,E257,E261:E269)","v":1},0,1015,{"$f":"SUM(H9:H20,H23:H26,H29:H34,H45:H50,H55:H57,H39:H42,H61:H71,H76:H85,H89:H95,H98:H103,H111:H116,H117:H125,H128:H133,H136,H141:H142,H148:H151,H156:H161,H162:H176,H177:H189,H195:H202,H207:H209,H213:H217,H218:H227,H232:H236,H243:H244,H251:H254,H257,H261:H269)","v":0},575,416,24,{"$f":"SUM(L9:L20,L23:L26,L29:L34,L45:L50,L55:L57,L39:L42,L61:L71,L76:L85,L89:L95,L98:L103,L111:L116,L117:L125,L128:L133,L136,L141:L142,L148:L151,L156:L161,L162:L176,L177:L189,L195:L202,L207:L209,L213:L217,L218:L227,L232:L236,L243:L244,L251:L254,L257,L261:L269)","v":0},0,919,96,0,0,1015,302,0,0,0,0,0,0,0,0,0]

{"sheet":"Раздел3","index":3,"n_rows":269,"n_cols":48,"rows_kept":269,"cut":false,"hidden":false,"merged":[[2,36,5,36],[2,37,5,37],[2,38,5,38],[3,3,5,3],[3,4,3,22],[3,23,5,23],[3,24,4,28],[3,29,5,29],[3,30,4,34],[4,4,5,4],[4,8,4,12],[4,13,4,17],[4,18,4,22],[4,5,4,7],[0,0,124,0],[0,1,0,34],[0,35,124,35],[1,29,1,34],[2,1,5,1],[2,2,5,2],[2,3,2,22],[2,23,2,28],[2,29,2,34]]}
[null,"Раздел III. Численность занимающихся по программам спортивной подготовки"]
[null,null,null,null,null,null,null,null,null,null,null,null,null,null,null,null,null,null,null,null,null,null,null,null,null,null,null,null,null,"Код по ОКЕИ: человек – 792"]
[null,"Виды спорта","№ строки","Число занимающихся по программам спортивной подготовки на 31 декабря отчетного года (из гр. 7-11 раздела II)",null,null,null,null,null,null,null,null,null,null,null,null,null,null,null,null,null,null,null,"Число занимающихся, зачисленных на программы \nспортивной подготовки в отчетном году",null,null,null,null,null,"Число занимающихся, отчисленных с программ \nспортивной подготовки в отчетном году"]
[null,null,null,"всего","в том числе по этапам и годам подготовки",null,null,null,null,null,null,null,null,null,null,null,null,null,null,null,null,null,null,"всего","в том числе по этапам подготовки",null,null,null,null,"всего","в том числе по этапам подготовки"]
[null,null,null,null,"спортивно-оздоровительный","начальной подготовки",null,null,"тренировочный",null,null,null,null,"совершенствования спортивного мастерства",null,null,null,null,"высшего спортивного мастерства"]
[null,null,null,null,null,1,2,"более 2",1,2,3,4,5,1,2,3,4,"более 4",1,2,3,4,"более 4",null,"спортивно-оздоровительный","начальной подготовки","трениро-вочный","совершен-ствования спортивного мастерства","высшего спортивного мастерства",null,"спортивно-оздоровительный","начальной подготовки","трениро-вочный","совершен-ствования спортивного мастерства","высшего спортивного мастерства"]
[null,1,2,3,4,5,6,7,8,9,10,11,12,13,14,15,16,17,18,19,20,21,22,23,24,25,26,27,28,29,30,31,32,33,34,null,"2 8","2 9","2 10","2 11","1 Р"]
[null,"Авиамодельный спорт","01",{"$f":"SUM(E8:W8)","v":0},null,null,null,null,null,null,null,null,null,null,null,null,null,null,null,null,null,null,null,{"$f":"SUM(Y8:AC8)","v":0},null,null,null,null,null,{"$f":"SUM(AE8:AI8)","v":0},null,null,null,null,null,null,{"$f":"Раздел2!I9","v":0},{"$f":"Раздел2!J9","v":0},{"$f":"Раздел2!K9","v":0},{"$f":"Раздел2!L9","v":0},{"$f":"Раздел1!D28","v":0},null,null,null,null,0]
[null,"Автомобильный спорт","02",{"$f":"SUM(E9:W9)","v":0},null,null,null,null,null,null,null,null,null,null,null,null,null,null,null,null,null,null,null,{"$f":"SUM(Y9:AC9)","v":0},null,null,null,null,null,{"$f":"SUM(AE9:AI9)","v":0},null,null,null,null,null,null,{"$f":"Раздел2!I10","v":0},{"$f":"Раздел2!J10","v":0},{"$f":"Раздел2!K10","v":0},{"$f":"Раздел2!L10","v":0},{"$f":"Раздел1!F28","v":0}]
[null,"Автомодельный спорт","03",0,null,null,null,null,null,null,0,null,null,null,null,null,null,null,null,null,null,null,null,0,null,null,null,null,null,0,null,null,null,null,null,null,{"$f":"Раздел2!I11","v":0},{"$f":"Раздел2!J11","v":0},{"$f":"Раздел2!K11","v":0},{"$f":"Раздел2!L11","v":0},{"$f":"Раздел1!G28","v":1}]
[null,"Айкидо","04",0,null,null,null,null,null,null,null,null,null,null,null,null,null,null,null,null,null,null,null,0,null,null,null,null,null,0,null,null,null,null,null,null,{"$f":"Раздел2!I12","v":0},{"$f":"Раздел2!J12","v":0},{"$f":"Раздел2!K12","v":0},{"$f":"Раздел2!L12","v":0}]
[null,"Айсшток","05",0,null,null,null,null,null,null,null,null,null,null,null,null,null,null,null,null,null,null,null,0,null,null,null,null,null,0,null,null,null,null,null,null,{"$f":"Раздел2!I13","v":0},{"$f":"Раздел2!J13","v":0},{"$f":"Раздел2!K13","v":0},{"$f":"Раздел2!L13","v":0},{"$f":"SUM(Раздел1!E10:J10)","v":0}]
[null,"Акробатический рок-н-ролл","06",0,null,null,null,null,null,null,null,null,null,null,null,null,null,null,null,null,null,null,null,0,null,null,null,null,null,0,null,null,null,null,null,null,{"$f":"Раздел2!I14","v":0},{"$f":"Раздел2!J14","v":0},{"$f":"Раздел2!K14","v":0},{"$f":"Раздел2!L14","v":0},{"$f":"SUM(Раздел1!E11:J11)","v":0}]
[null,"Альпинизм","07",0,null,null,null,null,null,null,null,null,null,null,null,null,null,null,null,null,null,null,null,0,null,null,null,null,null,0,null,null,null,null,null,null,{"$f":"Раздел2!I15","v":0},{"$f":"Раздел2!J15","v":0},{"$f":"Раздел2!K15","v":0},{"$f":"Раздел2!L15","v":0},{"$f":"SUM(Раздел1!E13:J13)","v":0}]
[null,"Американский футбол","08",0,null,null,null,null,null,null,null,null,null,null,null,null,null,null,null,null,null,null,null,0,null,null,null,null,null,0,null,null,null,null,null,null,{"$f":"Раздел2!I16","v":0},{"$f":"Раздел2!J16","v":0},{"$f":"Раздел2!K16","v":0},{"$f":"Раздел2!L16","v":0},{"$f":"SUM(Раздел1!E14:J14)","v":0}]
[null,"Армейский рукопашный бой","09",0,null,null,null,null,null,null,null,null,null,null,null,null,null,null,null,null,null,null,null,0,null,null,null,null,null,0,null,null,null,null,null,null,{"$f":"Раздел2!I17","v":0},{"$f":"Раздел2!J17","v":0},{"$f":"Раздел2!K17","v":0},{"$f":"Раздел2!L17","v":0}]
[null,"Армрестлинг","10",0,null,null,null,null,null,null,null,null,null,null,null,null,null,null,null,null,null,null,null,0,null,null,null,null,null,0,null,null,null,null,null,null,{"$f":"Раздел2!I18","v":0},{"$f":"Раздел2!J18","v":0},{"$f":"Раздел2!K18","v":0},{"$f":"Раздел2!L18","v":0}]
[null,"Бадминтон","11",0,null,null,null,null,null,null,null,null,null,null,null,null,null,null,null,null,null,null,null,0,null,null,null,null,null,0,null,null,null,null,null,null,{"$f":"Раздел2!I19","v":0},{"$f":"Раздел2!J19","v":0},{"$f":"Раздел2!K19","v":0},{"$f":"Раздел2!L19","v":0}]
[null,"Баскетбол - всего","12",173,{"$f":"SUM(E20:E21)","v":0},{"$f":"SUM(F20:F21)","v":107},40,15,0,0,11,0,0,0,0,0,0,0,0,0,0,0,0,50,0,50,0,0,0,15,0,14,1,0,0,null,{"$f":"Раздел2!I20","v":162},{"$f":"Раздел2!J20","v":11},{"$f":"Раздел2!K20","v":0},{"$f":"Раздел2!L20","v":0}]
[null,"в том числе:\nБаскетбол (муж.)","13",173,null,107,40,15,null,null,11,null,null,null,null,null,null,null,null,null,null,null,null,50,null,50,null,null,null,15,null,14,1,null,null,null,{"$f":"Раздел2!I21","v":162},{"$f":"Раздел2!J21","v":11},{"$f":"Раздел2!K21","v":0},{"$f":"Раздел2!L21","v":0}]
[null,"Баскетбол (жен.)","14",0,null,null,null,null,null,null,null,null,null,null,null,null,null,null,null,null,null,null,null,0,null,null,null,null,null,0,null,null,null,null,null,null,{"$f":"Раздел2!I22","v":0},{"$f":"Раздел2!J22","v":0},{"$f":"Раздел2!K22","v":0},{"$f":"Раздел2!L22","v":0}]
[null,"Бейсбол","15",0,null,null,null,null,null,null,null,null,null,null,null,null,null,null,null,null,null,null,null,0,null,null,null,null,null,0,null,null,null,null,null,null,{"$f":"Раздел2!I23","v":0},{"$f":"Раздел2!J23","v":0},{"$f":"Раздел2!K23","v":0},{"$f":"Раздел2!L23","v":0}]
[null,"Биатлон","16",0,null,null,null,null,null,null,null,null,null,null,null,null,null,null,null,null,null,null,null,0,null,null,null,null,null,0,null,null,null,null,null,null,{"$f":"Раздел2!I24","v":0},{"$f":"Раздел2!J24","v":0},{"$f":"Раздел2!K24","v":0},{"$f":"Раздел2!L24","v":0}]
[null,"Бильярдный спорт","17",0,null,null,null,null,null,null,null,null,null,null,null,null,null,null,null,null,null,null,null,0,null,null,null,null,null,0,null,null,null,null,null,null,{"$f":"Раздел2!I25","v":0},{"$f":"Раздел2!J25","v":0},{"$f":"Раздел2!K25","v":0},{"$f":"Раздел2!L25","v":0}]
[null,"Бобслей - всего","18",0,{"$f":"SUM(E26:E27)","v":0},{"$f":"SUM(F26:F27)","v":0},0,0,0,0,0,0,0,0,0,0,0,0,0,0,0,0,0,0,0,0,0,0,0,0,0,0,0,0,0,null,{"$f":"Раздел2!I26","v":0},{"$f":"Раздел2!J26","v":0},{"$f":"Раздел2!K26","v":0},{"$f":"Раздел2!L26","v":0}]
[null,"в том числе:\nБобслей","19",0,null,null,null,null,null,null,null,null,null,null,null,null,null,null,null,null,null,null,null,0,null,null,null,null,null,0,null,null,null,null,null,null,{"$f":"Раздел2!I27","v":0},{"$f":"Раздел2!J27","v":0},{"$f":"Раздел2!K27","v":0},{"$f":"Раздел2!L27","v":0}]
[null,"Скелетон","20",0,null,null,null,null,null,null,null,null,null,null,null,null,null,null,null,null,null,null,null,0,null,null,null,null,null,0,null,null,null,null,null,null,{"$f":"Раздел2!I28","v":0},{"$f":"Раздел2!J28","v":0},{"$f":"Раздел2!K28","v":0},{"$f":"Раздел2!L28","v":0}]
[null,"Бодибилдинг","21",0,null,null,null,null,null,null,null,null,null,null,null,null,null,null,null,null,null,null,null,0,null,null,null,null,null,0,null,null,null,null,null,null,{"$f":"Раздел2!I29","v":0},{"$f":"Раздел2!J29","v":0},{"$f":"Раздел2!K29","v":0},{"$f":"Раздел2!L29","v":0}]
[null,"Бокс","22",72,null,12,null,12,24,null,10,null,14,null,null,null,null,null,null,null,null,null,null,26,null,12,14,null,null,11,null,4,7,null,null,null,{"$f":"Раздел2!I30","v":24},{"$f":"Раздел2!J30","v":48},{"$f":"Раздел2!K30","v":0},{"$f":"Раздел2!L30","v":0}]
[null,"Борьба на поясах","23",0,null,null,null,null,null,null,null,null,null,null,null,null,null,null,null,null,null,null,null,0,null,null,null,null,null,0,null,null,null,null,null,null,{"$f":"Раздел2!I31","v":0},{"$f":"Раздел2!J31","v":0},{"$f":"Раздел2!K31","v":0},{"$f":"Раздел2!L31","v":0}]
[null,"Боулинг","24",0,null,null,null,null,null,null,null,null,null,null,null,null,null,null,null,null,null,null,null,0,null,null,null,null,null,0,null,null,null,null,null,null,{"$f":"Раздел2!I32","v":0},{"$f":"Раздел2!J32","v":0},{"$f":"Раздел2!K32","v":0},{"$f":"Раздел2!L32","v":0}]
[null,"Боулспорт","25",0,null,null,null,null,null,null,null,null,null,null,null,null,null,null,null,null,null,null,null,0,null,null,null,null,null,0,null,null,null,null,null,null,{"$f":"Раздел2!I33","v":0},{"$f":"Раздел2!J33","v":0},{"$f":"Раздел2!K33","v":0},{"$f":"Раздел2!L33","v":0}]
[null,"Велосипедный спорт - всего","26",0,{"$f":"SUM(E34:E37)","v":0},{"$f":"SUM(F34:F37)","v":0},0,0,0,0,0,0,0,0,0,0,0,0,0,0,0,0,0,0,0,0,0,0,0,0,0,0,0,0,0,null,{"$f":"Раздел2!I34","v":0},{"$f":"Раздел2!J34","v":0},{"$f":"Раздел2!K34","v":0},{"$f":"Раздел2!L34","v":0}]
[null,"в том числе:\nBMX","27",0,null,null,null,null,null,null,null,null,null,null,null,null,null,null,null,null,null,null,null,0,null,null,null,null,null,0,null,null,null,null,null,null,{"$f":"Раздел2!I35","v":0},{"$f":"Раздел2!J35","v":0},{"$f":"Раздел2!K35","v":0},{"$f":"Раздел2!L35","v":0}]
[null,"Маунтинбайк","28",0,null,null,null,null,null,null,null,null,null,null,null,null,null,null,null,null,null,null,null,0,null,null,null,null,null,0,null,null,null,null,null,null,{"$f":"Раздел2!I36","v":0},{"$f":"Раздел2!J36","v":0},{"$f":"Раздел2!K36","v":0},{"$f":"Раздел2!L36","v":0}]
[null,"Трек","29",0,null,null,null,null,null,null,null,null,null,null,null,null,null,null,null,null,null,null,null,0,null,null,null,null,null,0,null,null,null,null,null,null,{"$f":"Раздел2!I37","v":0},{"$f":"Раздел2!J37","v":0},{"$f":"Раздел2!K37","v":0},{"$f":"Раздел2!L37","v":0}]
[null,"Шоссе","30",0,null,null,null,null,null,null,null,null,null,null,null,null,null,null,null,null,null,null,null,0,null,null,null,null,null,0,null,null,null,null,null,null,{"$f":"Раздел2!I38","v":0},{"$f":"Раздел2!J38","v":0},{"$f":"Раздел2!K38","v":0},{"$f":"Раздел2!L38","v":0}]
[null,"Вертолетный спорт","31",0,null,null,null,null,null,null,null,null,null,null,null,null,null,null,null,null,null,null,null,0,null,null,null,null,null,0,null,null,null,null,null,null,{"$f":"Раздел2!I39","v":0},{"$f":"Раздел2!J39","v":0},{"$f":"Раздел2!K39","v":0},{"$f":"Раздел2!L39","v":0}]
[null,"Водно-моторный спорт","32",0,null,null,null,null,null,null,null,null,null,null,null,null,null,null,null,null,null,null,null,0,null,null,null,null,null,0,null,null,null,null,null,null,{"$f":"Раздел2!I40","v":0},{"$f":"Раздел2!J40","v":0},{"$f":"Раздел2!K40","v":0},{"$f":"Раздел2!L40","v":0}]
[null,"Водно-спасательное многоборье","33",0,null,null,null,null,null,null,null,null,null,null,null,null,null,null,null,null,null,null,null,0,null,null,null,null,null,0,null,null,null,null,null,null,{"$f":"Раздел2!I41","v":0},{"$f":"Раздел2!J41","v":0},{"$f":"Раздел2!K41","v":0},{"$f":"Раздел2!L41","v":0}]
[null,"Водное поло - всего ","34",0,{"$f":"SUM(E42:E43)","v":0},{"$f":"SUM(F42:F43)","v":0},0,0,0,0,0,0,0,0,0,0,0,0,0,0,0,0,0,0,0,0,0,0,0,0,0,0,0,0,0,null,{"$f":"Раздел2!I42","v":0},{"$f":"Раздел2!J42","v":0},{"$f":"Раздел2!K42","v":0},{"$f":"Раздел2!L42","v":0}]
[null,"в том числе:\nВодное поло (муж.)","35",0,null,null,null,null,null,null,null,null,null,null,null,null,null,null,null,null,null,null,null,0,null,null,null,null,null,0,null,null,null,null,null,null,{"$f":"Раздел2!I43","v":0},{"$f":"Раздел2!J43","v":0},{"$f":"Раздел2!K43","v":0},{"$f":"Раздел2!L43","v":0}]
[null,"Водное поло (жен.)","36",0,null,null,null,null,null,null,null,null,null,null,null,null,null,null,null,null,null,null,null,0,null,null,null,null,null,0,null,null,null,null,null,null,{"$f":"Раздел2!I44","v":0},{"$f":"Раздел2!J44","v":0},{"$f":"Раздел2!K44","v":0},{"$f":"Раздел2!L44","v":0}]
[null,"Воднолыжный спорт","37",0,null,null,null,null,null,null,null,null,null,null,null,null,null,null,null,null,null,null,null,0,null,null,null,null,null,0,null,null,null,null,null,null,{"$f":"Раздел2!I45","v":0},{"$f":"Раздел2!J45","v":0},{"$f":"Раздел2!K45","v":0},{"$f":"Раздел2!L45","v":0}]
[null,"Военно-прикладной спорт","38",0,null,null,null,null,null,null,null,null,null,null,null,null,null,null,null,null,null,null,null,0,null,null,null,null,null,0,null,null,null,null,null,null,{"$f":"Раздел2!I46","v":0},{"$f":"Раздел2!J46","v":0},{"$f":"Раздел2!K46","v":0},{"$f":"Раздел2!L46","v":0}]
[null,"Военно-спортивное многоборье","39",0,null,null,null,null,null,null,null,null,null,null,null,null,null,null,null,null,null,null,null,0,null,null,null,null,null,0,null,null,null,null,null,null,{"$f":"Раздел2!I47","v":0},{"$f":"Раздел2!J47","v":0},{"$f":"Раздел2!K47","v":0},{"$f":"Раздел2!L47","v":0}]
[null,"Воздухоплавательный спорт","40",0,null,null,null,null,null,null,null,null,null,null,null,null,null,null,null,null,null,null,null,0,null,null,null,null,null,0,null,null,null,null,null,null,{"$f":"Раздел2!I48","v":0},{"$f":"Раздел2!J48","v":0},{"$f":"Раздел2!K48","v":0},{"$f":"Раздел2!L48","v":0}]
[null,"Воздушно-силовая атлетика","41",0,null,null,null,null,null,null,null,null,null,null,null,null,null,null,null,null,null,null,null,0,null,null,null,null,null,0,null,null,null,null,null,null,{"$f":"Раздел2!I49","v":0},{"$f":"Раздел2!J49","v":0},{"$f":"Раздел2!K49","v":0},{"$f":"Раздел2!L49","v":0}]
[null,"Волейбол - всего","42",0,{"$f":"SUM(E50:E53)","v":0},{"$f":"SUM(F50:F53)","v":0},0,0,0,0,0,0,0,0,0,0,0,0,0,0,0,0,0,0,0,0,0,0,0,0,0,0,0,0,0,null,{"$f":"Раздел2!I50","v":0},{"$f":"Раздел2!J50","v":0},{"$f":"Раздел2!K50","v":0},{"$f":"Раздел2!L50","v":0}]
[null,"в том числе:\nВолейбол (муж.)","43",0,null,null,null,null,null,null,null,null,null,null,null,null,null,null,null,null,null,null,null,0,null,null,null,null,null,0,null,null,null,null,null,null,{"$f":"Раздел2!I51","v":0},{"$f":"Раздел2!J51","v":0},{"$f":"Раздел2!K51","v":0},{"$f":"Раздел2!L51","v":0}]
[null,"Волейбол (жен.)","44",0,null,null,null,null,null,null,null,null,null,null,null,null,null,null,null,null,null,null,null,0,null,null,null,null,null,0,null,null,null,null,null,null,{"$f":"Раздел2!I52","v":0},{"$f":"Раздел2!J52","v":0},{"$f":"Раздел2!K52","v":0},{"$f":"Раздел2!L52","v":0}]
[null,"Пляжный волейбол (муж.)","45",0,null,null,null,null,null,null,null,null,null,null,null,null,null,null,null,null,null,null,null,0,null,null,null,null,null,0,null,null,null,null,null,null,{"$f":"Раздел2!I53","v":0},{"$f":"Раздел2!J53","v":0},{"$f":"Раздел2!K53","v":0},{"$f":"Раздел2!L53","v":0}]
[null,"Пляжный волейбол (жен.)","46",0,null,null,null,null,null,null,null,null,null,null,null,null,null,null,null,null,null,null,null,0,null,null,null,null,null,0,null,null,null,null,null,null,{"$f":"Раздел2!I54","v":0},{"$f":"Раздел2!J54","v":0},{"$f":"Раздел2!K54","v":0},{"$f":"Раздел2!L54","v":0}]
[null,"Восточное боевое единоборство","47",0,null,null,null,null,null,null,null,null,null,null,null,null,null,null,null,null,null,null,null,0,null,null,null,null,null,0,null,null,null,null,null,null,{"$f":"Раздел2!I55","v":0},{"$f":"Раздел2!J55","v":0},{"$f":"Раздел2!K55","v":0},{"$f":"Раздел2!L55","v":0}]
[null,"Всестилевое каратэ","48",0,null,null,null,null,null,null,null,null,null,null,null,null,null,null,null,null,null,null,null,0,null,null,null,null,null,0,null,null,null,null,null,null,{"$f":"Раздел2!I56","v":0},{"$f":"Раздел2!J56","v":0},{"$f":"Раздел2!K56","v":0},{"$f":"Раздел2!L56","v":0}]
[null,"Гандбол - всего","49",0,{"$f":"SUM(E57:E59)","v":0},{"$f":"SUM(F57:F59)","v":0},0,0,0,0,0,0,0,0,0,0,0,0,0,0,0,0,0,0,0,0,0,0,0,0,0,0,0,0,0,null,{"$f":"Раздел2!I57","v":0},{"$f":"Раздел2!J57","v":0},{"$f":"Раздел2!K57","v":0},{"$f":"Раздел2!L57","v":0}]
[null,"в том числе:\nГандбол (муж.)","50",0,null,null,null,null,null,null,null,null,null,null,null,null,null,null,null,null,null,null,null,0,null,null,null,null,null,0,null,null,null,null,null,null,{"$f":"Раздел2!I58","v":0},{"$f":"Раздел2!J58","v":0},{"$f":"Раздел2!K58","v":0},{"$f":"Раздел2!L58","v":0}]
[null,"Гандбол (жен.)","51",0,null,null,null,null,null,null,null,null,null,null,null,null,null,null,null,null,null,null,null,0,null,null,null,null,null,0,null,null,null,null,null,null,{"$f":"Раздел2!I59","v":0},{"$f":"Раздел2!J59","v":0},{"$f":"Раздел2!K59","v":0},{"$f":"Раздел2!L59","v":0}]
[null,"Пляжный гандбол","52",0,null,null,null,null,null,null,null,null,null,null,null,null,null,null,null,null,null,null,null,0,null,null,null,null,null,0,null,null,null,null,null,null,{"$f":"Раздел2!I60","v":0},{"$f":"Раздел2!J60","v":0},{"$f":"Раздел2!K60","v":0},{"$f":"Раздел2!L60","v":0}]
[null,"Гиревой спорт","53",0,null,null,null,null,null,null,null,null,null,null,null,null,null,null,null,null,null,null,null,0,null,null,null,null,null,0,null,null,null,null,null,null,{"$f":"Раздел2!I61","v":0},{"$f":"Раздел2!J61","v":0},{"$f":"Раздел2!K61","v":0},{"$f":"Раздел2!L61","v":0}]
[null,"Го","54",0,null,null,null,null,null,null,null,null,null,null,null,null,null,null,null,null,null,null,null,0,null,null,null,null,null,0,null,null,null,null,null,null,{"$f":"Раздел2!I62","v":0},{"$f":"Раздел2!J62","v":0},{"$f":"Раздел2!K62","v":0},{"$f":"Раздел2!L62","v":0}]
[null,"Гольф","55",0,null,null,null,null,null,null,null,null,null,null,null,null,null,null,null,null,null,null,null,0,null,null,null,null,null,0,null,null,null,null,null,null,{"$f":"Раздел2!I63","v":0},{"$f":"Раздел2!J63","v":0},{"$f":"Раздел2!K63","v":0},{"$f":"Раздел2!L63","v":0}]
[null,"Гонки на охотничьих лыжах","56",0,null,null,null,null,null,null,null,null,null,null,null,null,null,null,null,null,null,null,null,0,null,null,null,null,null,0,null,null,null,null,null,null,{"$f":"Раздел2!I64","v":0},{"$f":"Раздел2!J64","v":0},{"$f":"Раздел2!K64","v":0},{"$f":"Раздел2!L64","v":0}]
[null,"Гонки с препятствиями","57",0,null,null,null,null,null,null,null,null,null,null,null,null,null,null,null,null,null,null,null,0,null,null,null,null,null,0,null,null,null,null,null,null,{"$f":"Раздел2!I65","v":0},{"$f":"Раздел2!J65","v":0},{"$f":"Раздел2!K65","v":0},{"$f":"Раздел2!L65","v":0}]
[null,"Горнолыжный спорт","58",0,null,null,null,null,null,null,null,null,null,null,null,null,null,null,null,null,null,null,null,0,null,null,null,null,null,0,null,null,null,null,null,null,{"$f":"Раздел2!I66","v":0},{"$f":"Раздел2!J66","v":0},{"$f":"Раздел2!K66","v":0},{"$f":"Раздел2!L66","v":0}]
[null,"Городошный спорт","59",0,null,null,null,null,null,null,null,null,null,null,null,null,null,null,null,null,null,null,null,0,null,null,null,null,null,0,null,null,null,null,null,null,{"$f":"Раздел2!I67","v":0},{"$f":"Раздел2!J67","v":0},{"$f":"Раздел2!K67","v":0},{"$f":"Раздел2!L67","v":0}]
[null,"Гребля на байдарках и каноэ","60",0,null,null,null,null,null,null,null,null,null,null,null,null,null,null,null,null,null,null,null,0,null,null,null,null,null,0,null,null,null,null,null,null,{"$f":"Раздел2!I68","v":0},{"$f":"Раздел2!J68","v":0},{"$f":"Раздел2!K68","v":0},{"$f":"Раздел2!L68","v":0}]
[null,"Гребля на шлюпках","61",0,null,null,null,null,null,null,null,null,null,null,null,null,null,null,null,null,null,null,null,0,null,null,null,null,null,0,null,null,null,null,null,null,{"$f":"Раздел2!I69","v":0},{"$f":"Раздел2!J69","v":0},{"$f":"Раздел2!K69","v":0},{"$f":"Раздел2!L69","v":0}]
[null,"Гребной слалом","62",0,null,null,null,null,null,null,null,null,null,null,null,null,null,null,null,null,null,null,null,0,null,null,null,null,null,0,null,null,null,null,null,null,{"$f":"Раздел2!I70","v":0},{"$f":"Раздел2!J70","v":0},{"$f":"Раздел2!K70","v":0},{"$f":"Раздел2!L70","v":0}]
[null,"Гребной спорт - всего","63",0,{"$f":"SUM(E71:E74)","v":0},{"$f":"SUM(F71:F74)","v":0},0,0,0,0,0,0,0,0,0,0,0,0,0,0,0,0,0,0,0,0,0,0,0,0,0,0,0,0,0,null,{"$f":"Раздел2!I71","v":0},{"$f":"Раздел2!J71","v":0},{"$f":"Раздел2!K71","v":0},{"$f":"Раздел2!L71","v":0}]
[null,"в том числе:\nАкадемическая гребля","64",0,null,null,null,null,null,null,null,null,null,null,null,null,null,null,null,null,null,null,null,0,null,null,null,null,null,0,null,null,null,null,null,null,{"$f":"Раздел2!I72","v":0},{"$f":"Раздел2!J72","v":0},{"$f":"Раздел2!K72","v":0},{"$f":"Раздел2!L72","v":0}]
[null,"Гребля-индор","65",0,null,null,null,null,null,null,null,null,null,null,null,null,null,null,null,null,null,null,null,0,null,null,null,null,null,0,null,null,null,null,null,null,{"$f":"Раздел2!I73","v":0},{"$f":"Раздел2!J73","v":0},{"$f":"Раздел2!K73","v":0},{"$f":"Раздел2!L73","v":0}]
[null,"Народная гребля","66",{"$f":"SUM(E73:W73)","v":0},null,null,null,null,null,null,null,null,null,null,null,null,null,null,null,null,null,null,null,{"$f":"SUM(Y73:AC73)","v":0},null,null,null,null,null,{"$f":"SUM(AE73:AI73)","v":0},null,null,null,null,null,null,{"$f":"Раздел2!I74","v":0},{"$f":"Раздел2!J74","v":0},{"$f":"Раздел2!K74","v":0},{"$f":"Раздел2!L74","v":0}]
[null,"Прибрежная гребля","67",0,null,null,null,null,null,null,null,null,null,null,null,null,null,null,null,null,null,null,null,0,null,null,null,null,null,0,null,null,null,null,null,null,{"$f":"Раздел2!I75","v":0},{"$f":"Раздел2!J75","v":0},{"$f":"Раздел2!K75","v":0},{"$f":"Раздел2!L75","v":0}]
[null,"Гребно-парусное двоеборье","68",0,null,null,null,null,null,null,null,null,null,null,null,null,null,null,null,null,null,null,null,0,null,null,null,null,null,0,null,null,null,null,null,null,{"$f":"Раздел2!I76","v":0},{"$f":"Раздел2!J76","v":0},{"$f":"Раздел2!K76","v":0},{"$f":"Раздел2!L76","v":0}]
[null,"Дартс","69",0,null,null,null,null,null,null,null,null,null,null,null,null,null,null,null,null,null,null,null,0,null,null,null,null,null,0,null,null,null,null,null,null,{"$f":"Раздел2!I77","v":0},{"$f":"Раздел2!J77","v":0},{"$f":"Раздел2!K77","v":0},{"$f":"Раздел2!L77","v":0}]
[null,"Джиу-джитсу","70",0,null,null,null,null,null,null,null,null,null,null,null,null,null,null,null,null,null,null,null,0,null,null,null,null,null,0,null,null,null,null,null,null,{"$f":"Раздел2!I78","v":0},{"$f":"Раздел2!J78","v":0},{"$f":"Раздел2!K78","v":0},{"$f":"Раздел2!L78","v":0}]
[null,"Дзюдо","71",0,null,null,null,null,null,null,null,null,null,null,null,null,null,null,null,null,null,null,null,0,null,null,null,null,null,0,null,null,null,null,null,null,{"$f":"Раздел2!I79","v":0},{"$f":"Раздел2!J79","v":0},{"$f":"Раздел2!K79","v":0},{"$f":"Раздел2!L79","v":0}]
[null,"Ездовой спорт","72",0,null,null,null,null,null,null,null,null,null,null,null,null,null,null,null,null,null,null,null,0,null,null,null,null,null,0,null,null,null,null,null,null,{"$f":"Раздел2!I80","v":0},{"$f":"Раздел2!J80","v":0},{"$f":"Раздел2!K80","v":0},{"$f":"Раздел2!L80","v":0}]
[null,"Капоэйра","73",0,null,null,null,null,null,null,null,null,null,null,null,null,null,null,null,null,null,null,null,0,null,null,null,null,null,0,null,null,null,null,null,null,{"$f":"Раздел2!I81","v":0},{"$f":"Раздел2!J81","v":0},{"$f":"Раздел2!K81","v":0},{"$f":"Раздел2!L81","v":0}]
[null,"Каратэ","74",0,null,null,null,null,null,null,null,null,null,null,null,null,null,null,null,null,null,null,null,0,null,null,null,null,null,0,null,null,null,null,null,null,{"$f":"Раздел2!I82","v":0},{"$f":"Раздел2!J82","v":0},{"$f":"Раздел2!K82","v":0},{"$f":"Раздел2!L82","v":0}]
[null,"Кендо","75",0,null,null,null,null,null,null,null,null,null,null,null,null,null,null,null,null,null,null,null,0,null,null,null,null,null,0,null,null,null,null,null,null,{"$f":"Раздел2!I83","v":0},{"$f":"Раздел2!J83","v":0},{"$f":"Раздел2!K83","v":0},{"$f":"Раздел2!L83","v":0}]
[null,"Керешу","76",0,null,null,null,null,null,null,null,null,null,null,null,null,null,null,null,null,null,null,null,0,null,null,null,null,null,0,null,null,null,null,null,null,{"$f":"Раздел2!I84","v":0},{"$f":"Раздел2!J84","v":0},{"$f":"Раздел2!K84","v":0},{"$f":"Раздел2!L84","v":0}]
[null,"Кёрлинг - всего","77",0,{"$f":"SUM(E85:E87)","v":0},{"$f":"SUM(F85:F87)","v":0},0,0,0,0,0,0,0,0,0,0,0,0,0,0,0,0,0,0,0,0,0,0,0,0,0,0,0,0,0,null,{"$f":"Раздел2!I85","v":0},{"$f":"Раздел2!J85","v":0},{"$f":"Раздел2!K85","v":0},{"$f":"Раздел2!L85","v":0}]
[null,"в том числе:\nКерлинг (муж.)","78",0,null,null,null,null,null,null,null,null,null,null,null,null,null,null,null,null,null,null,null,0,null,null,null,null,null,0,null,null,null,null,null,null,{"$f":"Раздел2!I86","v":0},{"$f":"Раздел2!J86","v":0},{"$f":"Раздел2!K86","v":0},{"$f":"Раздел2!L86","v":0}]
[null,"Керлинг (жен.)","79",0,null,null,null,null,null,null,null,null,null,null,null,null,null,null,null,null,null,null,null,0,null,null,null,null,null,0,null,null,null,null,null,null,{"$f":"Раздел2!I87","v":0},{"$f":"Раздел2!J87","v":0},{"$f":"Раздел2!K87","v":0},{"$f":"Раздел2!L87","v":0}]
[null,"Кёрлинг – смешанные пары","80",0,null,null,null,null,null,null,null,null,null,null,null,null,null,null,null,null,null,null,null,0,null,null,null,null,null,0,null,null,null,null,null,null,{"$f":"Раздел2!I88","v":0},{"$f":"Раздел2!J88","v":0},{"$f":"Раздел2!K88","v":0},{"$f":"Раздел2!L88","v":0}]
[null,"Кикбоксинг","81",0,null,null,null,null,null,null,null,null,null,null,null,null,null,null,null,null,null,null,null,0,null,null,null,null,null,0,null,null,null,null,null,null,{"$f":"Раздел2!I89","v":0},{"$f":"Раздел2!J89","v":0},{"$f":"Раздел2!K89","v":0},{"$f":"Раздел2!L89","v":0}]
[null,"Кинологический спорт","82",0,null,null,null,null,null,null,null,null,null,null,null,null,null,null,null,null,null,null,null,0,null,null,null,null,null,0,null,null,null,null,null,null,{"$f":"Раздел2!I90","v":0},{"$f":"Раздел2!J90","v":0},{"$f":"Раздел2!K90","v":0},{"$f":"Раздел2!L90","v":0}]
[null,"Киокусинкай","83",0,null,null,null,null,null,null,null,null,null,null,null,null,null,null,null,null,null,null,null,0,null,null,null,null,null,0,null,null,null,null,null,null,{"$f":"Раздел2!I91","v":0},{"$f":"Раздел2!J91","v":0},{"$f":"Раздел2!K91","v":0},{"$f":"Раздел2!L91","v":0}]
[null,"Комплексное единоборство","84",0,null,null,null,null,null,null,null,null,null,null,null,null,null,null,null,null,null,null,null,0,null,null,null,null,null,0,null,null,null,null,null,null,{"$f":"Раздел2!I92","v":0},{"$f":"Раздел2!J92","v":0},{"$f":"Раздел2!K92","v":0},{"$f":"Раздел2!L92","v":0}]
[null,"Компьютерный спорт","85",0,null,null,null,null,null,null,null,null,null,null,null,null,null,null,null,null,null,null,null,0,null,null,null,null,null,0,null,null,null,null,null,null,{"$f":"Раздел2!I93","v":0},{"$f":"Раздел2!J93","v":0},{"$f":"Раздел2!K93","v":0},{"$f":"Раздел2!L93","v":0}]
[null,"Конный спорт","86",0,null,null,null,null,null,null,null,null,null,null,null,null,null,null,null,null,null,null,null,0,null,null,null,null,null,0,null,null,null,null,null,null,{"$f":"Раздел2!I94","v":0},{"$f":"Раздел2!J94","v":0},{"$f":"Раздел2!K94","v":0},{"$f":"Раздел2!L94","v":0}]
[null,"Конькобежный спорт - всего","87",0,{"$f":"SUM(E95:E96)","v":0},{"$f":"SUM(F95:F96)","v":0},0,0,0,0,0,0,0,0,0,0,0,0,0,0,0,0,0,0,0,0,0,0,0,0,0,0,0,0,0,null,{"$f":"Раздел2!I95","v":0},{"$f":"Раздел2!J95","v":0},{"$f":"Раздел2!K95","v":0},{"$f":"Раздел2!L95","v":0}]
[null,"в том числе:\nКонькобежный спорт","88",0,null,null,null,null,null,null,null,null,null,null,null,null,null,null,null,null,null,null,null,0,null,null,null,null,null,0,null,null,null,null,null,null,{"$f":"Раздел2!I96","v":0},{"$f":"Раздел2!J96","v":0},{"$f":"Раздел2!K96","v":0},{"$f":"Раздел2!L96","v":0}]
[null,"Шорт-трек","89",0,null,null,null,null,null,null,null,null,null,null,null,null,null,null,null,null,null,null,null,0,null,null,null,null,null,0,null,null,null,null,null,null,{"$f":"Раздел2!I97","v":0},{"$f":"Раздел2!J97","v":0},{"$f":"Раздел2!K97","v":0},{"$f":"Раздел2!L97","v":0}]
[null,"Корэш","90",0,null,null,null,null,null,null,null,null,null,null,null,null,null,null,null,null,null,null,null,0,null,null,null,null,null,0,null,null,null,null,null,null,{"$f":"Раздел2!I98","v":0},{"$f":"Раздел2!J98","v":0},{"$f":"Раздел2!K98","v":0},{"$f":"Раздел2!L98","v":0}]
[null,"Корфбол","91",0,null,null,null,null,null,null,null,null,null,null,null,null,null,null,null,null,null,null,null,0,null,null,null,null,null,0,null,null,null,null,null,null,{"$f":"Раздел2!I99","v":0},{"$f":"Раздел2!J99","v":0},{"$f":"Раздел2!K99","v":0},{"$f":"Раздел2!L99","v":0}]
[null,"Крикет","92",0,null,null,null,null,null,null,null,null,null,null,null,null,null,null,null,null,null,null,null,0,null,null,null,null,null,0,null,null,null,null,null,null,{"$f":"Раздел2!I100","v":0},{"$f":"Раздел2!J100","v":0},{"$f":"Раздел2!K100","v":0},{"$f":"Раздел2!L100","v":0}]
[null,"Кудо","93",0,null,null,null,null,null,null,null,null,null,null,null,null,null,null,null,null,null,null,null,0,null,null,null,null,null,0,null,null,null,null,null,null,{"$f":"Раздел2!I101","v":0},{"$f":"Раздел2!J101","v":0},{"$f":"Раздел2!K101","v":0},{"$f":"Раздел2!L101","v":0}]
[null,"Лапта","94",0,null,null,null,null,null,null,null,null,null,null,null,null,null,null,null,null,null,null,null,0,null,null,null,null,null,0,null,null,null,null,null,null,{"$f":"Раздел2!I102","v":0},{"$f":"Раздел2!J102","v":0},{"$f":"Раздел2!K102","v":0},{"$f":"Раздел2!L102","v":0}]
[null,"Легкая атлетика - всего","95",263,{"$f":"SUM(E103:E109)","v":0},{"$f":"SUM(F103:F109)","v":56},76,34,0,25,38,22,12,0,0,0,0,0,0,0,0,0,0,12,0,0,12,0,0,20,0,0,20,0,0,null,{"$f":"Раздел2!I103","v":166},{"$f":"Раздел2!J103","v":97},{"$f":"Раздел2!K103","v":0},{"$f":"Раздел2!L103","v":0}]
[null,"в том числе:\nСпринтерский и барьерный бег","96",0,null,null,null,null,null,null,null,null,null,null,null,null,null,null,null,null,null,null,null,0,null,null,null,null,null,0,null,null,null,null,null,null,{"$f":"Раздел2!I104","v":0},{"$f":"Раздел2!J104","v":0},{"$f":"Раздел2!K104","v":0},{"$f":"Раздел2!L104","v":0}]
[null,"Бег на средние дистанции и бег с препятствиями","97",0,null,null,null,null,null,null,null,null,null,null,null,null,null,null,null,null,null,null,null,0,null,null,null,null,null,0,null,null,null,null,null,null,{"$f":"Раздел2!I105","v":0},{"$f":"Раздел2!J105","v":0},{"$f":"Раздел2!K105","v":0},{"$f":"Раздел2!L105","v":0}]
[null,"Бег на длинные и сверхдлинные дистанции","98",0,null,null,null,null,null,null,null,null,null,null,null,null,null,null,null,null,null,null,null,0,null,null,null,null,null,0,null,null,null,null,null,null,{"$f":"Раздел2!I106","v":0},{"$f":"Раздел2!J106","v":0},{"$f":"Раздел2!K106","v":0},{"$f":"Раздел2!L106","v":0}]
[null,"Многоборья","99",263,null,56,76,34,null,25,38,22,12,null,null,null,null,null,null,null,null,null,null,12,null,null,12,null,null,20,null,null,20,null,null,null,{"$f":"Раздел2!I107","v":166},{"$f":"Раздел2!J107","v":97},{"$f":"Раздел2!K107","v":0},{"$f":"Раздел2!L107","v":0}]
[null,"Прыжки","100",0,null,null,null,null,null,null,null,null,null,null,null,null,null,null,null,null,null,null,null,0,null,null,null,null,null,0,null,null,null,null,null,null,{"$f":"Раздел2!I108","v":0},{"$f":"Раздел2!J108","v":0},{"$f":"Раздел2!K108","v":0},{"$f":"Раздел2!L108","v":0}]
[null,"Метания","101",0,null,null,null,null,null,null,null,null,null,null,null,null,null,null,null,null,null,null,null,0,null,null,null,null,null,0,null,null,null,null,null,null,{"$f":"Раздел2!I109","v":0},{"$f":"Раздел2!J109","v":0},{"$f":"Раздел2!K109","v":0},{"$f":"Раздел2!L109","v":0}]
[null,"Спортивная ходьба","102",0,null,null,null,null,null,null,null,null,null,null,null,null,null,null,null,null,null,null,null,0,null,null,null,null,null,0,null,null,null,null,null,null,{"$f":"Раздел2!I110","v":0},{"$f":"Раздел2!J110","v":0},{"$f":"Раздел2!K110","v":0},{"$f":"Раздел2!L110","v":0}]
[null,"Лыжное двоеборье","103",0,null,null,null,null,null,null,null,null,null,null,null,null,null,null,null,null,null,null,null,0,null,null,null,null,null,0,null,null,null,null,null,null,{"$f":"Раздел2!I111","v":0},{"$f":"Раздел2!J111","v":0},{"$f":"Раздел2!K111","v":0},{"$f":"Раздел2!L111","v":0}]
[null,"Лыжные гонки","104",0,null,null,null,null,null,null,null,null,null,null,null,null,null,null,null,null,null,null,null,0,null,null,null,null,null,0,null,null,null,null,null,null,{"$f":"Раздел2!I112","v":0},{"$f":"Раздел2!J112","v":0},{"$f":"Раздел2!K112","v":0},{"$f":"Раздел2!L112","v":0}]
[null,"Мас-рестлинг","105",0,null,null,null,null,null,null,null,null,null,null,null,null,null,null,null,null,null,null,null,0,null,null,null,null,null,0,null,null,null,null,null,null,{"$f":"Раздел2!I113","v":0},{"$f":"Раздел2!J113","v":0},{"$f":"Раздел2!K113","v":0},{"$f":"Раздел2!L113","v":0}]
[null,"Международное военно-спортивное многоборье","106",0,null,null,null,null,null,null,null,null,null,null,null,null,null,null,null,null,null,null,null,0,null,null,null,null,null,0,null,null,null,null,null,null,{"$f":"Раздел2!I114","v":0},{"$f":"Раздел2!J114","v":0},{"$f":"Раздел2!K114","v":0},{"$f":"Раздел2!L114","v":0}]
[null,"Многоборье кинологов","107",0,null,null,null,null,null,null,null,null,null,null,null,null,null,null,null,null,null,null,null,0,null,null,null,null,null,0,null,null,null,null,null,null,{"$f":"Раздел2!I115","v":0},{"$f":"Раздел2!J115","v":0},{"$f":"Раздел2!K115","v":0},{"$f":"Раздел2!L115","v":0}]
[null,"Многоборье спасателей МЧС России","108",0,null,null,null,null,null,null,null,null,null,null,null,null,null,null,null,null,null,null,null,0,null,null,null,null,null,0,null,null,null,null,null,null,{"$f":"Раздел2!I116","v":0},{"$f":"Раздел2!J116","v":0},{"$f":"Раздел2!K116","v":0},{"$f":"Раздел2!L116","v":0}]
[null,"Морское многоборье","109",0,null,null,null,null,null,null,null,null,null,null,null,null,null,null,null,null,null,null,null,0,null,null,null,null,null,0,null,null,null,null,null,null,{"$f":"Раздел2!I117","v":0},{"$f":"Раздел2!J117","v":0},{"$f":"Раздел2!K117","v":0},{"$f":"Раздел2!L117","v":0}]
[null,"Мотоциклетный спорт","110",0,null,null,null,null,null,null,null,null,null,null,null,null,null,null,null,null,null,null,null,0,null,null,null,null,null,0,null,null,null,null,null,null,{"$f":"Раздел2!I118","v":0},{"$f":"Раздел2!J118","v":0},{"$f":"Раздел2!K118","v":0},{"$f":"Раздел2!L118","v":0}]
[null,"Настольный теннис","111",0,null,null,null,null,null,null,null,null,null,null,null,null,null,null,null,null,null,null,null,0,null,null,null,null,null,0,null,null,null,null,null,null,{"$f":"Раздел2!I119","v":0},{"$f":"Раздел2!J119","v":0},{"$f":"Раздел2!K119","v":0},{"$f":"Раздел2!L119","v":0}]
[null,"Падел","112",0,null,null,null,null,null,null,null,null,null,null,null,null,null,null,null,null,null,null,null,0,null,null,null,null,null,0,null,null,null,null,null,null,{"$f":"Раздел2!I120","v":0},{"$f":"Раздел2!J120","v":0},{"$f":"Раздел2!K120","v":0},{"$f":"Раздел2!L120","v":0}]
[null,"Парашютный спорт","113",0,null,null,null,null,null,null,null,null,null,null,null,null,null,null,null,null,null,null,null,0,null,null,null,null,null,0,null,null,null,null,null,null,{"$f":"Раздел2!I121","v":0},{"$f":"Раздел2!J121","v":0},{"$f":"Раздел2!K121","v":0},{"$f":"Раздел2!L121","v":0}]
[null,"Парусный спорт","114",0,null,null,null,null,null,null,null,null,null,null,null,null,null,null,null,null,null,null,null,0,null,null,null,null,null,0,null,null,null,null,null,null,{"$f":"Раздел2!I122","v":0},{"$f":"Раздел2!J122","v":0},{"$f":"Раздел2!K122","v":0},{"$f":"Раздел2!L122","v":0}]
[null,"Пауэрлифтинг","115",0,null,null,null,null,null,null,null,null,null,null,null,null,null,null,null,null,null,null,null,0,null,null,null,null,null,0,null,null,null,null,null,null,{"$f":"Раздел2!I123","v":0},{"$f":"Раздел2!J123","v":0},{"$f":"Раздел2!K123","v":0},{"$f":"Раздел2!L123","v":0}]
[null,"Перетягивание каната","116",0,null,null,null,null,null,null,null,null,null,null,null,null,null,null,null,null,null,null,null,0,null,null,null,null,null,0,null,null,null,null,null,null,{"$f":"Раздел2!I124","v":0},{"$f":"Раздел2!J124","v":0},{"$f":"Раздел2!K124","v":0},{"$f":"Раздел2!L124","v":0}]
[null,"Плавание - всего","117",86,{"$f":"SUM(E125:E126)","v":0},{"$f":"SUM(F125:F126)","v":16},0,33,0,15,12,0,10,0,0,0,0,0,0,0,0,0,0,1,0,0,1,0,0,12,0,8,4,0,0,null,{"$f":"Раздел2!I125","v":49},{"$f":"Раздел2!J125","v":37},{"$f":"Раздел2!K125","v":0},{"$f":"Раздел2!L125","v":0}]
[null,"в том числе:\nПлавание ","118",86,null,16,null,33,null,15,12,null,10,null,null,null,null,null,null,null,null,null,null,1,null,null,1,null,null,12,null,8,4,null,null,null,{"$f":"Раздел2!I126","v":49},{"$f":"Раздел2!J126","v":37},{"$f":"Раздел2!K126","v":0},{"$f":"Раздел2!L126","v":0}]
[null,"Открытая вода","119",0,null,null,null,null,null,null,null,null,null,null,null,null,null,null,null,null,null,null,null,0,null,null,null,null,null,0,null,null,null,null,null,null,{"$f":"Раздел2!I127","v":0},{"$f":"Раздел2!J127","v":0},{"$f":"Раздел2!K127","v":0},{"$f":"Раздел2!L127","v":0},{"$f":"Раздел2!J137","v":0},{"$f":"Раздел2!K137","v":0},{"$f":"Раздел2!L137","v":0}]
[null,"Планерный спорт","120",0,null,null,null,null,null,null,null,null,null,null,null,null,null,null,null,null,null,null,null,0,null,null,null,null,null,0,null,null,null,null,null,null,{"$f":"Раздел2!I128","v":0},{"$f":"Раздел2!J128","v":0},{"$f":"Раздел2!K128","v":0},{"$f":"Раздел2!L128","v":0},{"$f":"Раздел2!J138","v":0},{"$f":"Раздел2!K138","v":0},{"$f":"Раздел2!L138","v":0}]
[null,"Подводный спорт","121",0,null,null,null,null,null,null,null,null,null,null,null,null,null,null,null,null,null,null,null,0,null,null,null,null,null,0,null,null,null,null,null,null,{"$f":"Раздел2!I129","v":0},{"$f":"Раздел2!J129","v":0},{"$f":"Раздел2!K129","v":0},{"$f":"Раздел2!L129","v":0},{"$f":"Раздел2!J139","v":0},{"$f":"Раздел2!K139","v":0},{"$f":"Раздел2!L139","v":0}]
[null,"Пожарно-спасательный спорт","122",0,null,null,null,null,null,null,null,null,null,null,null,null,null,null,null,null,null,null,null,0,null,null,null,null,null,0,null,null,null,null,null,null,{"$f":"Раздел2!I130","v":0},{"$f":"Раздел2!J130","v":0},{"$f":"Раздел2!K130","v":0},{"$f":"Раздел2!L130","v":0},{"$f":"Раздел2!J140","v":0},{"$f":"Раздел2!K140","v":0},{"$f":"Раздел2!L140","v":0}]
[null,"Полиатлон","123",0,null,null,null,null,null,null,null,null,null,null,null,null,null,null,null,null,null,null,null,0,null,null,null,null,null,0,null,null,null,null,null,null,{"$f":"Раздел2!I131","v":0},{"$f":"Раздел2!J131","v":0},{"$f":"Раздел2!K131","v":0},{"$f":"Раздел2!L131","v":0},{"$f":"Раздел2!J141","v":0},{"$f":"Раздел2!K141","v":0},{"$f":"Раздел2!L141","v":0}]
[null,"Практическая стрельба","124",0,null,null,null,null,null,null,null,null,null,null,null,null,null,null,null,null,null,null,null,0,null,null,null,null,null,0,null,null,null,null,null,null,{"$f":"Раздел2!I132","v":0},{"$f":"Раздел2!J132","v":0},{"$f":"Раздел2!K132","v":0},{"$f":"Раздел2!L132","v":0},{"$f":"Раздел2!J142","v":0},{"$f":"Раздел2!K142","v":0},{"$f":"Раздел2!L142","v":0}]
[null,"Прыжки в воду - всего","125",0,{"$f":"SUM(E133:E134)","v":0},{"$f":"SUM(F133:F134)","v":0},0,0,0,0,0,0,0,0,0,0,0,0,0,0,0,0,0,0,0,0,0,0,0,0,0,0,0,0,0,null,{"$f":"Раздел2!I133","v":0},{"$f":"Раздел2!J133","v":0},{"$f":"Раздел2!K133","v":0},{"$f":"Раздел2!L133","v":0},{"$f":"Раздел2!J143","v":0},{"$f":"Раздел2!K143","v":0},{"$f":"Раздел2!L143","v":0}]
[null,"в том числе:\nПрыжки в воду","126",0,null,null,null,null,null,null,null,null,null,null,null,null,null,null,null,null,null,null,null,0,null,null,null,null,null,0,null,null,null,null,null,null,{"$f":"Раздел2!I134","v":0},{"$f":"Раздел2!J134","v":0},{"$f":"Раздел2!K134","v":0},{"$f":"Раздел2!L134","v":0},{"$f":"Раздел2!J144","v":0},{"$f":"Раздел2!K144","v":0},{"$f":"Раздел2!L144","v":0}]
[null,"Прыжки в открытый водоем","127",0,null,null,null,null,null,null,null,null,null,null,null,null,null,null,null,null,null,null,null,0,null,null,null,null,null,0,null,null,null,null,null,null,{"$f":"Раздел2!I135","v":0},{"$f":"Раздел2!J135","v":0},{"$f":"Раздел2!K135","v":0},{"$f":"Раздел2!L135","v":0},{"$f":"Раздел2!J145","v":0},{"$f":"Раздел2!K145","v":0},{"$f":"Раздел2!L145","v":0}]
[null,"Прыжки на батуте - всего","128",0,{"$f":"SUM(E136:E139)","v":0},{"$f":"SUM(F136:F139)","v":0},0,0,0,0,0,0,0,0,0,0,0,0,0,0,0,0,0,0,0,0,0,0,0,0,0,0,0,0,0,null,{"$f":"Раздел2!I136","v":0},{"$f":"Раздел2!J136","v":0},{"$f":"Раздел2!K136","v":0},{"$f":"Раздел2!L136","v":0},{"$f":"Раздел2!J146","v":0},{"$f":"Раздел2!K146","v":0},{"$f":"Раздел2!L146","v":0}]
[null,"в том числе:\nАкробатическая дорожка","129",0,null,null,null,null,null,null,null,null,null,null,null,null,null,null,null,null,null,null,null,0,null,null,null,null,null,0,null,null,null,null,null,null,{"$f":"Раздел2!I137","v":0},{"$f":"Раздел2!J137","v":0},{"$f":"Раздел2!K137","v":0},{"$f":"Раздел2!L137","v":0},{"$f":"Раздел2!J147","v":0},{"$f":"Раздел2!K147","v":0},{"$f":"Раздел2!L147","v":0}]
[null,"Двойной минитрамп","130",{"$f":"SUM(E137:W137)","v":0},null,null,null,null,null,null,null,null,null,null,null,null,null,null,null,null,null,null,null,{"$f":"SUM(Y137:AC137)","v":0},null,null,null,null,null,{"$f":"SUM(AE137:AI137)","v":0},null,null,null,null,null,null,{"$f":"Раздел2!I138","v":0},{"$f":"Раздел2!J138","v":0},{"$f":"Раздел2!K138","v":0},{"$f":"Раздел2!L138","v":0},{"$f":"Раздел2!J148","v":0},{"$f":"Раздел2!K148","v":0},{"$f":"Раздел2!L148","v":0}]
[null,"Индивидуальные прыжки","131",0,null,null,null,null,null,null,null,null,null,null,null,null,null,null,null,null,null,null,null,0,null,null,null,null,null,0,null,null,null,null,null,null,{"$f":"Раздел2!I139","v":0},{"$f":"Раздел2!J139","v":0},{"$f":"Раздел2!K139","v":0},{"$f":"Раздел2!L139","v":0},{"$f":"Раздел2!J149","v":0},{"$f":"Раздел2!K149","v":0},{"$f":"Раздел2!L149","v":0}]
[null,"Синхронные прыжки","132",0,null,null,null,null,null,null,null,null,null,null,null,null,null,null,null,null,null,null,null,0,null,null,null,null,null,0,null,null,null,null,null,null,{"$f":"Раздел2!I140","v":0},{"$f":"Раздел2!J140","v":0},{"$f":"Раздел2!K140","v":0},{"$f":"Раздел2!L140","v":0},{"$f":"Раздел2!J150","v":0},{"$f":"Раздел2!K150","v":0},{"$f":"Раздел2!L150","v":0}]
[null,"Прыжки на лыжах с трамплина","133",0,null,null,null,null,null,null,null,null,null,null,null,null,null,null,null,null,null,null,null,0,null,null,null,null,null,0,null,null,null,null,null,null,{"$f":"Раздел2!I141","v":0},{"$f":"Раздел2!J141","v":0},{"$f":"Раздел2!K141","v":0},{"$f":"Раздел2!L141","v":0},{"$f":"Раздел2!J151","v":0},{"$f":"Раздел2!K151","v":0},{"$f":"Раздел2!L151","v":0}]
[null,"Пулевая стрельба - всего","134",0,{"$f":"SUM(E142:E146)","v":0},{"$f":"SUM(F142:F146)","v":0},0,0,0,0,0,0,0,0,0,0,0,0,0,0,0,0,0,0,0,0,0,0,0,0,0,0,0,0,0,null,{"$f":"Раздел2!I142","v":0},{"$f":"Раздел2!J142","v":0},{"$f":"Раздел2!K142","v":0},{"$f":"Раздел2!L142","v":0},{"$f":"Раздел2!J152","v":0},{"$f":"Раздел2!K152","v":0},{"$f":"Раздел2!L152","v":0}]
[null,"в том числе:\nПневматическая винтовка","135",0,null,null,null,null,null,null,null,null,null,null,null,null,null,null,null,null,null,null,null,0,null,null,null,null,null,0,null,null,null,null,null,null,{"$f":"Раздел2!I143","v":0},{"$f":"Раздел2!J143","v":0},{"$f":"Раздел2!K143","v":0},{"$f":"Раздел2!L143","v":0},{"$f":"Раздел2!J153","v":0},{"$f":"Раздел2!K153","v":0},{"$f":"Раздел2!L153","v":0}]
[null,"Пневматический пистолет","136",0,null,null,null,null,null,null,null,null,null,null,null,null,null,null,null,null,null,null,null,0,null,null,null,null,null,0,null,null,null,null,null,null,{"$f":"Раздел2!I144","v":0},{"$f":"Раздел2!J144","v":0},{"$f":"Раздел2!K144","v":0},{"$f":"Раздел2!L144","v":0},{"$f":"Раздел2!J154","v":0},{"$f":"Раздел2!K154","v":0},{"$f":"Раздел2!L154","v":0}]
[null,"Малокалиберная винтовка","137",0,null,null,null,null,null,null,null,null,null,null,null,null,null,null,null,null,null,null,null,0,null,null,null,null,null,0,null,null,null,null,null,null,{"$f":"Раздел2!I145","v":0},{"$f":"Раздел2!J145","v":0},{"$f":"Раздел2!K145","v":0},{"$f":"Раздел2!L145","v":0},{"$f":"Раздел2!J155","v":0},{"$f":"Раздел2!K155","v":0},{"$f":"Раздел2!L155","v":0}]
[null,"Малокалиберный пистолет","138",0,null,null,null,null,null,null,null,null,null,null,null,null,null,null,null,null,null,null,null,0,null,null,null,null,null,0,null,null,null,null,null,null,{"$f":"Раздел2!I146","v":0},{"$f":"Раздел2!J146","v":0},{"$f":"Раздел2!K146","v":0},{"$f":"Раздел2!L146","v":0},{"$f":"Раздел2!J156","v":0},{"$f":"Раздел2!K156","v":0},{"$f":"Раздел2!L156","v":0}]
[null,"Движущаяся мишень","139",0,null,null,null,null,null,null,null,null,null,null,null,null,null,null,null,null,null,null,null,0,null,null,null,null,null,0,null,null,null,null,null,null,{"$f":"Раздел2!I147","v":0},{"$f":"Раздел2!J147","v":0},{"$f":"Раздел2!K147","v":0},{"$f":"Раздел2!L147","v":0},{"$f":"Раздел2!J157","v":0},{"$f":"Раздел2!K157","v":0},{"$f":"Раздел2!L157","v":0}]
[null,"Пэйнтбол","140",0,null,null,null,null,null,null,null,null,null,null,null,null,null,null,null,null,null,null,null,0,null,null,null,null,null,0,null,null,null,null,null,null,{"$f":"Раздел2!I148","v":0},{"$f":"Раздел2!J148","v":0},{"$f":"Раздел2!K148","v":0},{"$f":"Раздел2!L148","v":0},{"$f":"Раздел2!J159","v":0},{"$f":"Раздел2!K159","v":0},{"$f":"Раздел2!L159","v":0}]
[null,"Радиоспорт","141",0,null,null,null,null,null,null,null,null,null,null,null,null,null,null,null,null,null,null,null,0,null,null,null,null,null,0,null,null,null,null,null,null,{"$f":"Раздел2!I149","v":0},{"$f":"Раздел2!J149","v":0},{"$f":"Раздел2!K149","v":0},{"$f":"Раздел2!L149","v":0},{"$f":"Раздел2!J160","v":0},{"$f":"Раздел2!K160","v":0},{"$f":"Раздел2!L160","v":0}]
[null,"Рафтинг","142",0,null,null,null,null,null,null,null,null,null,null,null,null,null,null,null,null,null,null,null,0,null,null,null,null,null,0,null,null,null,null,null,null,{"$f":"Раздел2!I150","v":0},{"$f":"Раздел2!J150","v":0},{"$f":"Раздел2!K150","v":0},{"$f":"Раздел2!L150","v":0},{"$f":"Раздел2!J161","v":0},{"$f":"Раздел2!K161","v":0},{"$f":"Раздел2!L161","v":0}]
[null,"Регби - всего","143",0,{"$f":"SUM(E151:E154)","v":0},{"$f":"SUM(F151:F154)","v":0},0,0,0,0,0,0,0,0,0,0,0,0,0,0,0,0,0,0,0,0,0,0,0,0,0,0,0,0,0,null,{"$f":"Раздел2!I151","v":0},{"$f":"Раздел2!J151","v":0},{"$f":"Раздел2!K151","v":0},{"$f":"Раздел2!L151","v":0},{"$f":"Раздел2!J162","v":0},{"$f":"Раздел2!K162","v":0},{"$f":"Раздел2!L162","v":0}]
[null,"в том числе:\nРегби","144",0,null,null,null,null,null,null,null,null,null,null,null,null,null,null,null,null,null,null,null,0,null,null,null,null,null,0,null,null,null,null,null,null,{"$f":"Раздел2!I152","v":0},{"$f":"Раздел2!J152","v":0},{"$f":"Раздел2!K152","v":0},{"$f":"Раздел2!L152","v":0},{"$f":"Раздел2!J163","v":0},{"$f":"Раздел2!K163","v":0},{"$f":"Раздел2!L163","v":0}]
[null,"Регби 7 (муж.)","145",0,null,null,null,null,null,null,null,null,null,null,null,null,null,null,null,null,null,null,null,0,null,null,null,null,null,0,null,null,null,null,null,null,{"$f":"Раздел2!I153","v":0},{"$f":"Раздел2!J153","v":0},{"$f":"Раздел2!K153","v":0},{"$f":"Раздел2!L153","v":0},{"$f":"Раздел2!J164","v":0},{"$f":"Раздел2!K164","v":0},{"$f":"Раздел2!L164","v":0}]
[null,"Регби 7 (жен.)","146",0,null,null,null,null,null,null,null,null,null,null,null,null,null,null,null,null,null,null,null,0,null,null,null,null,null,0,null,null,null,null,null,null,{"$f":"Раздел2!I154","v":0},{"$f":"Раздел2!J154","v":0},{"$f":"Раздел2!K154","v":0},{"$f":"Раздел2!L154","v":0},{"$f":"Раздел2!J165","v":0},{"$f":"Раздел2!K165","v":0},{"$f":"Раздел2!L165","v":0}]
[null,"Регби - пляжное","147",0,null,null,null,null,null,null,null,null,null,null,null,null,null,null,null,null,null,null,null,0,null,null,null,null,null,0,null,null,null,null,null,null,{"$f":"Раздел2!I155","v":0},{"$f":"Раздел2!J155","v":0},{"$f":"Раздел2!K155","v":0},{"$f":"Раздел2!L155","v":0},{"$f":"Раздел2!J166","v":0},{"$f":"Раздел2!K166","v":0},{"$f":"Раздел2!L166","v":0}]
[null,"Регбол","148",0,null,null,null,null,null,null,null,null,null,null,null,null,null,null,null,null,null,null,null,0,null,null,null,null,null,0,null,null,null,null,null,null,{"$f":"Раздел2!I156","v":0},{"$f":"Раздел2!J156","v":0},{"$f":"Раздел2!K156","v":0},{"$f":"Раздел2!L156","v":0},{"$f":"Раздел2!J167","v":0},{"$f":"Раздел2!K167","v":0},{"$f":"Раздел2!L167","v":0}]
[null,"Роллер спорт","149",0,null,null,null,null,null,null,null,null,null,null,null,null,null,null,null,null,null,null,null,0,null,null,null,null,null,0,null,null,null,null,null,null,{"$f":"Раздел2!I157","v":0},{"$f":"Раздел2!J157","v":0},{"$f":"Раздел2!K157","v":0},{"$f":"Раздел2!L157","v":0},{"$f":"Раздел2!J168","v":0},{"$f":"Раздел2!K168","v":0},{"$f":"Раздел2!L168","v":0}]
[null,"Роуп скиппинг (спортивная скакалка)","150",0,null,null,null,null,null,null,null,null,null,null,null,null,null,null,null,null,null,null,null,0,null,null,null,null,null,0,null,null,null,null,null,null,{"$f":"Раздел2!I158","v":0},{"$f":"Раздел2!J158","v":0},{"$f":"Раздел2!K158","v":0},{"$f":"Раздел2!L158","v":0},{"$f":"Раздел2!J169","v":0},{"$f":"Раздел2!K169","v":0},{"$f":"Раздел2!L169","v":0}]
[null,"Рукопашный бой","151",0,null,null,null,null,null,null,null,null,null,null,null,null,null,null,null,null,null,null,null,0,null,null,null,null,null,0,null,null,null,null,null,null,{"$f":"Раздел2!I159","v":0},{"$f":"Раздел2!J159","v":0},{"$f":"Раздел2!K159","v":0},{"$f":"Раздел2!L159","v":0},{"$f":"Раздел2!J170","v":0},{"$f":"Раздел2!K170","v":0},{"$f":"Раздел2!L170","v":0}]
[null,"Рыболовный спорт","152",0,null,null,null,null,null,null,null,null,null,null,null,null,null,null,null,null,null,null,null,0,null,null,null,null,null,0,null,null,null,null,null,null,{"$f":"Раздел2!I160","v":0},{"$f":"Раздел2!J160","v":0},{"$f":"Раздел2!K160","v":0},{"$f":"Раздел2!L160","v":0},{"$f":"Раздел2!J172","v":0},{"$f":"Раздел2!K172","v":0},{"$f":"Раздел2!L172","v":0}]
[null,"Сават","153",0,null,null,null,null,null,null,null,null,null,null,null,null,null,null,null,null,null,null,null,0,null,null,null,null,null,0,null,null,null,null,null,null,{"$f":"Раздел2!I161","v":0},{"$f":"Раздел2!J161","v":0},{"$f":"Раздел2!K161","v":0},{"$f":"Раздел2!L161","v":0},{"$f":"Раздел2!J173","v":0},{"$f":"Раздел2!K173","v":0},{"$f":"Раздел2!L173","v":0}]
[null,"Самбо","154",0,null,null,null,null,null,null,null,null,null,null,null,null,null,null,null,null,null,null,null,0,null,null,null,null,null,0,null,null,null,null,null,null,{"$f":"Раздел2!I162","v":0},{"$f":"Раздел2!J162","v":0},{"$f":"Раздел2!K162","v":0},{"$f":"Раздел2!L162","v":0},{"$f":"Раздел2!J174","v":0},{"$f":"Раздел2!K174","v":0},{"$f":"Раздел2!L174","v":0}]
[null,"Самолетный спорт","155",0,null,null,null,null,null,null,null,null,null,null,null,null,null,null,null,null,null,null,null,0,null,null,null,null,null,0,null,null,null,null,null,null,{"$f":"Раздел2!I163","v":0},{"$f":"Раздел2!J163","v":0},{"$f":"Раздел2!K163","v":0},{"$f":"Раздел2!L163","v":0},{"$f":"Раздел2!J175","v":0},{"$f":"Раздел2!K175","v":0},{"$f":"Раздел2!L175","v":0}]
[null,"Санный спорт","156",0,null,null,null,null,null,null,null,null,null,null,null,null,null,null,null,null,null,null,null,0,null,null,null,null,null,0,null,null,null,null,null,null,{"$f":"Раздел2!I164","v":0},{"$f":"Раздел2!J164","v":0},{"$f":"Раздел2!K164","v":0},{"$f":"Раздел2!L164","v":0},{"$f":"Раздел2!J176","v":0},{"$f":"Раздел2!K176","v":0},{"$f":"Раздел2!L176","v":0}]
[null,"Северное многоборье","157",0,null,null,null,null,null,null,null,null,null,null,null,null,null,null,null,null,null,null,null,0,null,null,null,null,null,0,null,null,null,null,null,null,{"$f":"Раздел2!I165","v":0},{"$f":"Раздел2!J165","v":0},{"$f":"Раздел2!K165","v":0},{"$f":"Раздел2!L165","v":0},{"$f":"Раздел2!J177","v":0},{"$f":"Раздел2!K177","v":0},{"$f":"Раздел2!L177","v":0}]
[null,"Серфинг","158",0,null,null,null,null,null,null,null,null,null,null,null,null,null,null,null,null,null,null,null,0,null,null,null,null,null,0,null,null,null,null,null,null,{"$f":"Раздел2!I166","v":0},{"$f":"Раздел2!J166","v":0},{"$f":"Раздел2!K166","v":0},{"$f":"Раздел2!L166","v":0},{"$f":"Раздел2!J178","v":0},{"$f":"Раздел2!K178","v":0},{"$f":"Раздел2!L178","v":0}]
[null,"Синхронное плавание","159",0,null,null,null,null,null,null,null,null,null,null,null,null,null,null,null,null,null,null,null,0,null,null,null,null,null,0,null,null,null,null,null,null,{"$f":"Раздел2!I167","v":0},{"$f":"Раздел2!J167","v":0},{"$f":"Раздел2!K167","v":0},{"$f":"Раздел2!L167","v":0}]
[null,"Скалолазание","160",0,null,null,null,null,null,null,null,null,null,null,null,null,null,null,null,null,null,null,null,0,null,null,null,null,null,0,null,null,null,null,null,null,{"$f":"Раздел2!I168","v":0},{"$f":"Раздел2!J168","v":0},{"$f":"Раздел2!K168","v":0},{"$f":"Раздел2!L168","v":0},{"$f":"Раздел2!J179","v":0},{"$f":"Раздел2!K179","v":0},{"$f":"Раздел2!L179","v":0}]
[null,"Сквош","161",0,null,null,null,null,null,null,null,null,null,null,null,null,null,null,null,null,null,null,null,0,null,null,null,null,null,0,null,null,null,null,null,null,{"$f":"Раздел2!I169","v":0},{"$f":"Раздел2!J169","v":0},{"$f":"Раздел2!K169","v":0},{"$f":"Раздел2!L169","v":0},{"$f":"Раздел2!J180","v":0},{"$f":"Раздел2!K180","v":0},{"$f":"Раздел2!L180","v":0}]
[null,"Скейтбординг","162",0,null,null,null,null,null,null,null,null,null,null,null,null,null,null,null,null,null,null,null,0,null,null,null,null,null,0,null,null,null,null,null,null,{"$f":"Раздел2!I170","v":0},{"$f":"Раздел2!J170","v":0},{"$f":"Раздел2!K170","v":0},{"$f":"Раздел2!L170","v":0},{"$f":"Раздел2!J181","v":0},{"$f":"Раздел2!K181","v":0},{"$f":"Раздел2!L181","v":0}]
[null,"Служебно-боевая стрельба ","163",0,null,null,null,null,null,null,null,null,null,null,null,null,null,null,null,null,null,null,null,0,null,null,null,null,null,0,null,null,null,null,null,null,{"$f":"Раздел2!I171","v":0},{"$f":"Раздел2!J171","v":0},{"$f":"Раздел2!K171","v":0},{"$f":"Раздел2!L171","v":0},{"$f":"Раздел2!J182","v":0},{"$f":"Раздел2!K182","v":0},{"$f":"Раздел2!L182","v":0}]
[null,"Служебно-прикладной спорт","164",0,null,null,null,null,null,null,null,null,null,null,null,null,null,null,null,null,null,null,null,0,null,null,null,null,null,0,null,null,null,null,null,null,{"$f":"Раздел2!I172","v":0},{"$f":"Раздел2!J172","v":0},{"$f":"Раздел2!K172","v":0},{"$f":"Раздел2!L172","v":0},{"$f":"Раздел2!J183","v":0},{"$f":"Раздел2!K183","v":0},{"$f":"Раздел2!L183","v":0}]
[null,"Служебно-прикладной спорт ФСО России","165",0,null,null,null,null,null,null,null,null,null,null,null,null,null,null,null,null,null,null,null,0,null,null,null,null,null,0,null,null,null,null,null,null,{"$f":"Раздел2!I173","v":0},{"$f":"Раздел2!J173","v":0},{"$f":"Раздел2!K173","v":0},{"$f":"Раздел2!L173","v":0},{"$f":"Раздел2!J184","v":0},{"$f":"Раздел2!K184","v":0},{"$f":"Раздел2!L184","v":0}]
[null,"Служебно-прикладной спорт ФТС России","166",0,null,null,null,null,null,null,null,null,null,null,null,null,null,null,null,null,null,null,null,0,null,null,null,null,null,0,null,null,null,null,null,null,{"$f":"Раздел2!I174","v":0},{"$f":"Раздел2!J174","v":0},{"$f":"Раздел2!K174","v":0},{"$f":"Раздел2!L174","v":0},{"$f":"Раздел2!J185","v":0},{"$f":"Раздел2!K185","v":0},{"$f":"Раздел2!L185","v":0}]
[null,"Служебное двоеборье","167",0,null,null,null,null,null,null,null,null,null,null,null,null,null,null,null,null,null,null,null,0,null,null,null,null,null,0,null,null,null,null,null,null,{"$f":"Раздел2!I175","v":0},{"$f":"Раздел2!J175","v":0},{"$f":"Раздел2!K175","v":0},{"$f":"Раздел2!L175","v":0},{"$f":"Раздел2!J186","v":0},{"$f":"Раздел2!K186","v":0},{"$f":"Раздел2!L186","v":0}]
[null,"Служебное единоборство","168",0,null,null,null,null,null,null,null,null,null,null,null,null,null,null,null,null,null,null,null,0,null,null,null,null,null,0,null,null,null,null,null,null,{"$f":"Раздел2!I176","v":0},{"$f":"Раздел2!J176","v":0},{"$f":"Раздел2!K176","v":0},{"$f":"Раздел2!L176","v":0},{"$f":"Раздел2!J187","v":0},{"$f":"Раздел2!K187","v":0},{"$f":"Раздел2!L187","v":0}]
[null,"Служебное многоборье","169",0,null,null,null,null,null,null,null,null,null,null,null,null,null,null,null,null,null,null,null,0,null,null,null,null,null,0,null,null,null,null,null,null,{"$f":"Раздел2!I177","v":0},{"$f":"Раздел2!J177","v":0},{"$f":"Раздел2!K177","v":0},{"$f":"Раздел2!L177","v":0},{"$f":"Раздел2!J188","v":0},{"$f":"Раздел2!K188","v":0},{"$f":"Раздел2!L188","v":0}]
[null,"Служебный биатлон","170",0,null,null,null,null,null,null,null,null,null,null,null,null,null,null,null,null,null,null,null,0,null,null,null,null,null,0,null,null,null,null,null,null,{"$f":"Раздел2!I178","v":0},{"$f":"Раздел2!J178","v":0},{"$f":"Раздел2!K178","v":0},{"$f":"Раздел2!L178","v":0},{"$f":"Раздел2!J189","v":49},{"$f":"Раздел2!K189","v":0},{"$f":"Раздел2!L189","v":0}]
[null,"Спасательный спорт","171",0,null,null,null,null,null,null,null,null,null,null,null,null,null,null,null,null,null,null,null,0,null,null,null,null,null,0,null,null,null,null,null,null,{"$f":"Раздел2!I179","v":0},{"$f":"Раздел2!J179","v":0},{"$f":"Раздел2!K179","v":0},{"$f":"Раздел2!L179","v":0},{"$f":"Раздел2!J190","v":0},{"$f":"Раздел2!K190","v":0},{"$f":"Раздел2!L190","v":0}]
[null,"Стрельба из боевого ручного стрелкового оружия","172",0,null,null,null,null,null,null,null,null,null,null,null,null,null,null,null,null,null,null,null,0,null,null,null,null,null,0,null,null,null,null,null,null,{"$f":"Раздел2!I180","v":0},{"$f":"Раздел2!J180","v":0},{"$f":"Раздел2!K180","v":0},{"$f":"Раздел2!L180","v":0},{"$f":"Раздел2!J191","v":49},{"$f":"Раздел2!K191","v":0},{"$f":"Раздел2!L191","v":0}]
[null,"Стрельба из штатного или табельного оружия","173",0,null,null,null,null,null,null,null,null,null,null,null,null,null,null,null,null,null,null,null,0,null,null,null,null,null,0,null,null,null,null,null,null,{"$f":"Раздел2!I181","v":0},{"$f":"Раздел2!J181","v":0},{"$f":"Раздел2!K181","v":0},{"$f":"Раздел2!L181","v":0},{"$f":"Раздел2!J192","v":0},{"$f":"Раздел2!K192","v":0},{"$f":"Раздел2!L192","v":0}]
[null,"Смешанное боевое единоборство (ММА)","174",0,null,null,null,null,null,null,null,null,null,null,null,null,null,null,null,null,null,null,null,0,null,null,null,null,null,0,null,null,null,null,null,null,{"$f":"Раздел2!I182","v":0},{"$f":"Раздел2!J182","v":0},{"$f":"Раздел2!K182","v":0},{"$f":"Раздел2!L182","v":0},{"$f":"Раздел2!J193","v":0},{"$f":"Раздел2!K193","v":0},{"$f":"Раздел2!L193","v":0}]
[null,"Сноуборд","175",0,null,null,null,null,null,null,null,null,null,null,null,null,null,null,null,null,null,null,null,0,null,null,null,null,null,0,null,null,null,null,null,null,{"$f":"Раздел2!I183","v":0},{"$f":"Раздел2!J183","v":0},{"$f":"Раздел2!K183","v":0},{"$f":"Раздел2!L183","v":0},{"$f":"Раздел2!J194","v":0},{"$f":"Раздел2!K194","v":0},{"$f":"Раздел2!L194","v":0}]
[null,"Современное пятиборье","176",0,null,null,null,null,null,null,null,null,null,null,null,null,null,null,null,null,null,null,null,0,null,null,null,null,null,0,null,null,null,null,null,null,{"$f":"Раздел2!I184","v":0},{"$f":"Раздел2!J184","v":0},{"$f":"Раздел2!K184","v":0},{"$f":"Раздел2!L184","v":0},{"$f":"Раздел2!J195","v":0},{"$f":"Раздел2!K195","v":0},{"$f":"Раздел2!L195","v":0}]
[null,"Софтбол","177",0,null,null,null,null,null,null,null,null,null,null,null,null,null,null,null,null,null,null,null,0,null,null,null,null,null,0,null,null,null,null,null,null,{"$f":"Раздел2!I185","v":0},{"$f":"Раздел2!J185","v":0},{"$f":"Раздел2!K185","v":0},{"$f":"Раздел2!L185","v":0},{"$f":"Раздел2!J196","v":0},{"$f":"Раздел2!K196","v":0},{"$f":"Раздел2!L196","v":0}]
[null,"Спорт сверхлегкой авиации","178",0,null,null,null,null,null,null,null,null,null,null,null,null,null,null,null,null,null,null,null,0,null,null,null,null,null,0,null,null,null,null,null,null,{"$f":"Раздел2!I186","v":0},{"$f":"Раздел2!J186","v":0},{"$f":"Раздел2!K186","v":0},{"$f":"Раздел2!L186","v":0},{"$f":"Раздел2!J197","v":0},{"$f":"Раздел2!K197","v":0},{"$f":"Раздел2!L197","v":0}]
[null,"Спортивная акробатика","179",0,null,null,null,null,null,null,null,null,null,null,null,null,null,null,null,null,null,null,null,0,null,null,null,null,null,0,null,null,null,null,null,null,{"$f":"Раздел2!I187","v":0},{"$f":"Раздел2!J187","v":0},{"$f":"Раздел2!K187","v":0},{"$f":"Раздел2!L187","v":0},{"$f":"Раздел2!J199","v":0},{"$f":"Раздел2!K199","v":0},{"$f":"Раздел2!L199","v":0}]
[null,"Спортивная аэробика","180",0,null,null,null,null,null,null,null,null,null,null,null,null,null,null,null,null,null,null,null,0,null,null,null,null,null,0,null,null,null,null,null,null,{"$f":"Раздел2!I188","v":0},{"$f":"Раздел2!J188","v":0},{"$f":"Раздел2!K188","v":0},{"$f":"Раздел2!L188","v":0},{"$f":"Раздел2!J200","v":0},{"$f":"Раздел2!K200","v":0},{"$f":"Раздел2!L200","v":0}]
[null,"Спортивная борьба - всего","181",109,{"$f":"SUM(E189:E193)","v":0},{"$f":"SUM(F189:F193)","v":0},26,34,0,18,10,21,0,0,0,0,0,0,0,0,0,0,0,22,0,9,13,0,0,26,0,10,16,0,0,null,{"$f":"Раздел2!I189","v":60},{"$f":"Раздел2!J189","v":49},{"$f":"Раздел2!K189","v":0},{"$f":"Раздел2!L189","v":0},{"$f":"Раздел2!J201","v":0},{"$f":"Раздел2!K201","v":0},{"$f":"Раздел2!L201","v":0}]
[null,"в том числе:\nВольная борьба","182",0,null,null,null,null,null,null,null,null,null,null,null,null,null,null,null,null,null,null,null,0,null,null,null,null,null,0,null,null,null,null,null,null,{"$f":"Раздел2!I190","v":0},{"$f":"Раздел2!J190","v":0},{"$f":"Раздел2!K190","v":0},{"$f":"Раздел2!L190","v":0},{"$f":"Раздел2!J202","v":0},{"$f":"Раздел2!K202","v":0},{"$f":"Раздел2!L202","v":0}]
[null,"Греко-римская борьба","183",109,null,null,26,34,null,18,10,21,null,null,null,null,null,null,null,null,null,null,null,22,null,9,13,null,null,26,null,10,16,null,null,null,{"$f":"Раздел2!I191","v":60},{"$f":"Раздел2!J191","v":49},{"$f":"Раздел2!K191","v":0},{"$f":"Раздел2!L191","v":0},{"$f":"Раздел2!J203","v":0},{"$f":"Раздел2!K203","v":0},{"$f":"Раздел2!L203","v":0}]
[null,"Грэпплинг","184",0,null,null,null,null,null,null,null,null,null,null,null,null,null,null,null,null,null,null,null,0,null,null,null,null,null,0,null,null,null,null,null,null,{"$f":"Раздел2!I192","v":0},{"$f":"Раздел2!J192","v":0},{"$f":"Раздел2!K192","v":0},{"$f":"Раздел2!L192","v":0},{"$f":"Раздел2!J204","v":0},{"$f":"Раздел2!K204","v":0},{"$f":"Раздел2!L204","v":0}]
[null,"Грэпплинг-ги","185",0,null,null,null,null,null,null,null,null,null,null,null,null,null,null,null,null,null,null,null,0,null,null,null,null,null,0,null,null,null,null,null,null,{"$f":"Раздел2!I193","v":0},{"$f":"Раздел2!J193","v":0},{"$f":"Раздел2!K193","v":0},{"$f":"Раздел2!L193","v":0},{"$f":"Раздел2!J205","v":0},{"$f":"Раздел2!K205","v":0},{"$f":"Раздел2!L205","v":0}]
[null,"Панкратион","186",0,null,null,null,null,null,null,null,null,null,null,null,null,null,null,null,null,null,null,null,0,null,null,null,null,null,0,null,null,null,null,null,null,{"$f":"Раздел2!I194","v":0},{"$f":"Раздел2!J194","v":0},{"$f":"Раздел2!K194","v":0},{"$f":"Раздел2!L194","v":0},{"$f":"Раздел2!J206","v":0},{"$f":"Раздел2!K206","v":0},{"$f":"Раздел2!L206","v":0}]
[null,"Спортивная гимнастика","187",0,null,null,null,null,null,null,null,null,null,null,null,null,null,null,null,null,null,null,null,0,null,null,null,null,null,0,null,null,null,null,null,null,{"$f":"Раздел2!I195","v":0},{"$f":"Раздел2!J195","v":0},{"$f":"Раздел2!K195","v":0},{"$f":"Раздел2!L195","v":0},{"$f":"Раздел2!J208","v":0},{"$f":"Раздел2!K208","v":0},{"$f":"Раздел2!L208","v":0}]
[null,"Спортивная йога","188",0,null,null,null,null,null,null,null,null,null,null,null,null,null,null,null,null,null,null,null,0,null,null,null,null,null,0,null,null,null,null,null,null,{"$f":"Раздел2!I196","v":0},{"$f":"Раздел2!J196","v":0},{"$f":"Раздел2!K196","v":0},{"$f":"Раздел2!L196","v":0},{"$f":"Раздел2!J209","v":0},{"$f":"Раздел2!K209","v":0},{"$f":"Раздел2!L209","v":0}]
[null,"Спортивно-прикладное собаководство","189",0,null,null,null,null,null,null,null,null,null,null,null,null,null,null,null,null,null,null,null,0,null,null,null,null,null,0,null,null,null,null,null,null,{"$f":"Раздел2!I197","v":0},{"$f":"Раздел2!J197","v":0},{"$f":"Раздел2!K197","v":0},{"$f":"Раздел2!L197","v":0},{"$f":"Раздел2!J210","v":0},{"$f":"Раздел2!K210","v":0},{"$f":"Раздел2!L210","v":0}]
[null,"Спортивное метание ножа","190",0,null,null,null,null,null,null,null,null,null,null,null,null,null,null,null,null,null,null,null,0,null,null,null,null,null,0,null,null,null,null,null,null,{"$f":"Раздел2!I198","v":0},{"$f":"Раздел2!J198","v":0},{"$f":"Раздел2!K198","v":0},{"$f":"Раздел2!L198","v":0},{"$f":"Раздел2!J211","v":0},{"$f":"Раздел2!K211","v":0},{"$f":"Раздел2!L211","v":0}]
[null,"Спортивное ориентирование","191",0,null,null,null,null,null,null,null,null,null,null,null,null,null,null,null,null,null,null,null,0,null,null,null,null,null,0,null,null,null,null,null,null,{"$f":"Раздел2!I199","v":0},{"$f":"Раздел2!J199","v":0},{"$f":"Раздел2!K199","v":0},{"$f":"Раздел2!L199","v":0},{"$f":"Раздел2!J212","v":0},{"$f":"Раздел2!K212","v":0},{"$f":"Раздел2!L212","v":0}]
[null,"Спортивный бридж","192",0,null,null,null,null,null,null,null,null,null,null,null,null,null,null,null,null,null,null,null,0,null,null,null,null,null,0,null,null,null,null,null,null,{"$f":"Раздел2!I200","v":0},{"$f":"Раздел2!J200","v":0},{"$f":"Раздел2!K200","v":0},{"$f":"Раздел2!L200","v":0},{"$f":"Раздел2!J213","v":0},{"$f":"Раздел2!K213","v":0},{"$f":"Раздел2!L213","v":0}]
[null,"Спортивный туризм","193",0,null,null,null,null,null,null,null,null,null,null,null,null,null,null,null,null,null,null,null,0,null,null,null,null,null,0,null,null,null,null,null,null,{"$f":"Раздел2!I201","v":0},{"$f":"Раздел2!J201","v":0},{"$f":"Раздел2!K201","v":0},{"$f":"Раздел2!L201","v":0},{"$f":"Раздел2!J214","v":0},{"$f":"Раздел2!K214","v":0},{"$f":"Раздел2!L214","v":0}]
[null,"Стендовая стрельба - всего","194",{"$f":"SUM(E201:W201)","v":0},{"$f":"SUM(E202:E205)","v":0},{"$f":"SUM(F202:F205)","v":0},0,0,0,0,0,0,0,0,0,0,0,0,0,0,0,0,0,{"$f":"SUM(Y201:AC201)","v":0},0,0,0,0,0,{"$f":"SUM(AE201:AI201)","v":0},0,0,0,0,0,null,{"$f":"Раздел2!I202","v":0},{"$f":"Раздел2!J202","v":0},{"$f":"Раздел2!K202","v":0},{"$f":"Раздел2!L202","v":0}]
[null,"в том числе:\nТрап","195",0,null,null,null,null,null,null,null,null,null,null,null,null,null,null,null,null,null,null,null,0,null,null,null,null,null,0,null,null,null,null,null,null,{"$f":"Раздел2!I203","v":0},{"$f":"Раздел2!J203","v":0},{"$f":"Раздел2!K203","v":0},{"$f":"Раздел2!L203","v":0},{"$f":"Раздел2!J215","v":0},{"$f":"Раздел2!K215","v":0},{"$f":"Раздел2!L215","v":0}]
[null,"Скит","196",0,null,null,null,null,null,null,null,null,null,null,null,null,null,null,null,null,null,null,null,0,null,null,null,null,null,0,null,null,null,null,null,null,{"$f":"Раздел2!I204","v":0},{"$f":"Раздел2!J204","v":0},{"$f":"Раздел2!K204","v":0},{"$f":"Раздел2!L204","v":0},{"$f":"Раздел2!J217","v":0},{"$f":"Раздел2!K217","v":0},{"$f":"Раздел2!L217","v":0}]
[null,"Дубль-трап","197",0,null,null,null,null,null,null,null,null,null,null,null,null,null,null,null,null,null,null,null,0,null,null,null,null,null,0,null,null,null,null,null,null,{"$f":"Раздел2!I205","v":0},{"$f":"Раздел2!J205","v":0},{"$f":"Раздел2!K205","v":0},{"$f":"Раздел2!L205","v":0},{"$f":"Раздел2!J218","v":0},{"$f":"Раздел2!K218","v":0},{"$f":"Раздел2!L218","v":0}]
[null,"Спортинг","198",0,null,null,null,null,null,null,null,null,null,null,null,null,null,null,null,null,null,null,null,0,null,null,null,null,null,0,null,null,null,null,null,null,{"$f":"Раздел2!I206","v":0},{"$f":"Раздел2!J206","v":0},{"$f":"Раздел2!K206","v":0},{"$f":"Раздел2!L206","v":0}]
[null,"Страйкбол","199",0,null,null,null,null,null,null,null,null,null,null,null,null,null,null,null,null,null,null,null,0,null,null,null,null,null,0,null,null,null,null,null,null,{"$f":"Раздел2!I207","v":0},{"$f":"Раздел2!J207","v":0},{"$f":"Раздел2!K207","v":0},{"$f":"Раздел2!L207","v":0}]
[null,"Стрельба из арбалета","200",0,null,null,null,null,null,null,null,null,null,null,null,null,null,null,null,null,null,null,null,0,null,null,null,null,null,0,null,null,null,null,null,null,{"$f":"Раздел2!I208","v":0},{"$f":"Раздел2!J208","v":0},{"$f":"Раздел2!K208","v":0},{"$f":"Раздел2!L208","v":0}]
[null,"Стрельба из лука - всего","201",0,{"$f":"SUM(E209:E211)","v":0},{"$f":"SUM(F209:F211)","v":0},0,0,0,0,0,0,0,0,0,0,0,0,0,0,0,0,0,0,0,0,0,0,0,0,0,0,0,0,0,null,{"$f":"Раздел2!I209","v":0},{"$f":"Раздел2!J209","v":0},{"$f":"Раздел2!K209","v":0},{"$f":"Раздел2!L209","v":0}]
[null,"в том числе:\nКлассический лук","202",0,null,null,null,null,null,null,null,null,null,null,null,null,null,null,null,null,null,null,null,0,null,null,null,null,null,0,null,null,null,null,null,null,{"$f":"Раздел2!I210","v":0},{"$f":"Раздел2!J210","v":0},{"$f":"Раздел2!K210","v":0},{"$f":"Раздел2!L210","v":0}]
[null,"   Блочный лук","203",0,null,null,null,null,null,null,null,null,null,null,null,null,null,null,null,null,null,null,null,0,null,null,null,null,null,0,null,null,null,null,null,null,{"$f":"Раздел2!I211","v":0},{"$f":"Раздел2!J211","v":0},{"$f":"Раздел2!K211","v":0},{"$f":"Раздел2!L211","v":0}]
[null,"   Ачери ","204",0,null,null,null,null,null,null,null,null,null,null,null,null,null,null,null,null,null,null,null,0,null,null,null,null,null,0,null,null,null,null,null,null,{"$f":"Раздел2!I212","v":0},{"$f":"Раздел2!J212","v":0},{"$f":"Раздел2!K212","v":0},{"$f":"Раздел2!L212","v":0}]
[null,"Судомодельный спорт","205",0,null,null,null,null,null,null,null,null,null,null,null,null,null,null,null,null,null,null,null,0,null,null,null,null,null,0,null,null,null,null,null,null,{"$f":"Раздел2!I213","v":0},{"$f":"Раздел2!J213","v":0},{"$f":"Раздел2!K213","v":0},{"$f":"Раздел2!L213","v":0}]
[null,"Сумо","206",0,null,null,null,null,null,null,null,null,null,null,null,null,null,null,null,null,null,null,null,0,null,null,null,null,null,0,null,null,null,null,null,null,{"$f":"Раздел2!I214","v":0},{"$f":"Раздел2!J214","v":0},{"$f":"Раздел2!K214","v":0},{"$f":"Раздел2!L214","v":0}]
[null,"Таврели","207",0,null,null,null,null,null,null,null,null,null,null,null,null,null,null,null,null,null,null,null,0,null,null,null,null,null,0,null,null,null,null,null,null,{"$f":"Раздел2!I215","v":0},{"$f":"Раздел2!J215","v":0},{"$f":"Раздел2!K215","v":0},{"$f":"Раздел2!L215","v":0}]
[null,"Тайский бокс","208",0,null,null,null,null,null,null,null,null,null,null,null,null,null,null,null,null,null,null,null,0,null,null,null,null,null,0,null,null,null,null,null,null,{"$f":"Раздел2!I216","v":0},{"$f":"Раздел2!J216","v":0},{"$f":"Раздел2!K216","v":0},{"$f":"Раздел2!L216","v":0}]
[null,"Танцевальный спорт","209",0,null,null,null,null,null,null,null,null,null,null,null,null,null,null,null,null,null,null,null,0,null,null,null,null,null,0,null,null,null,null,null,null,{"$f":"Раздел2!I217","v":0},{"$f":"Раздел2!J217","v":0},{"$f":"Раздел2!K217","v":0},{"$f":"Раздел2!L217","v":0},null,null,null,null,null,null,null,{"$f":"SUM(Раздел2!I231:L231)","v":0}]
[null,"Теннис","210",0,null,null,null,null,null,null,null,null,null,null,null,null,null,null,null,null,null,null,null,0,null,null,null,null,null,0,null,null,null,null,null,null,{"$f":"Раздел2!I218","v":0},{"$f":"Раздел2!J218","v":0},{"$f":"Раздел2!K218","v":0},{"$f":"Раздел2!L218","v":0}]
[null,"Триатлон","211",0,null,null,null,null,null,null,null,null,null,null,null,null,null,null,null,null,null,null,null,0,null,null,null,null,null,0,null,null,null,null,null,null,{"$f":"Раздел2!I219","v":0},{"$f":"Раздел2!J219","v":0},{"$f":"Раздел2!K219","v":0},{"$f":"Раздел2!L219","v":0}]
[null,"Тхэквондо (ВТФ)","212",0,null,null,null,null,null,null,null,null,null,null,null,null,null,null,null,null,null,null,null,0,null,null,null,null,null,0,null,null,null,null,null,null,{"$f":"Раздел2!I220","v":0},{"$f":"Раздел2!J220","v":0},{"$f":"Раздел2!K220","v":0},{"$f":"Раздел2!L220","v":0}]
[null,"Тхэквондо ГТФ","213",0,null,null,null,null,null,null,null,null,null,null,null,null,null,null,null,null,null,null,null,0,null,null,null,null,null,0,null,null,null,null,null,null,{"$f":"Раздел2!I221","v":0},{"$f":"Раздел2!J221","v":0},{"$f":"Раздел2!K221","v":0},{"$f":"Раздел2!L221","v":0}]
[null,"Тхэквондо ИТФ","214",0,null,null,null,null,null,null,null,null,null,null,null,null,null,null,null,null,null,null,null,0,null,null,null,null,null,0,null,null,null,null,null,null,{"$f":"Раздел2!I222","v":0},{"$f":"Раздел2!J222","v":0},{"$f":"Раздел2!K222","v":0},{"$f":"Раздел2!L222","v":0}]
[null,"Тхэквондо МФТ","215",0,null,null,null,null,null,null,null,null,null,null,null,null,null,null,null,null,null,null,null,0,null,null,null,null,null,0,null,null,null,null,null,null,{"$f":"Раздел2!I223","v":0},{"$f":"Раздел2!J223","v":0},{"$f":"Раздел2!K223","v":0},{"$f":"Раздел2!L223","v":0},{"$f":"Раздел2!J235","v":0},{"$f":"Раздел2!K235","v":0},{"$f":"Раздел2!L235","v":0}]
[null,"Тяжелая атлетика","216",0,null,null,null,null,null,null,null,null,null,null,null,null,null,null,null,null,null,null,null,0,null,null,null,null,null,0,null,null,null,null,null,null,{"$f":"Раздел2!I224","v":0},{"$f":"Раздел2!J224","v":0},{"$f":"Раздел2!K224","v":0},{"$f":"Раздел2!L224","v":0},{"$f":"Раздел2!J236","v":0},{"$f":"Раздел2!K236","v":0},{"$f":"Раздел2!L236","v":0}]
[null,"Универсальный бой","217",0,null,null,null,null,null,null,null,null,null,null,null,null,null,null,null,null,null,null,null,0,null,null,null,null,null,0,null,null,null,null,null,null,{"$f":"Раздел2!I225","v":0},{"$f":"Раздел2!J225","v":0},{"$f":"Раздел2!K225","v":0},{"$f":"Раздел2!L225","v":0},{"$f":"Раздел2!J237","v":0},{"$f":"Раздел2!K237","v":0},{"$f":"Раздел2!L237","v":0}]
[null,"Ушу","218",0,null,null,null,null,null,null,null,null,null,null,null,null,null,null,null,null,null,null,null,0,null,null,null,null,null,0,null,null,null,null,null,null,{"$f":"Раздел2!I226","v":0},{"$f":"Раздел2!J226","v":0},{"$f":"Раздел2!K226","v":0},{"$f":"Раздел2!L226","v":0},{"$f":"Раздел2!J239","v":0},{"$f":"Раздел2!K239","v":0},{"$f":"Раздел2!L239","v":0}]
[null,"Фехтование - всего","219",0,{"$f":"SUM(E227:E230)","v":0},{"$f":"SUM(F227:F230)","v":0},0,0,0,0,0,0,0,0,0,0,0,0,0,0,0,0,0,0,0,0,0,0,0,0,0,0,0,0,0,null,{"$f":"Раздел2!I227","v":0},{"$f":"Раздел2!J227","v":0},{"$f":"Раздел2!K227","v":0},{"$f":"Раздел2!L227","v":0},{"$f":"Раздел2!J240","v":0},{"$f":"Раздел2!K240","v":0},{"$f":"Раздел2!L240","v":0}]
[null,"в том числе:\nРапира","220",0,null,null,null,null,null,null,null,null,null,null,null,null,null,null,null,null,null,null,null,0,null,null,null,null,null,0,null,null,null,null,null,null,{"$f":"Раздел2!I228","v":0},{"$f":"Раздел2!J228","v":0},{"$f":"Раздел2!K228","v":0},{"$f":"Раздел2!L228","v":0},{"$f":"Раздел2!J241","v":0},{"$f":"Раздел2!K241","v":0},{"$f":"Раздел2!L241","v":0}]
[null,"Сабля","221",0,null,null,null,null,null,null,null,null,null,null,null,null,null,null,null,null,null,null,null,0,null,null,null,null,null,0,null,null,null,null,null,null,{"$f":"Раздел2!I229","v":0},{"$f":"Раздел2!J229","v":0},{"$f":"Раздел2!K229","v":0},{"$f":"Раздел2!L229","v":0},{"$f":"Раздел2!J242","v":0},{"$f":"Раздел2!K242","v":0},{"$f":"Раздел2!L242","v":0}]
[null,"Шпага","222",0,null,null,null,null,null,null,null,null,null,null,null,null,null,null,null,null,null,null,null,0,null,null,null,null,null,0,null,null,null,null,null,null,{"$f":"Раздел2!I230","v":0},{"$f":"Раздел2!J230","v":0},{"$f":"Раздел2!K230","v":0},{"$f":"Раздел2!L230","v":0},{"$f":"Раздел2!J243","v":0},{"$f":"Раздел2!K243","v":0},{"$f":"Раздел2!L243","v":0}]
[null,"Арт-фехтование","223",0,null,null,null,null,null,null,null,null,null,null,null,null,null,null,null,null,null,null,null,0,null,null,null,null,null,0,null,null,null,null,null,null,{"$f":"Раздел2!I231","v":0},{"$f":"Раздел2!J231","v":0},{"$f":"Раздел2!K231","v":0},{"$f":"Раздел2!L231","v":0},{"$f":"Раздел2!J244","v":74},{"$f":"Раздел2!K244","v":0},{"$f":"Раздел2!L244","v":0}]
[null,"Фигурное катание на коньках","224",0,null,null,null,null,null,null,null,null,null,null,null,null,null,null,null,null,null,null,null,0,null,null,null,null,null,0,null,null,null,null,null,null,{"$f":"Раздел2!I232","v":0},{"$f":"Раздел2!J232","v":0},{"$f":"Раздел2!K232","v":0},{"$f":"Раздел2!L232","v":0},{"$f":"Раздел2!J245","v":74},{"$f":"Раздел2!K245","v":0},{"$f":"Раздел2!L245","v":0}]
[null,"Фитнес-аэробика","225",0,null,null,null,null,null,null,null,null,null,null,null,null,null,null,null,null,null,null,null,0,null,null,null,null,null,0,null,null,null,null,null,null,{"$f":"Раздел2!I233","v":0},{"$f":"Раздел2!J233","v":0},{"$f":"Раздел2!K233","v":0},{"$f":"Раздел2!L233","v":0}]
[null,"Флаинг диск","226",0,null,null,null,null,null,null,null,null,null,null,null,null,null,null,null,null,null,null,null,0,null,null,null,null,null,0,null,null,null,null,null,null,{"$f":"Раздел2!I234","v":0},{"$f":"Раздел2!J234","v":0},{"$f":"Раздел2!K234","v":0},{"$f":"Раздел2!L234","v":0},{"$f":"Раздел2!J246","v":0},{"$f":"Раздел2!K246","v":0},{"$f":"Раздел2!L246","v":0}]
[null,"Флорбол","227",0,null,null,null,null,null,null,null,null,null,null,null,null,null,null,null,null,null,null,null,0,null,null,null,null,null,0,null,null,null,null,null,null,{"$f":"Раздел2!I235","v":0},{"$f":"Раздел2!J235","v":0},{"$f":"Раздел2!K235","v":0},{"$f":"Раздел2!L235","v":0},{"$f":"Раздел2!J247","v":0},{"$f":"Раздел2!K247","v":0},{"$f":"Раздел2!L247","v":0}]
[null,"Фристайл - всего","228",0,{"$f":"SUM(E236:E241)","v":0},{"$f":"SUM(F236:F241)","v":0},0,0,0,0,0,0,0,0,0,0,0,0,0,0,0,0,0,0,0,0,0,0,0,0,0,0,0,0,0,null,{"$f":"Раздел2!I236","v":0},{"$f":"Раздел2!J236","v":0},{"$f":"Раздел2!K236","v":0},{"$f":"Раздел2!L236","v":0},{"$f":"Раздел2!J248","v":0},{"$f":"Раздел2!K248","v":0},{"$f":"Раздел2!L248","v":0}]
[null,"в том числе:\nАкробатика","229",0,null,null,null,null,null,null,null,null,null,null,null,null,null,null,null,null,null,null,null,0,null,null,null,null,null,0,null,null,null,null,null,null,{"$f":"Раздел2!I237","v":0},{"$f":"Раздел2!J237","v":0},{"$f":"Раздел2!K237","v":0},{"$f":"Раздел2!L237","v":0},{"$f":"Раздел2!J253","v":0},{"$f":"Раздел2!K253","v":0},{"$f":"Раздел2!L253","v":0}]
[null,"Биг-эйр","230",0,null,null,null,null,null,null,null,null,null,null,null,null,null,null,null,null,null,null,null,0,null,null,null,null,null,0,null,null,null,null,null,null,{"$f":"Раздел2!I238","v":0},{"$f":"Раздел2!J238","v":0},{"$f":"Раздел2!K238","v":0},{"$f":"Раздел2!L238","v":0},{"$f":"Раздел2!J254","v":0},{"$f":"Раздел2!K254","v":0},{"$f":"Раздел2!L254","v":0}]
[null,"Могул","231",0,null,null,null,null,null,null,null,null,null,null,null,null,null,null,null,null,null,null,null,0,null,null,null,null,null,0,null,null,null,null,null,null,{"$f":"Раздел2!I239","v":0},{"$f":"Раздел2!J239","v":0},{"$f":"Раздел2!K239","v":0},{"$f":"Раздел2!L239","v":0},{"$f":"Раздел2!J255","v":0},{"$f":"Раздел2!K255","v":0},{"$f":"Раздел2!L255","v":0}]
[null,"Ски-кросс","232",0,null,null,null,null,null,null,null,null,null,null,null,null,null,null,null,null,null,null,null,0,null,null,null,null,null,0,null,null,null,null,null,null,{"$f":"Раздел2!I240","v":0},{"$f":"Раздел2!J240","v":0},{"$f":"Раздел2!K240","v":0},{"$f":"Раздел2!L240","v":0},{"$f":"Раздел2!J256","v":0},{"$f":"Раздел2!K256","v":0},{"$f":"Раздел2!L256","v":0}]
[null,"Хаф-пайп","233",0,null,null,null,null,null,null,null,null,null,null,null,null,null,null,null,null,null,null,null,0,null,null,null,null,null,0,null,null,null,null,null,null,{"$f":"Раздел2!I241","v":0},{"$f":"Раздел2!J241","v":0},{"$f":"Раздел2!K241","v":0},{"$f":"Раздел2!L241","v":0}]
[null,"Слоуп-стайл","234",0,null,null,null,null,null,null,null,null,null,null,null,null,null,null,null,null,null,null,null,0,null,null,null,null,null,0,null,null,null,null,null,null,{"$f":"Раздел2!I242","v":0},{"$f":"Раздел2!J242","v":0},{"$f":"Раздел2!K242","v":0},{"$f":"Раздел2!L242","v":0}]
[null,"Функциональное многоборье","235",0,null,null,null,null,null,null,null,null,null,null,null,null,null,null,null,null,null,null,null,0,null,null,null,null,null,0,null,null,null,null,null,null,{"$f":"Раздел2!I243","v":0},{"$f":"Раздел2!J243","v":0},{"$f":"Раздел2!K243","v":0},{"$f":"Раздел2!L243","v":0}]
[null,"Футбол - всего","236",176,{"$f":"SUM(E244:E249)","v":0},{"$f":"SUM(F244:F249)","v":30},25,47,0,17,28,19,10,0,0,0,0,0,0,0,0,0,0,39,0,29,10,0,0,64,0,59,5,0,0,null,{"$f":"Раздел2!I244","v":102},{"$f":"Раздел2!J244","v":74},{"$f":"Раздел2!K244","v":0},{"$f":"Раздел2!L244","v":0}]
[null,"в том числе:\nФутбол (муж.)","237",176,null,30,25,47,null,17,28,19,10,null,null,null,null,null,null,null,null,null,null,39,null,29,10,null,null,64,null,59,5,null,null,null,{"$f":"Раздел2!I245","v":102},{"$f":"Раздел2!J245","v":74},{"$f":"Раздел2!K245","v":0},{"$f":"Раздел2!L245","v":0}]
[null,"Футбол (жен.)","238",0,null,null,null,null,null,null,null,null,null,null,null,null,null,null,null,null,null,null,null,0,null,null,null,null,null,0,null,null,null,null,null,null,{"$f":"Раздел2!I246","v":0},{"$f":"Раздел2!J246","v":0},{"$f":"Раздел2!K246","v":0},{"$f":"Раздел2!L246","v":0}]
[null,"Мини-футбол (футзал)","239",0,null,null,null,null,null,null,null,null,null,null,null,null,null,null,null,null,null,null,null,0,null,null,null,null,null,0,null,null,null,null,null,null,{"$f":"Раздел2!I247","v":0},{"$f":"Раздел2!J247","v":0},{"$f":"Раздел2!K247","v":0},{"$f":"Раздел2!L247","v":0}]
[null,"Пляжный футбол","240",0,null,null,null,null,null,null,null,null,null,null,null,null,null,null,null,null,null,null,null,0,null,null,null,null,null,0,null,null,null,null,null,null,{"$f":"Раздел2!I248","v":0},{"$f":"Раздел2!J248","v":0},{"$f":"Раздел2!K248","v":0},{"$f":"Раздел2!L248","v":0}]
[null,"Футбол 6х6, 7х7, 8х8","241",0,null,null,null,null,null,null,null,null,null,null,null,null,null,null,null,null,null,null,null,0,null,null,null,null,null,0,null,null,null,null,null,null,{"$f":"Раздел2!I249","v":0},{"$f":"Раздел2!J249","v":0},{"$f":"Раздел2!K249","v":0},{"$f":"Раздел2!L249","v":0}]
[null,"Интерактивный футбол","242",0,null,null,null,null,null,null,null,null,null,null,null,null,null,null,null,null,null,null,null,0,null,null,null,null,null,0,null,null,null,null,null,null,{"$f":"Раздел2!I250","v":0},{"$f":"Раздел2!J250","v":0},{"$f":"Раздел2!K250","v":0},{"$f":"Раздел2!L250","v":0}]
[null,"Футгольф","243",0,null,null,null,null,null,null,null,null,null,null,null,null,null,null,null,null,null,null,null,0,null,null,null,null,null,0,null,null,null,null,null,null,{"$f":"Раздел2!I251","v":0},{"$f":"Раздел2!J251","v":0},{"$f":"Раздел2!K251","v":0},{"$f":"Раздел2!L251","v":0}]
[null,"Хапкидо","244",0,null,null,null,null,null,null,null,null,null,null,null,null,null,null,null,null,null,null,null,0,null,null,null,null,null,0,null,null,null,null,null,null,{"$f":"Раздел2!I252","v":0},{"$f":"Раздел2!J252","v":0},{"$f":"Раздел2!K252","v":0},{"$f":"Раздел2!L252","v":0}]
[null,"Хапсагай","245",0,null,null,null,null,null,null,null,null,null,null,null,null,null,null,null,null,null,null,null,0,null,null,null,null,null,0,null,null,null,null,null,null,{"$f":"Раздел2!I253","v":0},{"$f":"Раздел2!J253","v":0},{"$f":"Раздел2!K253","v":0},{"$f":"Раздел2!L253","v":0}]
[null,"Хоккей - всего","246",0,{"$f":"SUM(E254:E255)","v":0},{"$f":"SUM(F254:F255)","v":0},0,0,0,0,0,0,0,0,0,0,0,0,0,0,0,0,0,0,0,0,0,0,0,0,0,0,0,0,0,null,{"$f":"Раздел2!I254","v":0},{"$f":"Раздел2!J254","v":0},{"$f":"Раздел2!K254","v":0},{"$f":"Раздел2!L254","v":0}]
[null,"в том числе:\nХоккей (муж.)","247",0,null,null,null,null,null,null,null,null,null,null,null,null,null,null,null,null,null,null,null,0,null,null,null,null,null,0,null,null,null,null,null,null,{"$f":"Раздел2!I255","v":0},{"$f":"Раздел2!J255","v":0},{"$f":"Раздел2!K255","v":0},{"$f":"Раздел2!L255","v":0}]
[null,"Хоккей (жен.)","248",0,null,null,null,null,null,null,null,null,null,null,null,null,null,null,null,null,null,null,null,0,null,null,null,null,null,0,null,null,null,null,null,null,{"$f":"Раздел2!I256","v":0},{"$f":"Раздел2!J256","v":0},{"$f":"Раздел2!K256","v":0},{"$f":"Раздел2!L256","v":0}]
[null,"Хоккей на траве - всего","249",0,{"$f":"SUM(E257:E259)","v":0},{"$f":"SUM(F257:F259)","v":0},0,0,0,0,0,0,0,0,0,0,0,0,0,0,0,0,0,0,0,0,0,0,0,0,0,0,0,0,0,null,{"$f":"Раздел2!I257","v":0},{"$f":"Раздел2!J257","v":0},{"$f":"Раздел2!K257","v":0},{"$f":"Раздел2!L257","v":0}]
[null,"в том числе:\nХоккей на траве (муж.)","250",0,null,null,null,null,null,null,null,null,null,null,null,null,null,null,null,null,null,null,null,0,null,null,null,null,null,0,null,null,null,null,null,null,{"$f":"Раздел2!I258","v":0},{"$f":"Раздел2!J258","v":0},{"$f":"Раздел2!K258","v":0},{"$f":"Раздел2!L258","v":0}]
[null,"Хоккей на траве (жен.)","251",0,null,null,null,null,null,null,null,null,null,null,null,null,null,null,null,null,null,null,null,0,null,null,null,null,null,0,null,null,null,null,null,null,{"$f":"Раздел2!I259","v":0},{"$f":"Раздел2!J259","v":0},{"$f":"Раздел2!K259","v":0},{"$f":"Раздел2!L259","v":0}]
[null,"Индорхоккей","252",0,null,null,null,null,null,null,null,null,null,null,null,null,null,null,null,null,null,null,null,0,null,null,null,null,null,0,null,null,null,null,null,null,{"$f":"Раздел2!I260","v":0},{"$f":"Раздел2!J260","v":0},{"$f":"Раздел2!K260","v":0},{"$f":"Раздел2!L260","v":0}]
[null,"Хоккей с мячом","253",0,null,null,null,null,null,null,null,null,null,null,null,null,null,null,null,null,null,null,null,0,null,null,null,null,null,0,null,null,null,null,null,null,{"$f":"Раздел2!I261","v":0},{"$f":"Раздел2!J261","v":0},{"$f":"Раздел2!K261","v":0},{"$f":"Раздел2!L261","v":0}]
[null,"Художественная гимнастика","254",136,null,null,12,null,24,31,null,13,32,24,null,null,null,null,null,null,null,null,null,64,null,4,44,16,null,15,null,10,2,3,null,null,{"$f":"Раздел2!I262","v":12},{"$f":"Раздел2!J262","v":100},{"$f":"Раздел2!K262","v":24},{"$f":"Раздел2!L262","v":0}]
[null,"Хуреш","255",0,null,null,null,null,null,null,null,null,null,null,null,null,null,null,null,null,null,null,null,0,null,null,null,null,null,0,null,null,null,null,null,null,{"$f":"Раздел2!I263","v":0},{"$f":"Раздел2!J263","v":0},{"$f":"Раздел2!K263","v":0},{"$f":"Раздел2!L263","v":0}]
[null,"Чир спорт","256",0,null,null,null,null,null,null,null,null,null,null,null,null,null,null,null,null,null,null,null,0,null,null,null,null,null,0,null,null,null,null,null,null,{"$f":"Раздел2!I264","v":0},{"$f":"Раздел2!J264","v":0},{"$f":"Раздел2!K264","v":0},{"$f":"Раздел2!L264","v":0}]
[null,"Шахматы","257",0,null,null,null,null,null,null,null,null,null,null,null,null,null,null,null,null,null,null,null,0,null,null,null,null,null,0,null,null,null,null,null,null,{"$f":"Раздел2!I265","v":0},{"$f":"Раздел2!J265","v":0},{"$f":"Раздел2!K265","v":0},{"$f":"Раздел2!L265","v":0}]
[null,"Шашки","258",{"$f":"SUM(E265:W265)","v":0},null,null,null,null,null,null,null,null,null,null,null,null,null,null,null,null,null,null,null,{"$f":"SUM(Y265:AC265)","v":0},null,null,null,null,null,{"$f":"SUM(AE265:AI265)","v":0},null,null,null,null,null,null,{"$f":"Раздел2!I266","v":0},{"$f":"Раздел2!J266","v":0},{"$f":"Раздел2!K266","v":0},{"$f":"Раздел2!L266","v":0}]
[null,"Шодсанлат","259",0,null,null,null,null,null,null,null,null,null,null,null,null,null,null,null,null,null,null,null,0,null,null,null,null,null,0,null,null,null,null,null,null,{"$f":"Раздел2!I267","v":0},{"$f":"Раздел2!J267","v":0},{"$f":"Раздел2!K267","v":0},{"$f":"Раздел2!L267","v":0}]
[null,"Эстетическая гимнастика","260",0,null,null,null,null,null,null,null,null,null,null,null,null,null,null,null,null,null,null,null,0,null,null,null,null,null,0,null,null,null,null,null,null,{"$f":"Раздел2!I268","v":0},{"$f":"Раздел2!J268","v":0},{"$f":"Раздел2!K268","v":0},{"$f":"Раздел2!L268","v":0}]
[null,"Якутские национальные прыжки","261",0,null,null,null,null,null,null,null,null,null,null,null,null,null,null,null,null,null,null,null,0,null,null,null,null,null,0,null,null,null,null,null,null,{"$f":"Раздел2!I269","v":0},{"$f":"Раздел2!J269","v":0},{"$f":"Раздел2!K269","v":0},{"$f":"Раздел2!L269","v":0}]
[null,"ИТОГО","262",{"$f":"SUM(D8:D19,D22:D25,D28:D33,D44:D49,D54:D56,D38:D41,D60:D70,D75:D84,D88:D94,D97:D102,D110:D115,D116:D124,D127:D132,D135,D140:D141,D147:D150,D155:D160,D161:D175,D176:D188,D194:D201,D206:D208,D212:D216,D217:D226,D231:D235,D242:D243,D250:D253,D256,D260:D268)","v":1015},{"$f":"SUM(E8:E19,E22:E25,E28:E33,E44:E49,E54:E56,E38:E41,E60:E70,E75:E84,E88:E94,E97:E102,E110:E115,E116:E124,E127:E132,E135,E140:E141,E147:E150,E155:E160,E161:E175,E176:E188,E194:E201,E206:E208,E212:E216,E217:E226,E231:E235,E242:E243,E250:E253,E256,E260:E268)","v":0},{"$f":"SUM(F8:F19,F22:F25,F28:F33,F44:F49,F54:F56,F38:F41,F60:F70,F75:F84,F88:F94,F97:F102,F110:F115,F116:F124,F127:F132,F135,F140:F141,F147:F150,F155:F160,F161:F175,F176:F188,F194:F201,F206:F208,F212:F216,F217:F226,F231:F235,F242:F243,F250:F253,F256,F260:F268)","v":221},{"$f":"SUM(G8:G19,G22:G25,G28:G33,G44:G49,G54:G56,G38:G41,G60:G70,G75:G84,G88:G94,G97:G102,G110:G115,G116:G124,G127:G132,G135,G140:G141,G147:G150,G155:G160,G161:G175,G176:G188,G194:G201,G206:G208,G212:G216,G217:G226,G231:G235,G242:G243,G250:G253,G256,G260:G268)","v":179},175,48,106,109,75,78,24,0,0,0,0,0,0,0,0,0,214,0,104,94,16,0,163,0,105,55,3,0,null,{"$f":"Раздел2!I270","v":575},{"$f":"Раздел2!J270","v":416},{"$f":"Раздел2!K270","v":24},{"$f":"Раздел2!L270","v":0}]

{"sheet":"Раздел4","index":4,"n_rows":8,"n_cols":22,"rows_kept":8,"cut":false,"hidden":false,"merged":[[2,2,5,2],[4,15,5,15],[4,16,5,16],[4,17,5,17],[4,18,5,18],[4,10,5,10],[4,11,5,11],[4,12,5,12],[4,13,5,13],[4,14,5,14],[0,0,0,19],[2,0,5,0],[2,1,5,1],[2,3,2,15],[2,16,2,20],[3,3,3,15],[3,16,3,18],[3,19,5,19],[3,20,5,20],[4,3,5,3],[4,4,5,4],[4,5,5,5],[4,6,5,6],[4,7,5,7],[4,8,5,8],[4,9,5,9]]}
["Раздел IV. Численность занимающихся в организациях, осуществляющих реализацию программ спортивной подготовки, в возрасте от 5 до 18 лет"]
[null,null,null,null,null,null,null,null,null,null,null,null,null,null,null,null,null,null,null,"Код по ОКЕИ: человек - 792"]
["Наименование показателя","№ строки","Всего","Возрастной состав занимающихся (число полных лет по состоянию на 31 декабря отчетного года)",null,null,null,null,null,null,null,null,null,null,null,null,"Распределение численности занимающихся по источникам финансирования (из гр. 7-11 раздела II)"]
[null,null,null,"(из гр. 7-11 раздела II)",null,null,null,null,null,null,null,null,null,null,null,null,"За счет бюджетных ассигнований:",null,null,"По договорам об оказании платных услуг","Из иных внебюджетных источников"]
[null,null,null,5,6,7,8,9,10,11,12,13,14,15,16,17,"федерального бюджета","бюджета субъекта РФ","местного бюджета"]
[]
[1,2,3,4,5,6,7,8,9,10,11,12,13,14,15,16,17,18,19,20,21]
["Численность занимающихся в организациях, осуществляющих реализацию программ спортивной подготовки, в возрасте от 5 до 18 лет","01",{"$f":"SUM(D8:P8)","v":1015},null,2,10,41,116,151,143,152,103,110,91,53,43,null,null,1015,null,null,{"$f":"Раздел2!R270","v":1015}]

{"sheet":"Раздел5","index":5,"n_rows":269,"n_cols":29,"rows_kept":269,"cut":false,"hidden":false,"merged":[[2,27,5,27],[2,28,5,28],[3,3,5,3],[3,4,3,7],[3,8,3,11],[3,12,5,12],[3,13,3,16],[3,17,3,20],[3,21,3,24],[4,4,5,4],[4,5,4,7],[4,8,5,8],[4,9,4,11],[4,13,5,13],[4,14,4,16],[4,17,5,17],[0,0,124,0],[0,1,0,24],[0,25,124,25],[1,16,1,24],[2,1,5,1],[2,2,5,2],[2,3,2,11],[2,12,2,24],[4,18,4,20],[4,21,5,21],[4,22,4,24]]}
[null,"Раздел V. Спортивные разряды, спортивные звания"]
[null,null,null,null,null,null,null,null,null,null,null,null,null,null,null,null,"Код по ОКЕИ: человек – 792, единица – 642        \n"]
[null,"Виды спорта","№ строки","Из числа занимающихся (гр. 6 раздела II)\nспортсменов, имеющих разряды, звания, человек",null,null,null,null,null,null,null,null,"Разряды, звания, присвоенные и подтвержденные в отчетном году, единица",null,null,null,null,null,null,null,null,null,null,null,null,null,null,"Раздел2 графа3\nЧисло отделений","Раздел2 графа5\nЧисло отделений"]
[null,null,null,"Всего","спортивные разряды",null,null,null,"спортивные звания",null,null,null,"Всего","спортивные разряды присвоенные",null,null,null,"спортивные разряды подтвержденные",null,null,null,"спортивные звания присвоенные"]
[null,null,null,null,"Всего","в том числе:",null,null,"Всего","в том числе:",null,null,null,"Всего","в том числе:",null,null,"Всего","в том числе:",null,null,"Всего","в том числе:"]
[null,null,null,null,null,"КМС","1 разряд","другие разряды",null,"ЗМС","МСМК","МС",null,null,"КМС","1 разряд","другие разряды",null,"КМС","1 разряд","другие разряды",null,"ЗМС","МСМК","МС"]
[null,1,2,3,4,5,6,7,8,9,10,11,12,13,14,15,16,17,18,19,20,21,22,23,24]
[null,"Авиамодельный спорт","01",{"$f":"SUM(E8,I8)","v":0},{"$f":"SUM(F8:H8)","v":0},null,null,null,{"$f":"SUM(J8:L8)","v":0},null,null,null,{"$f":"SUM(N8,V8)","v":0},{"$f":"SUM(O8:Q8)","v":0},null,null,null,{"$f":"SUM(S8:U8)","v":0},null,null,null,{"$f":"SUM(W8:Y8)","v":0},null,null,null,null,null,{"$f":"Раздел2!G9","v":0},{"$f":"Раздел2!D9","v":0}]
[null,"Автомобильный спорт","02",{"$f":"SUM(E9,I9)","v":0},{"$f":"SUM(F9:H9)","v":0},null,null,null,{"$f":"SUM(J9:L9)","v":0},null,null,null,{"$f":"SUM(N9,V9)","v":0},{"$f":"SUM(O9:Q9)","v":0},null,null,null,{"$f":"SUM(S9:U9)","v":0},null,null,null,{"$f":"SUM(W9:Y9)","v":0},null,null,null,null,null,{"$f":"Раздел2!G10","v":0},{"$f":"Раздел2!D10","v":0}]
[null,"Автомодельный спорт","03",0,0,null,null,null,0,null,null,null,0,0,null,null,null,0,null,null,null,0,null,null,null,null,null,{"$f":"Раздел2!G11","v":0},{"$f":"Раздел2!D11","v":0}]
[null,"Айкидо","04",0,0,null,null,null,0,null,null,null,0,0,null,null,null,0,null,null,null,0,null,null,null,null,null,{"$f":"Раздел2!G12","v":0},{"$f":"Раздел2!D12","v":0}]
[null,"Айсшток","05",0,0,null,null,null,0,null,null,null,0,0,null,null,null,0,null,null,null,0,null,null,null,null,null,{"$f":"Раздел2!G13","v":0},{"$f":"Раздел2!D13","v":0}]
[null,"Акробатический рок-н-ролл","06",0,0,null,null,null,0,null,null,null,0,0,null,null,null,0,null,null,null,0,null,null,null,null,null,{"$f":"Раздел2!G14","v":0},{"$f":"Раздел2!D14","v":0}]
[null,"Альпинизм","07",0,0,null,null,null,0,null,null,null,0,0,null,null,null,0,null,null,null,0,null,null,null,null,null,{"$f":"Раздел2!G15","v":0},{"$f":"Раздел2!D15","v":0}]
[null,"Американский футбол","08",0,0,null,null,null,0,null,null,null,0,0,null,null,null,0,null,null,null,0,null,null,null,null,null,{"$f":"Раздел2!G16","v":0},{"$f":"Раздел2!D16","v":0}]
[null,"Армейский рукопашный бой","09",0,0,null,null,null,0,null,null,null,0,0,null,null,null,0,null,null,null,0,null,null,null,null,null,{"$f":"Раздел2!G17","v":0},{"$f":"Раздел2!D17","v":0}]
[null,"Армрестлинг","10",0,0,null,null,null,0,null,null,null,0,0,null,null,null,0,null,null,null,0,null,null,null,null,null,{"$f":"Раздел2!G18","v":0},{"$f":"Раздел2!D18","v":0}]
[null,"Бадминтон","11",0,0,null,null,null,0,null,null,null,0,0,null,null,null,0,null,null,null,0,null,null,null,null,null,{"$f":"Раздел2!G19","v":0},{"$f":"Раздел2!D19","v":0}]
[null,"Баскетбол - всего","12",10,10,{"$f":"SUM(F20:F21)","v":0},{"$f":"SUM(G20:G21)","v":0},10,0,0,0,0,0,0,0,0,0,0,0,0,0,0,0,0,0,null,null,{"$f":"Раздел2!G20","v":173},{"$f":"Раздел2!D20","v":1}]
[null,"в том числе:\nБаскетбол (муж.)","13",10,10,null,null,10,0,null,null,null,0,0,null,null,null,0,null,null,null,0,null,null,null,null,null,{"$f":"Раздел2!G21","v":173},{"$f":"Раздел2!D21","v":1}]
[null,"Баскетбол (жен.)","14",0,0,null,null,null,0,null,null,null,0,0,null,null,null,0,null,null,null,0,null,null,null,null,null,{"$f":"Раздел2!G22","v":0},{"$f":"Раздел2!D22","v":0}]
[null,"Бейсбол","15",0,0,null,null,null,0,null,null,null,0,0,null,null,null,0,null,null,null,0,null,null,null,null,null,{"$f":"Раздел2!G23","v":0},{"$f":"Раздел2!D23","v":0}]
[null,"Биатлон","16",0,0,null,null,null,0,null,null,null,0,0,null,null,null,0,null,null,null,0,null,null,null,null,null,{"$f":"Раздел2!G24","v":0},{"$f":"Раздел2!D24","v":0}]
[null,"Бильярдный спорт","17",0,0,null,null,null,0,null,null,null,0,0,null,null,null,0,null,null,null,0,null,null,null,null,null,{"$f":"Раздел2!G25","v":0},{"$f":"Раздел2!D25","v":0}]
[null,"Бобслей - всего","18",0,0,{"$f":"SUM(F26:F27)","v":0},{"$f":"SUM(G26:G27)","v":0},0,0,0,0,0,0,0,0,0,0,0,0,0,0,0,0,0,0,null,null,{"$f":"Раздел2!G26","v":0},{"$f":"Раздел2!D26","v":0}]
[null,"в том числе:\nБобслей","19",0,0,null,null,null,0,null,null,null,0,0,null,null,null,0,null,null,null,0,null,null,null,null,null,{"$f":"Раздел2!G27","v":0},{"$f":"Раздел2!D27","v":0}]
[null,"Скелетон","20",0,0,null,null,null,0,null,null,null,0,0,null,null,null,0,null,null,null,0,null,null,null,null,null,{"$f":"Раздел2!G28","v":0},{"$f":"Раздел2!D28","v":0}]
[null,"Бодибилдинг","21",0,0,null,null,null,0,null,null,null,0,0,null,null,null,0,null,null,null,0,null,null,null,null,null,{"$f":"Раздел2!G29","v":0},{"$f":"Раздел2!D29","v":0}]
[null,"Бокс","22",47,47,null,1,46,0,null,null,null,10,10,null,null,10,0,null,null,null,0,null,null,null,null,null,{"$f":"Раздел2!G30","v":72},{"$f":"Раздел2!D30","v":1}]
[null,"Борьба на поясах","23",0,0,null,null,null,0,null,null,null,0,0,null,null,null,0,null,null,null,0,null,null,null,null,null,{"$f":"Раздел2!G31","v":0},{"$f":"Раздел2!D31","v":0}]
[null,"Боулинг","24",0,0,null,null,null,0,null,null,null,0,0,null,null,null,0,null,null,null,0,null,null,null,null,null,{"$f":"Раздел2!G32","v":0},{"$f":"Раздел2!D32","v":0}]
[null,"Боулспорт","25",0,0,null,null,null,0,null,null,null,0,0,null,null,null,0,null,null,null,0,null,null,null,null,null,{"$f":"Раздел2!G33","v":0},{"$f":"Раздел2!D33","v":0}]
[null,"Велосипедный спорт - всего","26",0,0,{"$f":"SUM(F34:F37)","v":0},{"$f":"SUM(G34:G37)","v":0},0,0,0,0,0,0,0,0,0,0,0,0,0,0,0,0,0,0,null,null,{"$f":"Раздел2!G34","v":0},{"$f":"Раздел2!D34","v":0}]
[null,"в том числе:\nBMX","27",0,0,null,null,null,0,null,null,null,0,0,null,null,null,0,null,null,null,0,null,null,null,null,null,{"$f":"Раздел2!G35","v":0},{"$f":"Раздел2!D35","v":0}]
[null,"Маунтинбайк","28",0,0,null,null,null,0,null,null,null,0,0,null,null,null,0,null,null,null,0,null,null,null,null,null,{"$f":"Раздел2!G36","v":0},{"$f":"Раздел2!D36","v":0}]
[null,"Трек","29",0,0,null,null,null,0,null,null,null,0,0,null,null,null,0,null,null,null,0,null,null,null,null,null,{"$f":"Раздел2!G37","v":0},{"$f":"Раздел2!D37","v":0}]
[null,"Шоссе","30",0,0,null,null,null,0,null,null,null,0,0,null,null,null,0,null,null,null,0,null,null,null,null,null,{"$f":"Раздел2!G38","v":0},{"$f":"Раздел2!D38","v":0}]
[null,"Вертолетный спорт","31",0,0,null,null,null,0,null,null,null,0,0,null,null,null,0,null,null,null,0,null,null,null,null,null,{"$f":"Раздел2!G39","v":0},{"$f":"Раздел2!D39","v":0}]
[null,"Водно-моторный спорт","32",0,0,null,null,null,0,null,null,null,0,0,null,null,null,0,null,null,null,0,null,null,null,null,null,{"$f":"Раздел2!G40","v":0},{"$f":"Раздел2!D40","v":0}]
[null,"Водно-спасательное многоборье","33",0,0,null,null,null,0,null,null,null,0,0,null,null,null,0,null,null,null,0,null,null,null,null,null,{"$f":"Раздел2!G41","v":0},{"$f":"Раздел2!D41","v":0}]
[null,"Водное поло - всего ","34",0,0,{"$f":"SUM(F42:F43)","v":0},{"$f":"SUM(G42:G43)","v":0},0,0,0,0,0,0,0,0,0,0,0,0,0,0,0,0,0,0,null,null,{"$f":"Раздел2!G42","v":0},{"$f":"Раздел2!D42","v":0}]
[null,"в том числе:\nВодное поло (муж.)","35",0,0,null,null,null,0,null,null,null,0,0,null,null,null,0,null,null,null,0,null,null,null,null,null,{"$f":"Раздел2!G43","v":0},{"$f":"Раздел2!D43","v":0}]
[null,"Водное поло (жен.)","36",0,0,null,null,null,0,null,null,null,0,0,null,null,null,0,null,null,null,0,null,null,null,null,null,{"$f":"Раздел2!G44","v":0},{"$f":"Раздел2!D44","v":0}]
[null,"Воднолыжный спорт","37",0,0,null,null,null,0,null,null,null,0,0,null,null,null,0,null,null,null,0,null,null,null,null,null,{"$f":"Раздел2!G45","v":0},{"$f":"Раздел2!D45","v":0}]
[null,"Военно-прикладной спорт","38",0,0,null,null,null,0,null,null,null,0,0,null,null,null,0,null,null,null,0,null,null,null,null,null,{"$f":"Раздел2!G46","v":0},{"$f":"Раздел2!D46","v":0}]
[null,"Военно-спортивное многоборье","39",0,0,null,null,null,0,null,null,null,0,0,null,null,null,0,null,null,null,0,null,null,null,null,null,{"$f":"Раздел2!G47","v":0},{"$f":"Раздел2!D47","v":0}]
[null,"Воздухоплавательный спорт","40",0,0,null,null,null,0,null,null,null,0,0,null,null,null,0,null,null,null,0,null,null,null,null,null,{"$f":"Раздел2!G48","v":0},{"$f":"Раздел2!D48","v":0}]
[null,"Воздушно-силовая атлетика","41",0,0,null,null,null,0,null,null,null,0,0,null,null,null,0,null,null,null,0,null,null,null,null,null,{"$f":"Раздел2!G49","v":0},{"$f":"Раздел2!D49","v":0}]
[null,"Волейбол - всего","42",0,0,{"$f":"SUM(F50:F53)","v":0},{"$f":"SUM(G50:G53)","v":0},0,0,0,0,0,0,0,0,0,0,0,0,0,0,0,0,0,0,null,null,{"$f":"Раздел2!G50","v":0},{"$f":"Раздел2!D50","v":0}]
[null,"в том числе:\nВолейбол (муж.)","43",0,0,null,null,null,0,null,null,null,0,0,null,null,null,0,null,null,null,0,null,null,null,null,null,{"$f":"Раздел2!G51","v":0},{"$f":"Раздел2!D51","v":0}]
[null,"Волейбол (жен.)","44",0,0,null,null,null,0,null,null,null,0,0,null,null,null,0,null,null,null,0,null,null,null,null,null,{"$f":"Раздел2!G52","v":0},{"$f":"Раздел2!D52","v":0}]
[null,"Пляжный волейбол (муж.)","45",0,0,null,null,null,0,null,null,null,0,0,null,null,null,0,null,null,null,0,null,null,null,null,null,{"$f":"Раздел2!G53","v":0},{"$f":"Раздел2!D53","v":0}]
[null,"Пляжный волейбол (жен.)","46",0,0,null,null,null,0,null,null,null,0,0,null,null,null,0,null,null,null,0,null,null,null,null,null,{"$f":"Раздел2!G54","v":0},{"$f":"Раздел2!D54","v":0}]
[null,"Восточное боевое единоборство","47",0,0,null,null,null,0,null,null,null,0,0,null,null,null,0,null,null,null,0,null,null,null,null,null,{"$f":"Раздел2!G55","v":0},{"$f":"Раздел2!D55","v":0}]
[null,"Всестилевое каратэ","48",0,0,null,null,null,0,null,null,null,0,0,null,null,null,0,null,null,null,0,null,null,null,null,null,{"$f":"Раздел2!G56","v":0},{"$f":"Раздел2!D56","v":0}]
[null,"Гандбол - всего","49",0,0,{"$f":"SUM(F57:F59)","v":0},{"$f":"SUM(G57:G59)","v":0},0,0,0,0,0,0,0,0,0,0,0,0,0,0,0,0,0,0,null,null,{"$f":"Раздел2!G57","v":0},{"$f":"Раздел2!D57","v":0}]
[null,"в том числе:\nГандбол (муж.)","50",0,0,null,null,null,0,null,null,null,0,0,null,null,null,0,null,null,null,0,null,null,null,null,null,{"$f":"Раздел2!G58","v":0},{"$f":"Раздел2!D58","v":0}]
[null,"Гандбол (жен.)","51",0,0,null,null,null,0,null,null,null,0,0,null,null,null,0,null,null,null,0,null,null,null,null,null,{"$f":"Раздел2!G59","v":0},{"$f":"Раздел2!D59","v":0}]
[null,"Пляжный гандбол","52",0,0,null,null,null,0,null,null,null,0,0,null,null,null,0,null,null,null,0,null,null,null,null,null,{"$f":"Раздел2!G60","v":0},{"$f":"Раздел2!D60","v":0}]
[null,"Гиревой спорт","53",0,0,null,null,null,0,null,null,null,0,0,null,null,null,0,null,null,null,0,null,null,null,null,null,{"$f":"Раздел2!G61","v":0},{"$f":"Раздел2!D61","v":0}]
[null,"Го","54",0,0,null,null,null,0,null,null,null,0,0,null,null,null,0,null,null,null,0,null,null,null,null,null,{"$f":"Раздел2!G62","v":0},{"$f":"Раздел2!D62","v":0}]
[null,"Гольф","55",0,0,null,null,null,0,null,null,null,0,0,null,null,null,0,null,null,null,0,null,null,null,null,null,{"$f":"Раздел2!G63","v":0},{"$f":"Раздел2!D63","v":0}]
[null,"Гонки на охотничьих лыжах","56",0,0,null,null,null,0,null,null,null,0,0,null,null,null,0,null,null,null,0,null,null,null,null,null,{"$f":"Раздел2!G64","v":0},{"$f":"Раздел2!D64","v":0}]
[null,"Гонки с препятствиями","57",0,0,null,null,null,0,null,null,null,0,0,null,null,null,0,null,null,null,0,null,null,null,null,null,{"$f":"Раздел2!G65","v":0},{"$f":"Раздел2!D65","v":0}]
[null,"Горнолыжный спорт","58",0,0,null,null,null,0,null,null,null,0,0,null,null,null,0,null,null,null,0,null,null,null,null,null,{"$f":"Раздел2!G66","v":0},{"$f":"Раздел2!D66","v":0}]
[null,"Городошный спорт","59",0,0,null,null,null,0,null,null,null,0,0,null,null,null,0,null,null,null,0,null,null,null,null,null,{"$f":"Раздел2!G67","v":0},{"$f":"Раздел2!D67","v":0}]
[null,"Гребля на байдарках и каноэ","60",0,0,null,null,null,0,null,null,null,0,0,null,null,null,0,null,null,null,0,null,null,null,null,null,{"$f":"Раздел2!G68","v":0},{"$f":"Раздел2!D68","v":0}]
[null,"Гребля на шлюпках","61",0,0,null,null,null,0,null,null,null,0,0,null,null,null,0,null,null,null,0,null,null,null,null,null,{"$f":"Раздел2!G69","v":0},{"$f":"Раздел2!D69","v":0}]
[null,"Гребной слалом","62",0,0,null,null,null,0,null,null,null,0,0,null,null,null,0,null,null,null,0,null,null,null,null,null,{"$f":"Раздел2!G70","v":0},{"$f":"Раздел2!D70","v":0}]
[null,"Гребной спорт - всего","63",0,0,{"$f":"SUM(F71:F74)","v":0},{"$f":"SUM(G71:G74)","v":0},0,0,0,0,0,0,0,0,0,0,0,0,0,0,0,0,0,0,null,null,{"$f":"Раздел2!G71","v":0},{"$f":"Раздел2!D71","v":0}]
[null,"в том числе:\nАкадемическая гребля","64",0,0,null,null,null,0,null,null,null,0,0,null,null,null,0,null,null,null,0,null,null,null,null,null,{"$f":"Раздел2!G72","v":0},{"$f":"Раздел2!D72","v":0}]
[null,"Гребля-индор","65",0,0,null,null,null,0,null,null,null,0,0,null,null,null,0,null,null,null,0,null,null,null,null,null,{"$f":"Раздел2!G73","v":0},{"$f":"Раздел2!D73","v":0}]
[null,"Народная гребля","66",{"$f":"SUM(E73,I73)","v":0},{"$f":"SUM(F73:H73)","v":0},null,null,null,{"$f":"SUM(J73:L73)","v":0},null,null,null,{"$f":"SUM(N73,V73)","v":0},{"$f":"SUM(O73:Q73)","v":0},null,null,null,{"$f":"SUM(S73:U73)","v":0},null,null,null,{"$f":"SUM(W73:Y73)","v":0},null,null,null,null,null,{"$f":"Раздел2!G74","v":0},{"$f":"Раздел2!D74","v":0}]
[null,"Прибрежная гребля","67",0,0,null,null,null,0,null,null,null,0,0,null,null,null,0,null,null,null,0,null,null,null,null,null,{"$f":"Раздел2!G75","v":0},{"$f":"Раздел2!D75","v":0}]
[null,"Гребно-парусное двоеборье","68",0,0,null,null,null,0,null,null,null,0,0,null,null,null,0,null,null,null,0,null,null,null,null,null,{"$f":"Раздел2!G76","v":0},{"$f":"Раздел2!D76","v":0}]
[null,"Дартс","69",0,0,null,null,null,0,null,null,null,0,0,null,null,null,0,null,null,null,0,null,null,null,null,null,{"$f":"Раздел2!G77","v":0},{"$f":"Раздел2!D77","v":0}]
[null,"Джиу-джитсу","70",0,0,null,null,null,0,null,null,null,0,0,null,null,null,0,null,null,null,0,null,null,null,null,null,{"$f":"Раздел2!G78","v":0},{"$f":"Раздел2!D78","v":0}]
[null,"Дзюдо","71",0,0,null,null,null,0,null,null,null,0,0,null,null,null,0,null,null,null,0,null,null,null,null,null,{"$f":"Раздел2!G79","v":0},{"$f":"Раздел2!D79","v":0}]
[null,"Ездовой спорт","72",0,0,null,null,null,0,null,null,null,0,0,null,null,null,0,null,null,null,0,null,null,null,null,null,{"$f":"Раздел2!G80","v":0},{"$f":"Раздел2!D80","v":0}]
[null,"Капоэйра","73",0,0,null,null,null,0,null,null,null,0,0,null,null,null,0,null,null,null,0,null,null,null,null,null,{"$f":"Раздел2!G81","v":0},{"$f":"Раздел2!D81","v":0}]
[null,"Каратэ","74",0,0,null,null,null,0,null,null,null,0,0,null,null,null,0,null,null,null,0,null,null,null,null,null,{"$f":"Раздел2!G82","v":0},{"$f":"Раздел2!D82","v":0}]
[null,"Кендо","75",0,0,null,null,null,0,null,null,null,0,0,null,null,null,0,null,null,null,0,null,null,null,null,null,{"$f":"Раздел2!G83","v":0},{"$f":"Раздел2!D83","v":0}]
[null,"Керешу","76",0,0,null,null,null,0,null,null,null,0,0,null,null,null,0,null,null,null,0,null,null,null,null,null,{"$f":"Раздел2!G84","v":0},{"$f":"Раздел2!D84","v":0}]
[null,"Кёрлинг - всего","77",0,0,{"$f":"SUM(F85:F87)","v":0},{"$f":"SUM(G85:G87)","v":0},0,0,0,0,0,0,0,0,0,0,0,0,0,0,0,0,0,0,null,null,{"$f":"Раздел2!G85","v":0},{"$f":"Раздел2!D85","v":0}]
[null,"в том числе:\nКерлинг (муж.)","78",0,0,null,null,null,0,null,null,null,0,0,null,null,null,0,null,null,null,0,null,null,null,null,null,{"$f":"Раздел2!G86","v":0},{"$f":"Раздел2!D86","v":0}]
[null,"Керлинг (жен.)","79",0,0,null,null,null,0,null,null,null,0,0,null,null,null,0,null,null,null,0,null,null,null,null,null,{"$f":"Раздел2!G87","v":0},{"$f":"Раздел2!D87","v":0}]
[null,"Кёрлинг – смешанные пары","80",0,0,null,null,null,0,null,null,null,0,0,null,null,null,0,null,null,null,0,null,null,null,null,null,{"$f":"Раздел2!G88","v":0},{"$f":"Раздел2!D88","v":0}]
[null,"Кикбоксинг","81",0,0,null,null,null,0,null,null,null,0,0,null,null,null,0,null,null,null,0,null,null,null,null,null,{"$f":"Раздел2!G89","v":0},{"$f":"Раздел2!D89","v":0}]
[null,"Кинологический спорт","82",0,0,null,null,null,0,null,null,null,0,0,null,null,null,0,null,null,null,0,null,null,null,null,null,{"$f":"Раздел2!G90","v":0},{"$f":"Раздел2!D90","v":0}]
[null,"Киокусинкай","83",0,0,null,null,null,0,null,null,null,0,0,null,null,null,0,null,null,null,0,null,null,null,null,null,{"$f":"Раздел2!G91","v":0},{"$f":"Раздел2!D91","v":0}]
[null,"Комплексное единоборство","84",0,0,null,null,null,0,null,null,null,0,0,null,null,null,0,null,null,null,0,null,null,null,null,null,{"$f":"Раздел2!G92","v":0},{"$f":"Раздел2!D92","v":0}]
[null,"Компьютерный спорт","85",0,0,null,null,null,0,null,null,null,0,0,null,null,null,0,null,null,null,0,null,null,null,null,null,{"$f":"Раздел2!G93","v":0},{"$f":"Раздел2!D93","v":0}]
[null,"Конный спорт","86",0,0,null,null,null,0,null,null,null,0,0,null,null,null,0,null,null,null,0,null,null,null,null,null,{"$f":"Раздел2!G94","v":0},{"$f":"Раздел2!D94","v":0}]
[null,"Конькобежный спорт - всего","87",0,0,{"$f":"SUM(F95:F96)","v":0},{"$f":"SUM(G95:G96)","v":0},0,0,0,0,0,0,0,0,0,0,0,0,0,0,0,0,0,0,null,null,{"$f":"Раздел2!G95","v":0},{"$f":"Раздел2!D95","v":0}]
[null,"в том числе:\nКонькобежный спорт","88",0,0,null,null,null,0,null,null,null,0,0,null,null,null,0,null,null,null,0,null,null,null,null,null,{"$f":"Раздел2!G96","v":0},{"$f":"Раздел2!D96","v":0}]
[null,"Шорт-трек","89",0,0,null,null,null,0,null,null,null,0,0,null,null,null,0,null,null,null,0,null,null,null,null,null,{"$f":"Раздел2!G97","v":0},{"$f":"Раздел2!D97","v":0}]
[null,"Корэш","90",0,0,null,null,null,0,null,null,null,0,0,null,null,null,0,null,null,null,0,null,null,null,null,null,{"$f":"Раздел2!G98","v":0},{"$f":"Раздел2!D98","v":0}]
[null,"Корфбол","91",0,0,null,null,null,0,null,null,null,0,0,null,null,null,0,null,null,null,0,null,null,null,null,null,{"$f":"Раздел2!G99","v":0},{"$f":"Раздел2!D99","v":0}]
[null,"Крикет","92",0,0,null,null,null,0,null,null,null,0,0,null,null,null,0,null,null,null,0,null,null,null,null,null,{"$f":"Раздел2!G100","v":0},{"$f":"Раздел2!D100","v":0}]
[null,"Кудо","93",0,0,null,null,null,0,null,null,null,0,0,null,null,null,0,null,null,null,0,null,null,null,null,null,{"$f":"Раздел2!G101","v":0},{"$f":"Раздел2!D101","v":0}]
[null,"Лапта","94",0,0,null,null,null,0,null,null,null,0,0,null,null,null,0,null,null,null,0,null,null,null,null,null,{"$f":"Раздел2!G102","v":0},{"$f":"Раздел2!D102","v":0}]
[null,"Легкая атлетика - всего","95",93,93,{"$f":"SUM(F103:F109)","v":0},{"$f":"SUM(G103:G109)","v":1},92,0,0,0,0,30,30,0,0,30,0,0,0,0,0,0,0,0,null,null,{"$f":"Раздел2!G103","v":263},{"$f":"Раздел2!D103","v":1}]
[null,"в том числе:\nСпринтерский и барьерный бег","96",0,0,null,null,null,0,null,null,null,0,0,null,null,null,0,null,null,null,0,null,null,null,null,null,{"$f":"Раздел2!G104","v":0},{"$f":"Раздел2!D104","v":0}]
[null,"Бег на средние дистанции и бег с препятствиями","97",0,0,null,null,null,0,null,null,null,0,0,null,null,null,0,null,null,null,0,null,null,null,null,null,{"$f":"Раздел2!G105","v":0},{"$f":"Раздел2!D105","v":0}]
[null,"Бег на длинные и сверхдлинные дистанции","98",0,0,null,null,null,0,null,null,null,0,0,null,null,null,0,null,null,null,0,null,null,null,null,null,{"$f":"Раздел2!G106","v":0},{"$f":"Раздел2!D106","v":0}]
[null,"Многоборья","99",93,93,null,1,92,0,null,null,null,30,30,null,null,30,0,null,null,null,0,null,null,null,null,null,{"$f":"Раздел2!G107","v":263},{"$f":"Раздел2!D107","v":1}]
[null,"Прыжки","100",0,0,null,null,null,0,null,null,null,0,0,null,null,null,0,null,null,null,0,null,null,null,null,null,{"$f":"Раздел2!G108","v":0},{"$f":"Раздел2!D108","v":0}]
[null,"Метания","101",0,0,null,null,null,0,null,null,null,0,0,null,null,null,0,null,null,null,0,null,null,null,null,null,{"$f":"Раздел2!G109","v":0},{"$f":"Раздел2!D109","v":0}]
[null,"Спортивная ходьба","102",0,0,null,null,null,0,null,null,null,0,0,null,null,null,0,null,null,null,0,null,null,null,null,null,{"$f":"Раздел2!G110","v":0},{"$f":"Раздел2!D110","v":0}]
[null,"Лыжное двоеборье","103",0,0,null,null,null,0,null,null,null,0,0,null,null,null,0,null,null,null,0,null,null,null,null,null,{"$f":"Раздел2!G111","v":0},{"$f":"Раздел2!D111","v":0}]
[null,"Лыжные гонки","104",0,0,null,null,null,0,null,null,null,0,0,null,null,null,0,null,null,null,0,null,null,null,null,null,{"$f":"Раздел2!G112","v":0},{"$f":"Раздел2!D112","v":0}]
[null,"Мас-рестлинг","105",0,0,null,null,null,0,null,null,null,0,0,null,null,null,0,null,null,null,0,null,null,null,null,null,{"$f":"Раздел2!G113","v":0},{"$f":"Раздел2!D113","v":0}]
[null,"Международное военно-спортивное многоборье","106",0,0,null,null,null,0,null,null,null,0,0,null,null,null,0,null,null,null,0,null,null,null,null,null,{"$f":"Раздел2!G114","v":0},{"$f":"Раздел2!D114","v":0}]
[null,"Многоборье кинологов","107",0,0,null,null,null,0,null,null,null,0,0,null,null,null,0,null,null,null,0,null,null,null,null,null,{"$f":"Раздел2!G115","v":0},{"$f":"Раздел2!D115","v":0}]
[null,"Многоборье спасателей МЧС России","108",0,0,null,null,null,0,null,null,null,0,0,null,null,null,0,null,null,null,0,null,null,null,null,null,{"$f":"Раздел2!G116","v":0},{"$f":"Раздел2!D116","v":0}]
[null,"Морское многоборье","109",0,0,null,null,null,0,null,null,null,0,0,null,null,null,0,null,null,null,0,null,null,null,null,null,{"$f":"Раздел2!G117","v":0},{"$f":"Раздел2!D117","v":0}]
[null,"Мотоциклетный спорт","110",0,0,null,null,null,0,null,null,null,0,0,null,null,null,0,null,null,null,0,null,null,null,null,null,{"$f":"Раздел2!G118","v":0},{"$f":"Раздел2!D118","v":0}]
[null,"Настольный теннис","111",0,0,null,null,null,0,null,null,null,0,0,null,null,null,0,null,null,null,0,null,null,null,null,null,{"$f":"Раздел2!G119","v":0},{"$f":"Раздел2!D119","v":0}]
[null,"Падел","112",0,0,null,null,null,0,null,null,null,0,0,null,null,null,0,null,null,null,0,null,null,null,null,null,{"$f":"Раздел2!G120","v":0},{"$f":"Раздел2!D120","v":0}]
[null,"Парашютный спорт","113",0,0,null,null,null,0,null,null,null,0,0,null,null,null,0,null,null,null,0,null,null,null,null,null,{"$f":"Раздел2!G121","v":0},{"$f":"Раздел2!D121","v":0}]
[null,"Парусный спорт","114",0,0,null,null,null,0,null,null,null,0,0,null,null,null,0,null,null,null,0,null,null,null,null,null,{"$f":"Раздел2!G122","v":0},{"$f":"Раздел2!D122","v":0}]
[null,"Пауэрлифтинг","115",0,0,null,null,null,0,null,null,null,0,0,null,null,null,0,null,null,null,0,null,null,null,null,null,{"$f":"Раздел2!G123","v":0},{"$f":"Раздел2!D123","v":0}]
[null,"Перетягивание каната","116",0,0,null,null,null,0,null,null,null,0,0,null,null,null,0,null,null,null,0,null,null,null,null,null,{"$f":"Раздел2!G124","v":0},{"$f":"Раздел2!D124","v":0}]
[null,"Плавание - всего","117",49,{"$f":"SUM(F124:H124)","v":49},{"$f":"SUM(F125:F126)","v":0},{"$f":"SUM(G125:G126)","v":0},49,0,0,0,0,14,14,0,0,14,0,0,0,0,0,0,0,0,null,null,{"$f":"Раздел2!G125","v":86},{"$f":"Раздел2!D125","v":1}]
[null,"в том числе:\nПлавание ","118",49,49,null,null,49,0,null,null,null,14,14,null,null,14,0,null,null,null,0,null,null,null,null,null,{"$f":"Раздел2!G126","v":86},{"$f":"Раздел2!D126","v":1}]
[null,"Открытая вода","119",0,0,null,null,null,0,null,null,null,0,0,null,null,null,0,null,null,null,0,null,null,null,null,null,{"$f":"Раздел2!G127","v":0},{"$f":"Раздел2!D127","v":0}]
[null,"Планерный спорт","120",0,0,null,null,null,0,null,null,null,0,0,null,null,null,0,null,null,null,0,null,null,null,null,null,{"$f":"Раздел2!G128","v":0},{"$f":"Раздел2!D128","v":0}]
[null,"Подводный спорт","121",0,0,null,null,null,0,null,null,null,0,0,null,null,null,0,null,null,null,0,null,null,null,null,null,{"$f":"Раздел2!G129","v":0},{"$f":"Раздел2!D129","v":0}]
[null,"Пожарно-спасательный спорт","122",0,0,null,null,null,0,null,null,null,0,0,null,null,null,0,null,null,null,0,null,null,null,null,null,{"$f":"Раздел2!G130","v":0},{"$f":"Раздел2!D130","v":0}]
[null,"Полиатлон","123",0,0,null,null,null,0,null,null,null,0,0,null,null,null,0,null,null,null,0,null,null,null,null,null,{"$f":"Раздел2!G131","v":0},{"$f":"Раздел2!D131","v":0}]
[null,"Практическая стрельба","124",0,0,null,null,null,0,null,null,null,0,0,null,null,null,0,null,null,null,0,null,null,null,null,null,{"$f":"Раздел2!G132","v":0},{"$f":"Раздел2!D132","v":0}]
[null,"Прыжки в воду - всего","125",0,0,{"$f":"SUM(F133:F134)","v":0},{"$f":"SUM(G133:G134)","v":0},0,0,0,0,0,0,0,0,0,0,0,0,0,0,0,0,0,0,null,null,{"$f":"Раздел2!G133","v":0},{"$f":"Раздел2!D133","v":0}]
[null,"в том числе:\nПрыжки в воду","126",0,0,null,null,null,0,null,null,null,0,0,null,null,null,0,null,null,null,0,null,null,null,null,null,{"$f":"Раздел2!G134","v":0},{"$f":"Раздел2!D134","v":0}]
[null,"Прыжки в открытый водоем","127",0,0,null,null,null,0,null,null,null,0,0,null,null,null,0,null,null,null,0,null,null,null,null,null,{"$f":"Раздел2!G135","v":0},{"$f":"Раздел2!D135","v":0}]
[null,"Прыжки на батуте - всего","128",0,0,{"$f":"SUM(F136:F139)","v":0},{"$f":"SUM(G136:G139)","v":0},0,0,0,0,0,0,0,0,0,0,0,0,0,0,0,0,0,0,null,null,{"$f":"Раздел2!G136","v":0},{"$f":"Раздел2!D136","v":0}]
[null,"в том числе:\nАкробатическая дорожка","129",0,0,null,null,null,0,null,null,null,0,0,null,null,null,0,null,null,null,0,null,null,null,null,null,{"$f":"Раздел2!G137","v":0},{"$f":"Раздел2!D137","v":0}]
[null,"Двойной минитрамп","130",{"$f":"SUM(E137,I137)","v":0},{"$f":"SUM(F137:H137)","v":0},null,null,null,{"$f":"SUM(J137:L137)","v":0},null,null,null,{"$f":"SUM(N137,V137)","v":0},{"$f":"SUM(O137:Q137)","v":0},null,null,null,{"$f":"SUM(S137:U137)","v":0},null,null,null,{"$f":"SUM(W137:Y137)","v":0},null,null,null,null,null,{"$f":"Раздел2!G138","v":0},{"$f":"Раздел2!D138","v":0}]
[null,"Индивидуальные прыжки","131",0,0,null,null,null,0,null,null,null,0,0,null,null,null,0,null,null,null,0,null,null,null,null,null,{"$f":"Раздел2!G139","v":0},{"$f":"Раздел2!D139","v":0}]
[null,"Синхронные прыжки","132",0,0,null,null,null,0,null,null,null,0,0,null,null,null,0,null,null,null,0,null,null,null,null,null,{"$f":"Раздел2!G140","v":0},{"$f":"Раздел2!D140","v":0}]
[null,"Прыжки на лыжах с трамплина","133",0,0,null,null,null,0,null,null,null,0,0,null,null,null,0,null,null,null,0,null,null,null,null,null,{"$f":"Раздел2!G141","v":0},{"$f":"Раздел2!D141","v":0}]
[null,"Пулевая стрельба - всего","134",0,0,{"$f":"SUM(F142:F146)","v":0},{"$f":"SUM(G142:G146)","v":0},0,0,0,0,0,0,0,0,0,0,0,0,0,0,0,0,0,0,null,null,{"$f":"Раздел2!G142","v":0},{"$f":"Раздел2!D142","v":0}]
[null,"в том числе:\nПневматическая винтовка","135",0,0,null,null,null,0,null,null,null,0,0,null,null,null,0,null,null,null,0,null,null,null,null,null,{"$f":"Раздел2!G143","v":0},{"$f":"Раздел2!D143","v":0}]
[null,"Пневматический пистолет","136",0,0,null,null,null,0,null,null,null,0,0,null,null,null,0,null,null,null,0,null,null,null,null,null,{"$f":"Раздел2!G144","v":0},{"$f":"Раздел2!D144","v":0}]
[null,"Малокалиберная винтовка","137",0,0,null,null,null,0,null,null,null,0,0,null,null,null,0,null,null,null,0,null,null,null,null,null,{"$f":"Раздел2!G145","v":0},{"$f":"Раздел2!D145","v":0}]
[null,"Малокалиберный пистолет","138",0,0,null,null,null,0,null,null,null,0,0,null,null,null,0,null,null,null,0,null,null,null,null,null,{"$f":"Раздел2!G146","v":0},{"$f":"Раздел2!D146","v":0}]
[null,"Движущаяся мишень","139",0,0,null,null,null,0,null,null,null,0,0,null,null,null,0,null,null,null,0,null,null,null,null,null,{"$f":"Раздел2!G147","v":0},{"$f":"Раздел2!D147","v":0}]
[null,"Пэйнтбол","140",0,0,null,null,null,0,null,null,null,0,0,null,null,null,0,null,null,null,0,null,null,null,null,null,{"$f":"Раздел2!G148","v":0},{"$f":"Раздел2!D148","v":0}]
[null,"Радиоспорт","141",0,0,null,null,null,0,null,null,null,0,0,null,null,null,0,null,null,null,0,null,null,null,null,null,{"$f":"Раздел2!G149","v":0},{"$f":"Раздел2!D149","v":0}]
[null,"Рафтинг","142",0,0,null,null,null,0,null,null,null,0,0,null,null,null,0,null,null,null,0,null,null,null,null,null,{"$f":"Раздел2!G150","v":0},{"$f":"Раздел2!D150","v":0}]
[null,"Регби - всего","143",0,0,{"$f":"SUM(F151:F154)","v":0},{"$f":"SUM(G151:G154)","v":0},0,0,0,0,0,0,0,0,0,0,0,0,0,0,0,0,0,0,null,null,{"$f":"Раздел2!G151","v":0},{"$f":"Раздел2!D151","v":0}]
[null,"в том числе:\nРегби","144",0,0,null,null,null,0,null,null,null,0,0,null,null,null,0,null,null,null,0,null,null,null,null,null,{"$f":"Раздел2!G152","v":0},{"$f":"Раздел2!D152","v":0}]
[null,"Регби 7 (муж.)","145",0,0,null,null,null,0,null,null,null,0,0,null,null,null,0,null,null,null,0,null,null,null,null,null,{"$f":"Раздел2!G153","v":0},{"$f":"Раздел2!D153","v":0}]
[null,"Регби 7 (жен.)","146",0,0,null,null,null,0,null,null,null,0,0,null,null,null,0,null,null,null,0,null,null,null,null,null,{"$f":"Раздел2!G154","v":0},{"$f":"Раздел2!D154","v":0}]
[null,"Регби - пляжное","147",0,0,null,null,null,0,null,null,null,0,0,null,null,null,0,null,null,null,0,null,null,null,null,null,{"$f":"Раздел2!G155","v":0},{"$f":"Раздел2!D155","v":0}]
[null,"Регбол","148",0,0,null,null,null,0,null,null,null,0,0,null,null,null,0,null,null,null,0,null,null,null,null,null,{"$f":"Раздел2!G156","v":0},{"$f":"Раздел2!D156","v":0}]
[null,"Роллер спорт","149",0,0,null,null,null,0,null,null,null,0,0,null,null,null,0,null,null,null,0,null,null,null,null,null,{"$f":"Раздел2!G157","v":0},{"$f":"Раздел2!D157","v":0}]
[null,"Роуп скиппинг (спортивная скакалка)","150",0,0,null,null,null,0,null,null,null,0,0,null,null,null,0,null,null,null,0,null,null,null,null,null,{"$f":"Раздел2!G158","v":0},{"$f":"Раздел2!D158","v":0}]
[null,"Рукопашный бой","151",0,0,null,null,null,0,null,null,null,0,0,null,null,null,0,null,null,null,0,null,null,null,null,null,{"$f":"Раздел2!G159","v":0},{"$f":"Раздел2!D159","v":0}]
[null,"Рыболовный спорт","152",0,0,null,null,null,0,null,null,null,0,0,null,null,null,0,null,null,null,0,null,null,null,null,null,{"$f":"Раздел2!G160","v":0},{"$f":"Раздел2!D160","v":0}]
[null,"Сават","153",0,0,null,null,null,0,null,null,null,0,0,null,null,null,0,null,null,null,0,null,null,null,null,null,{"$f":"Раздел2!G161","v":0},{"$f":"Раздел2!D161","v":0}]
[null,"Самбо","154",0,0,null,null,null,0,null,null,null,0,0,null,null,null,0,null,null,null,0,null,null,null,null,null,{"$f":"Раздел2!G162","v":0},{"$f":"Раздел2!D162","v":0}]
[null,"Самолетный спорт","155",0,0,null,null,null,0,null,null,null,0,0,null,null,null,0,null,null,null,0,null,null,null,null,null,{"$f":"Раздел2!G163","v":0},{"$f":"Раздел2!D163","v":0}]
[null,"Санный спорт","156",0,0,null,null,null,0,null,null,null,0,0,null,null,null,0,null,null,null,0,null,null,null,null,null,{"$f":"Раздел2!G164","v":0},{"$f":"Раздел2!D164","v":0}]
[null,"Северное многоборье","157",0,0,null,null,null,0,null,null,null,0,0,null,null,null,0,null,null,null,0,null,null,null,null,null,{"$f":"Раздел2!G165","v":0},{"$f":"Раздел2!D165","v":0}]
[null,"Серфинг","158",0,0,null,null,null,0,null,null,null,0,0,null,null,null,0,null,null,null,0,null,null,null,null,null,{"$f":"Раздел2!G166","v":0},{"$f":"Раздел2!D166","v":0}]
[null,"Синхронное плавание","159",0,0,null,null,null,0,null,null,null,0,0,null,null,null,0,null,null,null,0,null,null,null,null,null,{"$f":"Раздел2!G167","v":0},{"$f":"Раздел2!D167","v":0}]
[null,"Скалолазание","160",0,0,null,null,null,0,null,null,null,0,0,null,null,null,0,null,null,null,0,null,null,null,null,null,{"$f":"Раздел2!G168","v":0},{"$f":"Раздел2!D168","v":0}]
[null,"Сквош","161",0,0,null,null,null,0,null,null,null,0,0,null,null,null,0,null,null,null,0,null,null,null,null,null,{"$f":"Раздел2!G169","v":0},{"$f":"Раздел2!D169","v":0}]
[null,"Скейтбординг","162",0,0,null,null,null,0,null,null,null,0,0,null,null,null,0,null,null,null,0,null,null,null,null,null,{"$f":"Раздел2!G170","v":0},{"$f":"Раздел2!D170","v":0}]
[null,"Служебно-боевая стрельба ","163",0,0,null,null,null,0,null,null,null,0,0,null,null,null,0,null,null,null,0,null,null,null,null,null,{"$f":"Раздел2!G171","v":0},{"$f":"Раздел2!D171","v":0}]
[null,"Служебно-прикладной спорт","164",0,0,null,null,null,0,null,null,null,0,0,null,null,null,0,null,null,null,0,null,null,null,null,null,{"$f":"Раздел2!G172","v":0},{"$f":"Раздел2!D172","v":0}]
[null,"Служебно-прикладной спорт ФСО России","165",0,0,null,null,null,0,null,null,null,0,0,null,null,null,0,null,null,null,0,null,null,null,null,null,{"$f":"Раздел2!G173","v":0},{"$f":"Раздел2!D173","v":0}]
[null,"Служебно-прикладной спорт ФТС России","166",0,0,null,null,null,0,null,null,null,0,0,null,null,null,0,null,null,null,0,null,null,null,null,null,{"$f":"Раздел2!G174","v":0},{"$f":"Раздел2!D174","v":0}]
[null,"Служебное двоеборье","167",0,0,null,null,null,0,null,null,null,0,0,null,null,null,0,null,null,null,0,null,null,null,null,null,{"$f":"Раздел2!G175","v":0},{"$f":"Раздел2!D175","v":0}]
[null,"Служебное единоборство","168",0,0,null,null,null,0,null,null,null,0,0,null,null,null,0,null,null,null,0,null,null,null,null,null,{"$f":"Раздел2!G176","v":0},{"$f":"Раздел2!D176","v":0}]
[null,"Служебное многоборье","169",0,0,null,null,null,0,null,null,null,0,0,null,null,null,0,null,null,null,0,null,null,null,null,null,{"$f":"Раздел2!G177","v":0},{"$f":"Раздел2!D177","v":0}]
[null,"Служебный биатлон","170",0,0,null,null,null,0,null,null,null,0,0,null,null,null,0,null,null,null,0,null,null,null,null,null,{"$f":"Раздел2!G178","v":0},{"$f":"Раздел2!D178","v":0}]
[null,"Спасательный спорт","171",0,0,null,null,null,0,null,null,null,0,0,null,null,null,0,null,null,null,0,null,null,null,null,null,{"$f":"Раздел2!G179","v":0},{"$f":"Раздел2!D179","v":0}]
[null,"Стрельба из боевого ручного стрелкового оружия","172",0,0,null,null,null,0,null,null,null,0,0,null,null,null,0,null,null,null,0,null,null,null,null,null,{"$f":"Раздел2!G180","v":0},{"$f":"Раздел2!D180","v":0}]
[null,"Стрельба из штатного или табельного оружия","173",0,0,null,null,null,0,null,null,null,0,0,null,null,null,0,null,null,null,0,null,null,null,null,null,{"$f":"Раздел2!G181","v":0},{"$f":"Раздел2!D181","v":0}]
[null,"Смешанное боевое единоборство (ММА)","174",0,0,null,null,null,0,null,null,null,0,0,null,null,null,0,null,null,null,0,null,null,null,null,null,{"$f":"Раздел2!G182","v":0},{"$f":"Раздел2!D182","v":0}]
[null,"Сноуборд","175",0,0,null,null,null,0,null,null,null,0,0,null,null,null,0,null,null,null,0,null,null,null,null,null,{"$f":"Раздел2!G183","v":0},{"$f":"Раздел2!D183","v":0}]
[null,"Современное пятиборье","176",0,0,null,null,null,0,null,null,null,0,0,null,null,null,0,null,null,null,0,null,null,null,null,null,{"$f":"Раздел2!G184","v":0},{"$f":"Раздел2!D184","v":0}]
[null,"Софтбол","177",0,0,null,null,null,0,null,null,null,0,0,null,null,null,0,null,null,null,0,null,null,null,null,null,{"$f":"Раздел2!G185","v":0},{"$f":"Раздел2!D185","v":0}]
[null,"Спорт сверхлегкой авиации","178",0,0,null,null,null,0,null,null,null,0,0,null,null,null,0,null,null,null,0,null,null,null,null,null,{"$f":"Раздел2!G186","v":0},{"$f":"Раздел2!D186","v":0}]
[null,"Спортивная акробатика","179",0,0,null,null,null,0,null,null,null,0,0,null,null,null,0,null,null,null,0,null,null,null,null,null,{"$f":"Раздел2!G187","v":0},{"$f":"Раздел2!D187","v":0}]
[null,"Спортивная аэробика","180",0,0,null,null,null,0,null,null,null,0,0,null,null,null,0,null,null,null,0,null,null,null,null,null,{"$f":"Раздел2!G188","v":0},{"$f":"Раздел2!D188","v":0}]
[null,"Спортивная борьба - всего","181",46,46,{"$f":"SUM(F189:F193)","v":0},{"$f":"SUM(G189:G193)","v":0},46,0,0,0,0,13,13,0,0,13,0,0,0,0,0,0,0,0,null,null,{"$f":"Раздел2!G189","v":109},{"$f":"Раздел2!D189","v":1}]
[null,"в том числе:\nВольная борьба","182",0,0,null,null,null,0,null,null,null,0,0,null,null,null,0,null,null,null,0,null,null,null,null,null,{"$f":"Раздел2!G190","v":0},{"$f":"Раздел2!D190","v":0}]
[null,"Греко-римская борьба","183",46,46,null,null,46,0,null,null,null,13,13,null,null,13,0,null,null,null,0,null,null,null,null,null,{"$f":"Раздел2!G191","v":109},{"$f":"Раздел2!D191","v":1}]
[null,"Грэпплинг","184",0,0,null,null,null,0,null,null,null,0,0,null,null,null,0,null,null,null,0,null,null,null,null,null,{"$f":"Раздел2!G192","v":0},{"$f":"Раздел2!D192","v":0}]
[null,"Грэпплинг-ги","185",0,0,null,null,null,0,null,null,null,0,0,null,null,null,0,null,null,null,0,null,null,null,null,null,{"$f":"Раздел2!G193","v":0},{"$f":"Раздел2!D193","v":0}]
[null,"Панкратион","186",0,0,null,null,null,0,null,null,null,0,0,null,null,null,0,null,null,null,0,null,null,null,null,null,{"$f":"Раздел2!G194","v":0},{"$f":"Раздел2!D194","v":0}]
[null,"Спортивная гимнастика","187",0,0,null,null,null,0,null,null,null,0,0,null,null,null,0,null,null,null,0,null,null,null,null,null,{"$f":"Раздел2!G195","v":0},{"$f":"Раздел2!D195","v":0}]
[null,"Спортивная йога","188",0,0,null,null,null,0,null,null,null,0,0,null,null,null,0,null,null,null,0,null,null,null,null,null,{"$f":"Раздел2!G196","v":0},{"$f":"Раздел2!D196","v":0}]
[null,"Спортивно-прикладное собаководство","189",0,0,null,null,null,0,null,null,null,0,0,null,null,null,0,null,null,null,0,null,null,null,null,null,{"$f":"Раздел2!G197","v":0},{"$f":"Раздел2!D197","v":0}]
[null,"Спортивное метание ножа","190",0,0,null,null,null,0,null,null,null,0,0,null,null,null,0,null,null,null,0,null,null,null,null,null,{"$f":"Раздел2!G198","v":0},{"$f":"Раздел2!D198","v":0}]
[null,"Спортивное ориентирование","191",0,0,null,null,null,0,null,null,null,0,0,null,null,null,0,null,null,null,0,null,null,null,null,null,{"$f":"Раздел2!G199","v":0},{"$f":"Раздел2!D199","v":0}]
[null,"Спортивный бридж","192",0,0,null,null,null,0,null,null,null,0,0,null,null,null,0,null,null,null,0,null,null,null,null,null,{"$f":"Раздел2!G200","v":0},{"$f":"Раздел2!D200","v":0}]
[null,"Спортивный туризм","193",0,0,null,null,null,0,null,null,null,0,0,null,null,null,0,null,null,null,0,null,null,null,null,null,{"$f":"Раздел2!G201","v":0},{"$f":"Раздел2!D201","v":0}]
[null,"Стендовая стрельба - всего","194",{"$f":"SUM(E201,I201)","v":0},{"$f":"SUM(F201:H201)","v":0},{"$f":"SUM(F202:F205)","v":0},{"$f":"SUM(G202:G205)","v":0},0,0,0,0,0,{"$f":"SUM(N201,V201)","v":0},0,0,0,0,0,0,0,0,0,0,0,0,null,null,{"$f":"Раздел2!G202","v":0},{"$f":"Раздел2!D202","v":0}]
[null,"в том числе:\nТрап","195",0,0,null,null,null,{"$f":"SUM(J202:L202)","v":0},null,null,null,0,{"$f":"SUM(O202:Q202)","v":0},null,null,null,{"$f":"SUM(S202:U202)","v":0},null,null,null,{"$f":"SUM(W202:Y202)","v":0},null,null,null,null,null,{"$f":"Раздел2!G203","v":0},{"$f":"Раздел2!D203","v":0}]
[null,"Скит","196",0,0,null,null,null,0,null,null,null,0,0,null,null,null,0,null,null,null,0,null,null,null,null,null,{"$f":"Раздел2!G204","v":0},{"$f":"Раздел2!D204","v":0}]
[null,"Дубль-трап","197",0,0,null,null,null,0,null,null,null,0,0,null,null,null,0,null,null,null,0,null,null,null,null,null,{"$f":"Раздел2!G205","v":0},{"$f":"Раздел2!D205","v":0}]
[null,"Спортинг","198",0,0,null,null,null,0,null,null,null,0,0,null,null,null,0,null,null,null,0,null,null,null,null,null,{"$f":"Раздел2!G206","v":0},{"$f":"Раздел2!D206","v":0}]
[null,"Страйкбол","199",0,0,null,null,null,0,null,null,null,0,0,null,null,null,0,null,null,null,0,null,null,null,null,null,{"$f":"Раздел2!G207","v":0},{"$f":"Раздел2!D207","v":0}]
[null,"Стрельба из арбалета","200",0,0,null,null,null,0,null,null,null,0,0,null,null,null,0,null,null,null,0,null,null,null,null,null,{"$f":"Раздел2!G208","v":0},{"$f":"Раздел2!D208","v":0}]
[null,"Стрельба из лука - всего","201",0,0,{"$f":"SUM(F209:F211)","v":0},{"$f":"SUM(G209:G211)","v":0},0,0,0,0,0,0,0,0,0,0,0,0,0,0,0,0,0,0,null,null,{"$f":"Раздел2!G209","v":0},{"$f":"Раздел2!D209","v":0}]
[null,"в том числе:\nКлассический лук","202",0,0,null,null,null,0,null,null,null,0,0,null,null,null,0,null,null,null,0,null,null,null,null,null,{"$f":"Раздел2!G210","v":0},{"$f":"Раздел2!D210","v":0}]
[null,"   Блочный лук","203",0,0,null,null,null,0,null,null,null,0,0,null,null,null,0,null,null,null,0,null,null,null,null,null,{"$f":"Раздел2!G211","v":0},{"$f":"Раздел2!D211","v":0}]
[null,"   Ачери ","204",0,0,null,null,null,0,null,null,null,0,0,null,null,null,0,null,null,null,0,null,null,null,null,null,{"$f":"Раздел2!G212","v":0},{"$f":"Раздел2!D212","v":0}]
[null,"Судомодельный спорт","205",0,0,null,null,null,0,null,null,null,0,0,null,null,null,0,null,null,null,0,null,null,null,null,null,{"$f":"Раздел2!G213","v":0},{"$f":"Раздел2!D213","v":0}]
[null,"Сумо","206",0,0,null,null,null,0,null,null,null,0,0,null,null,null,0,null,null,null,0,null,null,null,null,null,{"$f":"Раздел2!G214","v":0},{"$f":"Раздел2!D214","v":0}]
[null,"Таврели","207",0,0,null,null,null,0,null,null,null,0,0,null,null,null,0,null,null,null,0,null,null,null,null,null,{"$f":"Раздел2!G215","v":0},{"$f":"Раздел2!D215","v":0}]
[null,"Тайский бокс","208",0,0,null,null,null,0,null,null,null,0,0,null,null,null,0,null,null,null,0,null,null,null,null,null,{"$f":"Раздел2!G216","v":0},{"$f":"Раздел2!D216","v":0}]
[null,"Танцевальный спорт","209",0,0,null,null,null,0,null,null,null,0,0,null,null,null,0,null,null,null,0,null,null,null,null,null,{"$f":"Раздел2!G217","v":0},{"$f":"Раздел2!D217","v":0}]
[null,"Теннис","210",0,0,null,null,null,0,null,null,null,0,0,null,null,null,0,null,null,null,0,null,null,null,null,null,{"$f":"Раздел2!G218","v":0},{"$f":"Раздел2!D218","v":0}]
[null,"Триатлон","211",0,0,null,null,null,0,null,null,null,0,0,null,null,null,0,null,null,null,0,null,null,null,null,null,{"$f":"Раздел2!G219","v":0},{"$f":"Раздел2!D219","v":0}]
[null,"Тхэквондо (ВТФ)","212",0,0,null,null,null,0,null,null,null,0,0,null,null,null,0,null,null,null,0,null,null,null,null,null,{"$f":"Раздел2!G220","v":0},{"$f":"Раздел2!D220","v":0}]
[null,"Тхэквондо ГТФ","213",0,0,null,null,null,0,null,null,null,0,0,null,null,null,0,null,null,null,0,null,null,null,null,null,{"$f":"Раздел2!G221","v":0},{"$f":"Раздел2!D221","v":0}]
[null,"Тхэквондо ИТФ","214",0,0,null,null,null,0,null,null,null,0,0,null,null,null,0,null,null,null,0,null,null,null,null,null,{"$f":"Раздел2!G222","v":0},{"$f":"Раздел2!D222","v":0}]
[null,"Тхэквондо МФТ","215",0,0,null,null,null,0,null,null,null,0,0,null,null,null,0,null,null,null,0,null,null,null,null,null,{"$f":"Раздел2!G223","v":0},{"$f":"Раздел2!D223","v":0}]
[null,"Тяжелая атлетика","216",0,0,null,null,null,0,null,null,null,0,0,null,null,null,0,null,null,null,0,null,null,null,null,null,{"$f":"Раздел2!G224","v":0},{"$f":"Раздел2!D224","v":0}]
[null,"Универсальный бой","217",0,0,null,null,null,0,null,null,null,0,0,null,null,null,0,null,null,null,0,null,null,null,null,null,{"$f":"Раздел2!G225","v":0},{"$f":"Раздел2!D225","v":0}]
[null,"Ушу","218",0,0,null,null,null,0,null,null,null,0,0,null,null,null,0,null,null,null,0,null,null,null,null,null,{"$f":"Раздел2!G226","v":0},{"$f":"Раздел2!D226","v":0}]
[null,"Фехтование - всего","219",0,0,{"$f":"SUM(F227:F230)","v":0},{"$f":"SUM(G227:G230)","v":0},0,0,0,0,0,0,0,0,0,0,0,0,0,0,0,0,0,0,null,null,{"$f":"Раздел2!G227","v":0},{"$f":"Раздел2!D227","v":0}]
[null,"в том числе:\nРапира","220",0,0,null,null,null,0,null,null,null,0,0,null,null,null,0,null,null,null,0,null,null,null,null,null,{"$f":"Раздел2!G228","v":0},{"$f":"Раздел2!D228","v":0}]
[null,"Сабля","221",0,0,null,null,null,0,null,null,null,0,0,null,null,null,0,null,null,null,0,null,null,null,null,null,{"$f":"Раздел2!G229","v":0},{"$f":"Раздел2!D229","v":0}]
[null,"Шпага","222",0,0,null,null,null,0,null,null,null,0,0,null,null,null,0,null,null,null,0,null,null,null,null,null,{"$f":"Раздел2!G230","v":0},{"$f":"Раздел2!D230","v":0}]
[null,"Арт-фехтование","223",0,0,null,null,null,0,null,null,null,0,0,null,null,null,0,null,null,null,0,null,null,null,null,null,{"$f":"Раздел2!G231","v":0},{"$f":"Раздел2!D231","v":0}]
[null,"Фигурное катание на коньках","224",0,0,null,null,null,0,null,null,null,0,0,null,null,null,0,null,null,null,0,null,null,null,null,null,{"$f":"Раздел2!G232","v":0},{"$f":"Раздел2!D232","v":0}]
[null,"Фитнес-аэробика","225",0,0,null,null,null,0,null,null,null,0,0,null,null,null,0,null,null,null,0,null,null,null,null,null,{"$f":"Раздел2!G233","v":0},{"$f":"Раздел2!D233","v":0}]
[null,"Флаинг диск","226",0,0,null,null,null,0,null,null,null,0,0,null,null,null,0,null,null,null,0,null,null,null,null,null,{"$f":"Раздел2!G234","v":0},{"$f":"Раздел2!D234","v":0}]
[null,"Флорбол","227",0,0,null,null,null,0,null,null,null,0,0,null,null,null,0,null,null,null,0,null,null,null,null,null,{"$f":"Раздел2!G235","v":0},{"$f":"Раздел2!D235","v":0}]
[null,"Фристайл - всего","228",0,0,{"$f":"SUM(F236:F241)","v":0},{"$f":"SUM(G236:G241)","v":0},0,0,0,0,0,0,0,0,0,0,0,0,0,0,0,0,0,0,null,null,{"$f":"Раздел2!G236","v":0},{"$f":"Раздел2!D236","v":0}]
[null,"в том числе:\nАкробатика","229",0,0,null,null,null,0,null,null,null,0,0,null,null,null,0,null,null,null,0,null,null,null,null,null,{"$f":"Раздел2!G237","v":0},{"$f":"Раздел2!D237","v":0}]
[null,"Биг-эйр","230",0,0,null,null,null,0,null,null,null,0,0,null,null,null,0,null,null,null,0,null,null,null,null,null,{"$f":"Раздел2!G238","v":0},{"$f":"Раздел2!D238","v":0}]
[null,"Могул","231",0,0,null,null,null,0,null,null,null,0,0,null,null,null,0,null,null,null,0,null,null,null,null,null,{"$f":"Раздел2!G239","v":0},{"$f":"Раздел2!D239","v":0}]
[null,"Ски-кросс","232",0,0,null,null,null,0,null,null,null,0,0,null,null,null,0,null,null,null,0,null,null,null,null,null,{"$f":"Раздел2!G240","v":0},{"$f":"Раздел2!D240","v":0}]
[null,"Хаф-пайп","233",0,0,null,null,null,0,null,null,null,0,0,null,null,null,0,null,null,null,0,null,null,null,null,null,{"$f":"Раздел2!G241","v":0},{"$f":"Раздел2!D241","v":0}]
[null,"Слоуп-стайл","234",0,0,null,null,null,0,null,null,null,0,0,null,null,null,0,null,null,null,0,null,null,null,null,null,{"$f":"Раздел2!G242","v":0},{"$f":"Раздел2!D242","v":0}]
[null,"Функциональное многоборье","235",0,0,null,null,null,0,null,null,null,0,0,null,null,null,0,null,null,null,0,null,null,null,null,null,{"$f":"Раздел2!G243","v":0},{"$f":"Раздел2!D243","v":0}]
[null,"Футбол - всего","236",93,93,{"$f":"SUM(F244:F249)","v":0},{"$f":"SUM(G244:G249)","v":0},93,0,0,0,0,56,56,0,0,56,0,0,0,0,0,0,0,0,null,null,{"$f":"Раздел2!G244","v":176},{"$f":"Раздел2!D244","v":1}]
[null,"в том числе:\nФутбол (муж.)","237",93,93,null,null,93,0,null,null,null,56,56,null,null,56,0,null,null,null,0,null,null,null,null,null,{"$f":"Раздел2!G245","v":176},{"$f":"Раздел2!D245","v":1}]
[null,"Футбол (жен.)","238",0,0,null,null,null,0,null,null,null,0,0,null,null,null,0,null,null,null,0,null,null,null,null,null,{"$f":"Раздел2!G246","v":0},{"$f":"Раздел2!D246","v":0}]
[null,"Мини-футбол (футзал)","239",0,0,null,null,null,0,null,null,null,0,0,null,null,null,0,null,null,null,0,null,null,null,null,null,{"$f":"Раздел2!G247","v":0},{"$f":"Раздел2!D247","v":0}]
[null,"Пляжный футбол","240",0,0,null,null,null,0,null,null,null,0,0,null,null,null,0,null,null,null,0,null,null,null,null,null,{"$f":"Раздел2!G248","v":0},{"$f":"Раздел2!D248","v":0}]
[null,"Футбол 6х6, 7х7, 8х8","241",0,0,null,null,null,0,null,null,null,0,0,null,null,null,0,null,null,null,0,null,null,null,null,null,{"$f":"Раздел2!G249","v":0},{"$f":"Раздел2!D249","v":0}]
[null,"Интерактивный футбол","242",0,0,null,null,null,0,null,null,null,0,0,null,null,null,0,null,null,null,0,null,null,null,null,null,{"$f":"Раздел2!G250","v":0},{"$f":"Раздел2!D250","v":0}]
[null,"Футгольф","243",0,0,null,null,null,0,null,null,null,0,0,null,null,null,0,null,null,null,0,null,null,null,null,null,{"$f":"Раздел2!G251","v":0},{"$f":"Раздел2!D251","v":0}]
[null,"Хапкидо","244",0,0,null,null,null,0,null,null,null,0,0,null,null,null,0,null,null,null,0,null,null,null,null,null,{"$f":"Раздел2!G252","v":0},{"$f":"Раздел2!D252","v":0}]
[null,"Хапсагай","245",0,0,null,null,null,0,null,null,null,0,0,null,null,null,0,null,null,null,0,null,null,null,null,null,{"$f":"Раздел2!G253","v":0},{"$f":"Раздел2!D253","v":0}]
[null,"Хоккей - всего","246",0,0,{"$f":"SUM(F254:F255)","v":0},{"$f":"SUM(G254:G255)","v":0},0,0,0,0,0,0,0,0,0,0,0,0,0,0,0,0,0,0,null,null,{"$f":"Раздел2!G254","v":0},{"$f":"Раздел2!D254","v":0}]
[null,"в том числе:\nХоккей (муж.)","247",0,0,null,null,null,0,null,null,null,0,0,null,null,null,0,null,null,null,0,null,null,null,null,null,{"$f":"Раздел2!G255","v":0},{"$f":"Раздел2!D255","v":0}]
[null,"Хоккей (жен.)","248",0,0,null,null,null,0,null,null,null,0,0,null,null,null,0,null,null,null,0,null,null,null,null,null,{"$f":"Раздел2!G256","v":0},{"$f":"Раздел2!D256","v":0}]
[null,"Хоккей на траве - всего","249",0,0,{"$f":"SUM(F257:F259)","v":0},{"$f":"SUM(G257:G259)","v":0},0,0,0,0,0,0,0,0,0,0,0,0,0,0,0,0,0,0,null,null,{"$f":"Раздел2!G257","v":0},{"$f":"Раздел2!D257","v":0}]
[null,"в том числе:\nХоккей на траве (муж.)","250",0,0,null,null,null,0,null,null,null,0,0,null,null,null,0,null,null,null,0,null,null,null,null,null,{"$f":"Раздел2!G258","v":0},{"$f":"Раздел2!D258","v":0}]
[null,"Хоккей на траве (жен.)","251",{"$f":"SUM(E258,I258)","v":0},0,null,null,null,0,null,null,null,0,0,null,null,null,0,null,null,null,0,null,null,null,null,null,{"$f":"Раздел2!G259","v":0},{"$f":"Раздел2!D259","v":0}]
[null,"Индорхоккей","252",0,0,null,null,null,0,null,null,null,0,0,null,null,null,0,null,null,null,0,null,null,null,null,null,{"$f":"Раздел2!G260","v":0},{"$f":"Раздел2!D260","v":0}]
[null,"Хоккей с мячом","253",0,0,null,null,null,0,null,null,null,0,0,null,null,null,0,null,null,null,0,null,null,null,null,null,{"$f":"Раздел2!G261","v":0},{"$f":"Раздел2!D261","v":0}]
[null,"Художественная гимнастика","254",128,127,25,37,65,1,null,null,1,76,75,14,23,38,4,1,3,null,1,null,null,1,null,null,{"$f":"Раздел2!G262","v":136},{"$f":"Раздел2!D262","v":1}]
[null,"Хуреш","255",0,0,null,null,null,0,null,null,null,0,0,null,null,null,0,null,null,null,0,null,null,null,null,null,{"$f":"Раздел2!G263","v":0},{"$f":"Раздел2!D263","v":0}]
[null,"Чир спорт","256",0,0,null,null,null,0,null,null,null,0,0,null,null,null,0,null,null,null,0,null,null,null,null,null,{"$f":"Раздел2!G264","v":0},{"$f":"Раздел2!D264","v":0}]
[null,"Шахматы","257",0,0,null,null,null,0,null,null,null,0,0,null,null,null,0,null,null,null,0,null,null,null,null,null,{"$f":"Раздел2!G265","v":0},{"$f":"Раздел2!D265","v":0}]
[null,"Шашки","258",{"$f":"SUM(E265,I265)","v":0},{"$f":"SUM(F265:H265)","v":0},null,null,null,{"$f":"SUM(J265:L265)","v":0},null,null,null,{"$f":"SUM(N265,V265)","v":0},{"$f":"SUM(O265:Q265)","v":0},null,null,null,{"$f":"SUM(S265:U265)","v":0},null,null,null,{"$f":"SUM(W265:Y265)","v":0},null,null,null,null,null,{"$f":"Раздел2!G266","v":0},{"$f":"Раздел2!D266","v":0}]
[null,"Шодсанлат","259",0,0,null,null,null,0,null,null,null,0,0,null,null,null,0,null,null,null,0,null,null,null,null,null,{"$f":"Раздел2!G267","v":0},{"$f":"Раздел2!D267","v":0}]
[null,"Эстетическая гимнастика","260",0,0,null,null,null,0,null,null,null,0,0,null,null,null,0,null,null,null,0,null,null,null,null,null,{"$f":"Раздел2!G268","v":0},{"$f":"Раздел2!D268","v":0}]
[null,"Якутские национальные прыжки","261",0,0,null,null,null,0,null,null,null,0,0,null,null,null,0,null,null,null,0,null,null,null,null,null,{"$f":"Раздел2!G269","v":0},{"$f":"Раздел2!D269","v":0}]
[null,"ИТОГО","262",466,465,{"$f":"SUM(F8:F19,F22:F25,F28:F33,F44:F49,F54:F56,F38:F41,F60:F70,F75:F84,F88:F94,F97:F102,F110:F115,F116:F124,F127:F132,F135,F140:F141,F147:F150,F155:F160,F161:F175,F176:F188,F194:F201,F206:F208,F212:F216,F217:F226,F231:F235,F242:F243,F250:F253,F256,F260:F268)","v":25},{"$f":"SUM(G8:G19,G22:G25,G28:G33,G44:G49,G54:G56,G38:G41,G60:G70,G75:G84,G88:G94,G97:G102,G110:G115,G116:G124,G127:G132,G135,G140:G141,G147:G150,G155:G160,G161:G175,G176:G188,G194:G201,G206:G208,G212:G216,G217:G226,G231:G235,G242:G243,G250:G253,G256,G260:G268)","v":39},401,1,{"$f":"SUM(J8:J19,J22:J25,J28:J33,J44:J49,J54:J56,J38:J41,J60:J70,J75:J84,J88:J94,J97:J102,J110:J115,J116:J124,J127:J132,J135,J140:J141,J147:J150,J155:J160,J161:J175,J176:J188,J194:J201,J206:J208,J212:J216,J217:J226,J231:J235,J242:J243,J250:J253,J256,J260:J268)","v":0},0,1,199,{"$f":"SUM(N8:N19,N22:N25,N28:N33,N44:N49,N54:N56,N38:N41,N60:N70,N75:N84,N88:N94,N97:N102,N110:N115,N116:N124,N127:N132,N135,N140:N141,N147:N150,N155:N160,N161:N175,N176:N188,N194:N201,N206:N208,N212:N216,N217:N226,N231:N235,N242:N243,N250:N253,N256,N260:N268)","v":198},14,23,161,4,1,3,0,1,0,0,1,null,null,{"$f":"Раздел2!G270","v":1015}]

{"sheet":"Раздел6","index":6,"n_rows":270,"n_cols":18,"rows_kept":270,"cut":false,"hidden":false,"merged":[[2,17,6,17],[0,0,125,0],[0,1,0,14],[0,15,125,15],[2,1,6,1],[2,2,6,2],[2,3,2,8],[2,9,2,14],[1,1,1,14],[3,3,5,4],[3,5,5,6],[3,7,5,8],[3,9,5,10],[3,11,5,12],[3,13,5,14]]}
[null,"                                                                        Раздел VI. Занимающиеся – кандидаты в спортивные сборные команды России"]
[null,"Код по ОКЕИ: человек 792"]
[null,"Виды спорта","№ строки","Из числа занимающихся (гр. 6 раздела II) кандидаты, состоящие в списках спортивных сборных команд",null,null,null,null,null,"Кандидаты, подготовленные в отчетном году",null,null,null,null,null,null,null,"Раздел2 графа5\nЧисло отделений"]
[null,null,null,"Юношеский состав",null,"Юниорский состав",null,"Основной состав",null,"Юношеский состав",null,"Юниорский состав",null,"Основной состав"]
[]
[]
[null,null,null,"основной","резерв","основной","резерв","основной","резерв","основной","резерв","основной","резерв","основной","резерв"]
[null,1,2,3,4,5,6,7,8,9,10,11,12,13,14]
[null,"Авиамодельный спорт","01",null,null,null,null,null,null,null,null,null,null,null,null,null,{"$f":"Раздел2!G9","v":0},{"$f":"Раздел2!D9","v":0}]
[null,"Автомобильный спорт","02",null,null,null,null,null,null,null,null,null,null,null,null,null,{"$f":"Раздел2!G10","v":0},{"$f":"Раздел2!D10","v":0}]
[null,"Автомодельный спорт","03",null,null,null,null,null,null,null,null,null,null,null,null,null,{"$f":"Раздел2!G11","v":0},{"$f":"Раздел2!D11","v":0}]
[null,"Айкидо","04",null,null,null,null,null,null,null,null,null,null,null,null,null,{"$f":"Раздел2!G12","v":0},{"$f":"Раздел2!D12","v":0}]
[null,"Айсшток","05",null,null,null,null,null,null,null,null,null,null,null,null,null,{"$f":"Раздел2!G13","v":0},{"$f":"Раздел2!D13","v":0}]
[null,"Акробатический рок-н-ролл","06",null,null,null,null,null,null,null,null,null,null,null,null,null,{"$f":"Раздел2!G14","v":0},{"$f":"Раздел2!D14","v":0}]
[null,"Альпинизм","07",null,null,null,null,null,null,null,null,null,null,null,null,null,{"$f":"Раздел2!G15","v":0},{"$f":"Раздел2!D15","v":0}]
[null,"Американский футбол","08",null,null,null,null,null,null,null,null,null,null,null,null,null,{"$f":"Раздел2!G16","v":0},{"$f":"Раздел2!D16","v":0}]
[null,"Армейский рукопашный бой","09",null,null,null,null,null,null,null,null,null,null,null,null,null,{"$f":"Раздел2!G17","v":0},{"$f":"Раздел2!D17","v":0}]
[null,"Армрестлинг","10",null,null,null,null,null,null,null,null,null,null,null,null,null,{"$f":"Раздел2!G18","v":0},{"$f":"Раздел2!D18","v":0}]
[null,"Бадминтон","11",null,null,null,null,null,null,null,null,null,null,null,null,null,{"$f":"Раздел2!G19","v":0},{"$f":"Раздел2!D19","v":0}]
[null,"Баскетбол - всего","12",{"$f":"SUM(D21:D22)","v":0},{"$f":"SUM(E21:E22)","v":0},{"$f":"SUM(F21:F22)","v":0},0,0,0,0,0,0,0,0,0,null,{"$f":"Раздел2!G20","v":173},{"$f":"Раздел2!D20","v":1}]
[null,"в том числе:\nБаскетбол (муж.)","13",null,null,null,null,null,null,null,null,null,null,null,null,null,{"$f":"Раздел2!G21","v":173},{"$f":"Раздел2!D21","v":1}]
[null,"Баскетбол (жен.)","14",null,null,null,null,null,null,null,null,null,null,null,null,null,{"$f":"Раздел2!G22","v":0},{"$f":"Раздел2!D22","v":0}]
[null,"Бейсбол","15",null,null,null,null,null,null,null,null,null,null,null,null,null,{"$f":"Раздел2!G23","v":0},{"$f":"Раздел2!D23","v":0}]
[null,"Биатлон","16",null,null,null,null,null,null,null,null,null,null,null,null,null,{"$f":"Раздел2!G24","v":0},{"$f":"Раздел2!D24","v":0}]
[null,"Бильярдный спорт","17",null,null,null,null,null,null,null,null,null,null,null,null,null,{"$f":"Раздел2!G25","v":0},{"$f":"Раздел2!D25","v":0}]
[null,"Бобслей - всего","18",{"$f":"SUM(D27:D28)","v":0},{"$f":"SUM(E27:E28)","v":0},0,0,0,0,0,0,0,0,0,0,null,{"$f":"Раздел2!G26","v":0},{"$f":"Раздел2!D26","v":0}]
[null,"в том числе:\nБобслей","19",null,null,null,null,null,null,null,null,null,null,null,null,null,{"$f":"Раздел2!G27","v":0},{"$f":"Раздел2!D27","v":0}]
[null,"Скелетон","20",null,null,null,null,null,null,null,null,null,null,null,null,null,{"$f":"Раздел2!G28","v":0},{"$f":"Раздел2!D28","v":0}]
[null,"Бодибилдинг","21",null,null,null,null,null,null,null,null,null,null,null,null,null,{"$f":"Раздел2!G29","v":0},{"$f":"Раздел2!D29","v":0}]
[null,"Бокс","22",null,null,null,null,null,null,null,null,null,null,null,null,null,{"$f":"Раздел2!G30","v":72},{"$f":"Раздел2!D30","v":1}]
[null,"Борьба на поясах","23",null,null,null,null,null,null,null,null,null,null,null,null,null,{"$f":"Раздел2!G31","v":0},{"$f":"Раздел2!D31","v":0}]
[null,"Боулинг","24",null,null,null,null,null,null,null,null,null,null,null,null,null,{"$f":"Раздел2!G32","v":0},{"$f":"Раздел2!D32","v":0}]
[null,"Боулспорт","25",null,null,null,null,null,null,null,null,null,null,null,null,null,{"$f":"Раздел2!G33","v":0},{"$f":"Раздел2!D33","v":0}]
[null,"Велосипедный спорт - всего","26",{"$f":"SUM(D35:D38)","v":0},{"$f":"SUM(E35:E38)","v":0},0,0,0,0,0,0,0,0,0,{"$f":"SUM(O35:O38)","v":0},null,{"$f":"Раздел2!G34","v":0},{"$f":"Раздел2!D34","v":0}]
[null,"в том числе:\nBMX","27",null,null,null,null,null,null,null,null,null,null,null,null,null,{"$f":"Раздел2!G35","v":0},{"$f":"Раздел2!D35","v":0}]
[null,"Маунтинбайк","28",null,null,null,null,null,null,null,null,null,null,null,null,null,{"$f":"Раздел2!G36","v":0},{"$f":"Раздел2!D36","v":0}]
[null,"Трек","29",null,null,null,null,null,null,null,null,null,null,null,null,null,{"$f":"Раздел2!G37","v":0},{"$f":"Раздел2!D37","v":0}]
[null,"Шоссе","30",null,null,null,null,null,null,null,null,null,null,null,null,null,{"$f":"Раздел2!G38","v":0},{"$f":"Раздел2!D38","v":0}]
[null,"Вертолетный спорт","31",null,null,null,null,null,null,null,null,null,null,null,null,null,{"$f":"Раздел2!G39","v":0},{"$f":"Раздел2!D39","v":0}]
[null,"Водно-моторный спорт","32",null,null,null,null,null,null,null,null,null,null,null,null,null,{"$f":"Раздел2!G40","v":0},{"$f":"Раздел2!D40","v":0}]
[null,"Водно-спасательное многоборье","33",null,null,null,null,null,null,null,null,null,null,null,null,null,{"$f":"Раздел2!G41","v":0},{"$f":"Раздел2!D41","v":0}]
[null,"Водное поло - всего ","34",{"$f":"SUM(D43:D44)","v":0},{"$f":"SUM(E43:E44)","v":0},0,0,0,0,0,0,0,0,0,0,null,{"$f":"Раздел2!G42","v":0},{"$f":"Раздел2!D42","v":0}]
[null,"в том числе:\nВодное поло (муж.)","35",null,null,null,null,null,null,null,null,null,null,null,null,null,{"$f":"Раздел2!G43","v":0},{"$f":"Раздел2!D43","v":0}]
[null,"Водное поло (жен.)","36",null,null,null,null,null,null,null,null,null,null,null,null,null,{"$f":"Раздел2!G44","v":0},{"$f":"Раздел2!D44","v":0}]
[null,"Воднолыжный спорт","37",null,null,null,null,null,null,null,null,null,null,null,null,null,{"$f":"Раздел2!G45","v":0},{"$f":"Раздел2!D45","v":0}]
[null,"Военно-прикладной спорт","38",null,null,null,null,null,null,null,null,null,null,null,null,null,{"$f":"Раздел2!G46","v":0},{"$f":"Раздел2!D46","v":0}]
[null,"Военно-спортивное многоборье","39",null,null,null,null,null,null,null,null,null,null,null,null,null,{"$f":"Раздел2!G47","v":0},{"$f":"Раздел2!D47","v":0}]
[null,"Воздухоплавательный спорт","40",null,null,null,null,null,null,null,null,null,null,null,null,null,{"$f":"Раздел2!G48","v":0},{"$f":"Раздел2!D48","v":0}]
[null,"Воздушно-силовая атлетика","41",null,null,null,null,null,null,null,null,null,null,null,null,null,{"$f":"Раздел2!G49","v":0},{"$f":"Раздел2!D49","v":0}]
[null,"Волейбол - всего","42",{"$f":"SUM(D51:D54)","v":0},{"$f":"SUM(E51:E54)","v":0},0,0,0,0,0,0,0,0,0,0,null,{"$f":"Раздел2!G50","v":0},{"$f":"Раздел2!D50","v":0}]
[null,"в том числе:\nВолейбол (муж.)","43",null,null,null,null,null,null,null,null,null,null,null,null,null,{"$f":"Раздел2!G51","v":0},{"$f":"Раздел2!D51","v":0}]
[null,"Волейбол (жен.)","44",null,null,null,null,null,null,null,null,null,null,null,null,null,{"$f":"Раздел2!G52","v":0},{"$f":"Раздел2!D52","v":0}]
[null,"Пляжный волейбол (муж.)","45",null,null,null,null,null,null,null,null,null,null,null,null,null,{"$f":"Раздел2!G53","v":0},{"$f":"Раздел2!D53","v":0}]
[null,"Пляжный волейбол (жен.)","46",null,null,null,null,null,null,null,null,null,null,null,null,null,{"$f":"Раздел2!G54","v":0},{"$f":"Раздел2!D54","v":0}]
[null,"Восточное боевое единоборство","47",null,null,null,null,null,null,null,null,null,null,null,null,null,{"$f":"Раздел2!G55","v":0},{"$f":"Раздел2!D55","v":0}]
[null,"Всестилевое каратэ","48",null,null,null,null,null,null,null,null,null,null,null,null,null,{"$f":"Раздел2!G56","v":0},{"$f":"Раздел2!D56","v":0}]
[null,"Гандбол - всего","49",{"$f":"SUM(D58:D60)","v":0},{"$f":"SUM(E58:E60)","v":0},0,0,0,0,0,0,0,0,0,0,null,{"$f":"Раздел2!G57","v":0},{"$f":"Раздел2!D57","v":0}]
[null,"в том числе:\nГандбол (муж.)","50",null,null,null,null,null,null,null,null,null,null,null,null,null,{"$f":"Раздел2!G58","v":0},{"$f":"Раздел2!D58","v":0}]
[null,"Гандбол (жен.)","51",null,null,null,null,null,null,null,null,null,null,null,null,null,{"$f":"Раздел2!G59","v":0},{"$f":"Раздел2!D59","v":0}]
[null,"Пляжный гандбол","52",null,null,null,null,null,null,null,null,null,null,null,null,null,{"$f":"Раздел2!G60","v":0},{"$f":"Раздел2!D60","v":0}]
[null,"Гиревой спорт","53",null,null,null,null,null,null,null,null,null,null,null,null,null,{"$f":"Раздел2!G61","v":0},{"$f":"Раздел2!D61","v":0}]
[null,"Го","54",null,null,null,null,null,null,null,null,null,null,null,null,null,{"$f":"Раздел2!G62","v":0},{"$f":"Раздел2!D62","v":0}]
[null,"Гольф","55",null,null,null,null,null,null,null,null,null,null,null,null,null,{"$f":"Раздел2!G63","v":0},{"$f":"Раздел2!D63","v":0}]
[null,"Гонки на охотничьих лыжах","56",null,null,null,null,null,null,null,null,null,null,null,null,null,{"$f":"Раздел2!G64","v":0},{"$f":"Раздел2!D64","v":0}]
[null,"Гонки с препятствиями","57",null,null,null,null,null,null,null,null,null,null,null,null,null,{"$f":"Раздел2!G65","v":0},{"$f":"Раздел2!D65","v":0}]
[null,"Горнолыжный спорт","58",null,null,null,null,null,null,null,null,null,null,null,null,null,{"$f":"Раздел2!G66","v":0},{"$f":"Раздел2!D66","v":0}]
[null,"Городошный спорт","59",null,null,null,null,null,null,null,null,null,null,null,null,null,{"$f":"Раздел2!G67","v":0},{"$f":"Раздел2!D67","v":0}]
[null,"Гребля на байдарках и каноэ","60",null,null,null,null,null,null,null,null,null,null,null,null,null,{"$f":"Раздел2!G68","v":0},{"$f":"Раздел2!D68","v":0}]
[null,"Гребля на шлюпках","61",null,null,null,null,null,null,null,null,null,null,null,null,null,{"$f":"Раздел2!G69","v":0},{"$f":"Раздел2!D69","v":0}]
[null,"Гребной слалом","62",null,null,null,null,null,null,null,null,null,null,null,null,null,{"$f":"Раздел2!G70","v":0},{"$f":"Раздел2!D70","v":0}]
[null,"Гребной спорт - всего","63",{"$f":"SUM(D72:D75)","v":0},{"$f":"SUM(E72:E75)","v":0},0,0,0,0,0,0,0,0,0,0,null,{"$f":"Раздел2!G71","v":0},{"$f":"Раздел2!D71","v":0}]
[null,"в том числе:\nАкадемическая гребля","64",null,null,null,null,null,null,null,null,null,null,null,null,null,{"$f":"Раздел2!G72","v":0},{"$f":"Раздел2!D72","v":0}]
[null,"Гребля-индор","65",null,null,null,null,null,null,null,null,null,null,null,null,null,{"$f":"Раздел2!G73","v":0},{"$f":"Раздел2!D73","v":0}]
[null,"Народная гребля","66",null,null,null,null,null,null,null,null,null,null,null,null,null,{"$f":"Раздел2!G74","v":0},{"$f":"Раздел2!D74","v":0}]
[null,"Прибрежная гребля","67",null,null,null,null,null,null,null,null,null,null,null,null,null,{"$f":"Раздел2!G75","v":0},{"$f":"Раздел2!D75","v":0}]
[null,"Гребно-парусное двоеборье","68",null,null,null,null,null,null,null,null,null,null,null,null,null,{"$f":"Раздел2!G76","v":0},{"$f":"Раздел2!D76","v":0}]
[null,"Дартс","69",null,null,null,null,null,null,null,null,null,null,null,null,null,{"$f":"Раздел2!G77","v":0},{"$f":"Раздел2!D77","v":0}]
[null,"Джиу-джитсу","70",null,null,null,null,null,null,null,null,null,null,null,null,null,{"$f":"Раздел2!G78","v":0},{"$f":"Раздел2!D78","v":0}]
[null,"Дзюдо","71",null,null,null,null,null,null,null,null,null,null,null,null,null,{"$f":"Раздел2!G79","v":0},{"$f":"Раздел2!D79","v":0}]
[null,"Ездовой спорт","72",null,null,null,null,null,null,null,null,null,null,null,null,null,{"$f":"Раздел2!G80","v":0},{"$f":"Раздел2!D80","v":0}]
[null,"Капоэйра","73",null,null,null,null,null,null,null,null,null,null,null,null,null,{"$f":"Раздел2!G81","v":0},{"$f":"Раздел2!D81","v":0}]
[null,"Каратэ","74",null,null,null,null,null,null,null,null,null,null,null,null,null,{"$f":"Раздел2!G82","v":0},{"$f":"Раздел2!D82","v":0}]
[null,"Кендо","75",null,null,null,null,null,null,null,null,null,null,null,null,null,{"$f":"Раздел2!G83","v":0},{"$f":"Раздел2!D83","v":0}]
[null,"Керешу","76",null,null,null,null,null,null,null,null,null,null,null,null,null,{"$f":"Раздел2!G84","v":0},{"$f":"Раздел2!D84","v":0}]
[null,"Кёрлинг - всего","77",{"$f":"SUM(D86:D88)","v":0},{"$f":"SUM(E86:E88)","v":0},0,0,0,0,0,0,0,0,0,0,null,{"$f":"Раздел2!G85","v":0},{"$f":"Раздел2!D85","v":0}]
[null,"в том числе:\nКерлинг (муж.)","78",null,null,null,null,null,null,null,null,null,null,null,null,null,{"$f":"Раздел2!G86","v":0},{"$f":"Раздел2!D86","v":0}]
[null,"Керлинг (жен.)","79",null,null,null,null,null,null,null,null,null,null,null,null,null,{"$f":"Раздел2!G87","v":0},{"$f":"Раздел2!D87","v":0}]
[null,"Кёрлинг – смешанные пары","80",null,null,null,null,null,null,null,null,null,null,null,null,null,{"$f":"Раздел2!G88","v":0},{"$f":"Раздел2!D88","v":0}]
[null,"Кикбоксинг","81",null,null,null,null,null,null,null,null,null,null,null,null,null,{"$f":"Раздел2!G89","v":0},{"$f":"Раздел2!D89","v":0}]
[null,"Кинологический спорт","82",null,null,null,null,null,null,null,null,null,null,null,null,null,{"$f":"Раздел2!G90","v":0},{"$f":"Раздел2!D90","v":0}]
[null,"Киокусинкай","83",null,null,null,null,null,null,null,null,null,null,null,null,null,{"$f":"Раздел2!G91","v":0},{"$f":"Раздел2!D91","v":0}]
[null,"Комплексное единоборство","84",null,null,null,null,null,null,null,null,null,null,null,null,null,{"$f":"Раздел2!G92","v":0},{"$f":"Раздел2!D92","v":0}]
[null,"Компьютерный спорт","85",null,null,null,null,null,null,null,null,null,null,null,null,null,{"$f":"Раздел2!G93","v":0},{"$f":"Раздел2!D93","v":0}]
[null,"Конный спорт","86",null,null,null,null,null,null,null,null,null,null,null,null,null,{"$f":"Раздел2!G94","v":0},{"$f":"Раздел2!D94","v":0}]
[null,"Конькобежный спорт - всего","87",{"$f":"SUM(D96:D97)","v":0},{"$f":"SUM(E96:E97)","v":0},0,0,0,0,0,0,0,0,0,0,null,{"$f":"Раздел2!G95","v":0},{"$f":"Раздел2!D95","v":0}]
[null,"в том числе:\nКонькобежный спорт","88",null,null,null,null,null,null,null,null,null,null,null,null,null,{"$f":"Раздел2!G96","v":0},{"$f":"Раздел2!D96","v":0}]
[null,"Шорт-трек","89",null,null,null,null,null,null,null,null,null,null,null,null,null,{"$f":"Раздел2!G97","v":0},{"$f":"Раздел2!D97","v":0}]
[null,"Корэш","90",null,null,null,null,null,null,null,null,null,null,null,null,null,{"$f":"Раздел2!G98","v":0},{"$f":"Раздел2!D98","v":0}]
[null,"Корфбол","91",null,null,null,null,null,null,null,null,null,null,null,null,null,{"$f":"Раздел2!G99","v":0},{"$f":"Раздел2!D99","v":0}]
[null,"Крикет","92",null,null,null,null,null,null,null,null,null,null,null,null,null,{"$f":"Раздел2!G100","v":0},{"$f":"Раздел2!D100","v":0}]
[null,"Кудо","93",null,null,null,null,null,null,null,null,null,null,null,null,null,{"$f":"Раздел2!G101","v":0},{"$f":"Раздел2!D101","v":0}]
[null,"Лапта","94",null,null,null,null,null,null,null,null,null,null,null,null,null,{"$f":"Раздел2!G102","v":0},{"$f":"Раздел2!D102","v":0}]
[null,"Легкая атлетика - всего","95",{"$f":"SUM(D104:D110)","v":0},{"$f":"SUM(E104:E110)","v":0},0,0,0,0,0,0,0,0,0,0,null,{"$f":"Раздел2!G103","v":263},{"$f":"Раздел2!D103","v":1}]
[null,"в том числе:\nСпринтерский и барьерный бег","96",null,null,null,null,null,null,null,null,null,null,null,null,null,{"$f":"Раздел2!G104","v":0},{"$f":"Раздел2!D104","v":0}]
[null,"Бег на средние дистанции и бег с препятствиями","97",null,null,null,null,null,null,null,null,null,null,null,null,null,{"$f":"Раздел2!G105","v":0},{"$f":"Раздел2!D105","v":0}]
[null,"Бег на длинные и сверхдлинные дистанции","98",null,null,null,null,null,null,null,null,null,null,null,null,null,{"$f":"Раздел2!G106","v":0},{"$f":"Раздел2!D106","v":0}]
[null,"Многоборья","99",null,null,null,null,null,null,null,null,null,null,null,null,null,{"$f":"Раздел2!G107","v":263},{"$f":"Раздел2!D107","v":1}]
[null,"Прыжки","100",null,null,null,null,null,null,null,null,null,null,null,null,null,{"$f":"Раздел2!G108","v":0},{"$f":"Раздел2!D108","v":0}]
[null,"Метания","101",null,null,null,null,null,null,null,null,null,null,null,null,null,{"$f":"Раздел2!G109","v":0},{"$f":"Раздел2!D109","v":0}]
[null,"Спортивная ходьба","102",null,null,null,null,null,null,null,null,null,null,null,null,null,{"$f":"Раздел2!G110","v":0},{"$f":"Раздел2!D110","v":0}]
[null,"Лыжное двоеборье","103",null,null,null,null,null,null,null,null,null,null,null,null,null,{"$f":"Раздел2!G111","v":0},{"$f":"Раздел2!D111","v":0}]
[null,"Лыжные гонки","104",null,null,null,null,null,null,null,null,null,null,null,null,null,{"$f":"Раздел2!G112","v":0},{"$f":"Раздел2!D112","v":0}]
[null,"Мас-рестлинг","105",null,null,null,null,null,null,null,null,null,null,null,null,null,{"$f":"Раздел2!G113","v":0},{"$f":"Раздел2!D113","v":0}]
[null,"Международное военно-спортивное многоборье","106",null,null,null,null,null,null,null,null,null,null,null,null,null,{"$f":"Раздел2!G114","v":0},{"$f":"Раздел2!D114","v":0}]
[null,"Многоборье кинологов","107",null,null,null,null,null,null,null,null,null,null,null,null,null,{"$f":"Раздел2!G115","v":0},{"$f":"Раздел2!D115","v":0}]
[null,"Многоборье спасателей МЧС России","108",null,null,null,null,null,null,null,null,null,null,null,null,null,{"$f":"Раздел2!G116","v":0},{"$f":"Раздел2!D116","v":0}]
[null,"Морское многоборье","109",null,null,null,null,null,null,null,null,null,null,null,null,null,{"$f":"Раздел2!G117","v":0},{"$f":"Раздел2!D117","v":0}]
[null,"Мотоциклетный спорт","110",null,null,null,null,null,null,null,null,null,null,null,null,null,{"$f":"Раздел2!G118","v":0},{"$f":"Раздел2!D118","v":0}]
[null,"Настольный теннис","111",null,null,null,null,null,null,null,null,null,null,null,null,null,{"$f":"Раздел2!G119","v":0},{"$f":"Раздел2!D119","v":0}]
[null,"Падел","112",null,null,null,null,null,null,null,null,null,null,null,null,null,{"$f":"Раздел2!G120","v":0},{"$f":"Раздел2!D120","v":0}]
[null,"Парашютный спорт","113",null,null,null,null,null,null,null,null,null,null,null,null,null,{"$f":"Раздел2!G121","v":0},{"$f":"Раздел2!D121","v":0}]
[null,"Парусный спорт","114",null,null,null,null,null,null,null,null,null,null,null,null,null,{"$f":"Раздел2!G122","v":0},{"$f":"Раздел2!D122","v":0}]
[null,"Пауэрлифтинг","115",null,null,null,null,null,null,null,null,null,null,null,null,null,{"$f":"Раздел2!G123","v":0},{"$f":"Раздел2!D123","v":0}]
[null,"Перетягивание каната","116",null,null,null,null,null,null,null,null,null,null,null,null,null,{"$f":"Раздел2!G124","v":0},{"$f":"Раздел2!D124","v":0}]
[null,"Плавание - всего","117",{"$f":"SUM(D126:D127)","v":0},{"$f":"SUM(E126:E127)","v":0},0,0,0,0,0,0,0,0,0,0,null,{"$f":"Раздел2!G125","v":86},{"$f":"Раздел2!D125","v":1}]
[null,"в том числе:\nПлавание ","118",null,null,null,null,null,null,null,null,null,null,null,null,null,{"$f":"Раздел2!G126","v":86},{"$f":"Раздел2!D126","v":1}]
[null,"Открытая вода","119",null,null,null,null,null,null,null,null,null,null,null,null,null,{"$f":"Раздел2!G127","v":0},{"$f":"Раздел2!D127","v":0}]
[null,"Планерный спорт","120",null,null,null,null,null,null,null,null,null,null,null,null,null,{"$f":"Раздел2!G128","v":0},{"$f":"Раздел2!D128","v":0}]
[null,"Подводный спорт","121",null,null,null,null,null,null,null,null,null,null,null,null,null,{"$f":"Раздел2!G129","v":0},{"$f":"Раздел2!D129","v":0}]
[null,"Пожарно-спасательный спорт","122",null,null,null,null,null,null,null,null,null,null,null,null,null,{"$f":"Раздел2!G130","v":0},{"$f":"Раздел2!D130","v":0}]
[null,"Полиатлон","123",null,null,null,null,null,null,null,null,null,null,null,null,null,{"$f":"Раздел2!G131","v":0},{"$f":"Раздел2!D131","v":0}]
[null,"Практическая стрельба","124",null,null,null,null,null,null,null,null,null,null,null,null,null,{"$f":"Раздел2!G132","v":0},{"$f":"Раздел2!D132","v":0}]
[null,"Прыжки в воду - всего","125",{"$f":"SUM(D134:D135)","v":0},{"$f":"SUM(E134:E135)","v":0},0,0,0,0,{"$f":"SUM(J134:J135)","v":0},0,0,0,0,0,null,{"$f":"Раздел2!G133","v":0},{"$f":"Раздел2!D133","v":0}]
[null,"в том числе:\nПрыжки в воду","126",null,null,null,null,null,null,null,null,null,null,null,null,null,{"$f":"Раздел2!G134","v":0},{"$f":"Раздел2!D134","v":0}]
[null,"Прыжки в открытый водоем","127",null,null,null,null,null,null,null,null,null,null,null,null,null,{"$f":"Раздел2!G135","v":0},{"$f":"Раздел2!D135","v":0}]
[null,"Прыжки на батуте - всего","128",{"$f":"SUM(D137:D140)","v":0},{"$f":"SUM(E137:E140)","v":0},0,0,0,0,0,0,0,0,0,0,null,{"$f":"Раздел2!G136","v":0},{"$f":"Раздел2!D136","v":0}]
[null,"в том числе:\nАкробатическая дорожка","129",null,null,null,null,null,null,null,null,null,null,null,null,null,{"$f":"Раздел2!G137","v":0},{"$f":"Раздел2!D137","v":0}]
[null,"Двойной минитрамп","130",null,null,null,null,null,null,null,null,null,null,null,null,null,{"$f":"Раздел2!G138","v":0},{"$f":"Раздел2!D138","v":0}]
[null,"Индивидуальные прыжки","131",null,null,null,null,null,null,null,null,null,null,null,null,null,{"$f":"Раздел2!G139","v":0},{"$f":"Раздел2!D139","v":0}]
[null,"Синхронные прыжки","132",null,null,null,null,null,null,null,null,null,null,null,null,null,{"$f":"Раздел2!G140","v":0},{"$f":"Раздел2!D140","v":0}]
[null,"Прыжки на лыжах с трамплина","133",null,null,null,null,null,null,null,null,null,null,null,null,null,{"$f":"Раздел2!G141","v":0},{"$f":"Раздел2!D141","v":0}]
[null,"Пулевая стрельба - всего","134",{"$f":"SUM(D143:D147)","v":0},{"$f":"SUM(E143:E147)","v":0},0,0,0,0,0,0,0,0,0,0,null,{"$f":"Раздел2!G142","v":0},{"$f":"Раздел2!D142","v":0}]
[null,"в том числе:\nПневматическая винтовка","135",null,null,null,null,null,null,null,null,null,null,null,null,null,{"$f":"Раздел2!G143","v":0},{"$f":"Раздел2!D143","v":0}]
[null,"Пневматический пистолет","136",null,null,null,null,null,null,null,null,null,null,null,null,null,{"$f":"Раздел2!G144","v":0},{"$f":"Раздел2!D144","v":0}]
[null,"Малокалиберная винтовка","137",null,null,null,null,null,null,null,null,null,null,null,null,null,{"$f":"Раздел2!G145","v":0},{"$f":"Раздел2!D145","v":0}]
[null,"Малокалиберный пистолет","138",null,null,null,null,null,null,null,null,null,null,null,null,null,{"$f":"Раздел2!G146","v":0},{"$f":"Раздел2!D146","v":0}]
[null,"Движущаяся мишень","139",null,null,null,null,null,null,null,null,null,null,null,null,null,{"$f":"Раздел2!G147","v":0},{"$f":"Раздел2!D147","v":0}]
[null,"Пэйнтбол","140",null,null,null,null,null,null,null,null,null,null,null,null,null,{"$f":"Раздел2!G148","v":0},{"$f":"Раздел2!D148","v":0}]
[null,"Радиоспорт","141",null,null,null,null,null,null,null,null,null,null,null,null,null,{"$f":"Раздел2!G149","v":0},{"$f":"Раздел2!D149","v":0}]
[null,"Рафтинг","142",null,null,null,null,null,null,null,null,null,null,null,null,null,{"$f":"Раздел2!G150","v":0},{"$f":"Раздел2!D150","v":0}]
[null,"Регби - всего","143",{"$f":"SUM(D152:D155)","v":0},{"$f":"SUM(E152:E155)","v":0},0,0,0,0,0,0,0,0,0,0,null,{"$f":"Раздел2!G151","v":0},{"$f":"Раздел2!D151","v":0}]
[null,"в том числе:\nРегби","144",null,null,null,null,null,null,null,null,null,null,null,null,null,{"$f":"Раздел2!G152","v":0},{"$f":"Раздел2!D152","v":0}]
[null,"Регби 7 (муж.)","145",null,null,null,null,null,null,null,null,null,null,null,null,null,{"$f":"Раздел2!G153","v":0},{"$f":"Раздел2!D153","v":0}]
[null,"Регби 7 (жен.)","146",null,null,null,null,null,null,null,null,null,null,null,null,null,{"$f":"Раздел2!G154","v":0},{"$f":"Раздел2!D154","v":0}]
[null,"Регби - пляжное","147",null,null,null,null,null,null,null,null,null,null,null,null,null,{"$f":"Раздел2!G155","v":0},{"$f":"Раздел2!D155","v":0}]
[null,"Регбол","148",null,null,null,null,null,null,null,null,null,null,null,null,null,{"$f":"Раздел2!G156","v":0},{"$f":"Раздел2!D156","v":0}]
[null,"Роллер спорт","149",null,null,null,null,null,null,null,null,null,null,null,null,null,{"$f":"Раздел2!G157","v":0},{"$f":"Раздел2!D157","v":0}]
[null,"Роуп скиппинг (спортивная скакалка)","150",null,null,null,null,null,null,null,null,null,null,null,null,null,{"$f":"Раздел2!G158","v":0},{"$f":"Раздел2!D158","v":0}]
[null,"Рукопашный бой","151",null,null,null,null,null,null,null,null,null,null,null,null,null,{"$f":"Раздел2!G159","v":0},{"$f":"Раздел2!D159","v":0}]
[null,"Рыболовный спорт","152",null,null,null,null,null,null,null,null,null,null,null,null,null,{"$f":"Раздел2!G160","v":0},{"$f":"Раздел2!D160","v":0}]
[null,"Сават","153",null,null,null,null,null,null,null,null,null,null,null,null,null,{"$f":"Раздел2!G161","v":0},{"$f":"Раздел2!D161","v":0}]
[null,"Самбо","154",null,null,null,null,null,null,null,null,null,null,null,null,null,{"$f":"Раздел2!G162","v":0},{"$f":"Раздел2!D162","v":0}]
[null,"Самолетный спорт","155",null,null,null,null,null,null,null,null,null,null,null,null,null,{"$f":"Раздел2!G163","v":0},{"$f":"Раздел2!D163","v":0}]
[null,"Санный спорт","156",null,null,null,null,null,null,null,null,null,null,null,null,null,{"$f":"Раздел2!G164","v":0},{"$f":"Раздел2!D164","v":0}]
[null,"Северное многоборье","157",null,null,null,null,null,null,null,null,null,null,null,null,null,{"$f":"Раздел2!G165","v":0},{"$f":"Раздел2!D165","v":0}]
[null,"Серфинг","158",null,null,null,null,null,null,null,null,null,null,null,null,null,{"$f":"Раздел2!G166","v":0},{"$f":"Раздел2!D166","v":0}]
[null,"Синхронное плавание","159",null,null,null,null,null,null,null,null,null,null,null,null,null,{"$f":"Раздел2!G167","v":0},{"$f":"Раздел2!D167","v":0}]
[null,"Скалолазание","160",null,null,null,null,null,null,null,null,null,null,null,null,null,{"$f":"Раздел2!G168","v":0},{"$f":"Раздел2!D168","v":0}]
[null,"Сквош","161",null,null,null,null,null,null,null,null,null,null,null,null,null,{"$f":"Раздел2!G169","v":0},{"$f":"Раздел2!D169","v":0}]
[null,"Скейтбординг","162",null,null,null,null,null,null,null,null,null,null,null,null,null,{"$f":"Раздел2!G170","v":0},{"$f":"Раздел2!D170","v":0}]
[null,"Служебно-боевая стрельба ","163",null,null,null,null,null,null,null,null,null,null,null,null,null,{"$f":"Раздел2!G171","v":0},{"$f":"Раздел2!D171","v":0}]
[null,"Служебно-прикладной спорт","164",null,null,null,null,null,null,null,null,null,null,null,null,null,{"$f":"Раздел2!G172","v":0},{"$f":"Раздел2!D172","v":0}]
[null,"Служебно-прикладной спорт ФСО России","165",null,null,null,null,null,null,null,null,null,null,null,null,null,{"$f":"Раздел2!G173","v":0},{"$f":"Раздел2!D173","v":0}]
[null,"Служебно-прикладной спорт ФТС России","166",null,null,null,null,null,null,null,null,null,null,null,null,null,{"$f":"Раздел2!G174","v":0},{"$f":"Раздел2!D174","v":0}]
[null,"Служебное двоеборье","167",null,null,null,null,null,null,null,null,null,null,null,null,null,{"$f":"Раздел2!G175","v":0},{"$f":"Раздел2!D175","v":0}]
[null,"Служебное единоборство","168",null,null,null,null,null,null,null,null,null,null,null,null,null,{"$f":"Раздел2!G176","v":0},{"$f":"Раздел2!D176","v":0}]
[null,"Служебное многоборье","169",null,null,null,null,null,null,null,null,null,null,null,null,null,{"$f":"Раздел2!G177","v":0},{"$f":"Раздел2!D177","v":0}]
[null,"Служебный биатлон","170",null,null,null,null,null,null,null,null,null,null,null,null,null,{"$f":"Раздел2!G178","v":0},{"$f":"Раздел2!D178","v":0}]
[null,"Спасательный спорт","171",null,null,null,null,null,null,null,null,null,null,null,null,null,{"$f":"Раздел2!G179","v":0},{"$f":"Раздел2!D179","v":0}]
[null,"Стрельба из боевого ручного стрелкового оружия","172",null,null,null,null,null,null,null,null,null,null,null,null,null,{"$f":"Раздел2!G180","v":0},{"$f":"Раздел2!D180","v":0}]
[null,"Стрельба из штатного или табельного оружия","173",null,null,null,null,null,null,null,null,null,null,null,null,null,{"$f":"Раздел2!G181","v":0},{"$f":"Раздел2!D181","v":0}]
[null,"Смешанное боевое единоборство (ММА)","174",null,null,null,null,null,null,null,null,null,null,null,null,null,{"$f":"Раздел2!G182","v":0},{"$f":"Раздел2!D182","v":0}]
[null,"Сноуборд","175",null,null,null,null,null,null,null,null,null,null,null,null,null,{"$f":"Раздел2!G183","v":0},{"$f":"Раздел2!D183","v":0}]
[null,"Современное пятиборье","176",null,null,null,null,null,null,null,null,null,null,null,null,null,{"$f":"Раздел2!G184","v":0},{"$f":"Раздел2!D184","v":0}]
[null,"Софтбол","177",null,null,null,null,null,null,null,null,null,null,null,null,null,{"$f":"Раздел2!G185","v":0},{"$f":"Раздел2!D185","v":0}]
[null,"Спорт сверхлегкой авиации","178",null,null,null,null,null,null,null,null,null,null,null,null,null,{"$f":"Раздел2!G186","v":0},{"$f":"Раздел2!D186","v":0}]
[null,"Спортивная акробатика","179",null,null,null,null,null,null,null,null,null,null,null,null,null,{"$f":"Раздел2!G187","v":0},{"$f":"Раздел2!D187","v":0}]
[null,"Спортивная аэробика","180",null,null,null,null,null,null,null,null,null,null,null,null,null,{"$f":"Раздел2!G188","v":0},{"$f":"Раздел2!D188","v":0}]
[null,"Спортивная борьба - всего","181",{"$f":"SUM(D190:D194)","v":0},{"$f":"SUM(E190:E194)","v":0},0,0,0,0,0,0,0,0,0,0,null,{"$f":"Раздел2!G189","v":109},{"$f":"Раздел2!D189","v":1}]
[null,"в том числе:\nВольная борьба","182",null,null,null,null,null,null,null,null,null,null,null,null,null,{"$f":"Раздел2!G190","v":0},{"$f":"Раздел2!D190","v":0}]
[null,"Греко-римская борьба","183",null,null,null,null,null,null,null,null,null,null,null,null,null,{"$f":"Раздел2!G191","v":109},{"$f":"Раздел2!D191","v":1}]
[null,"Грэпплинг","184",null,null,null,null,null,null,null,null,null,null,null,null,null,{"$f":"Раздел2!G192","v":0},{"$f":"Раздел2!D192","v":0}]
[null,"Грэпплинг-ги","185",null,null,null,null,null,null,null,null,null,null,null,null,null,{"$f":"Раздел2!G193","v":0},{"$f":"Раздел2!D193","v":0}]
[null,"Панкратион","186",null,null,null,null,null,null,null,null,null,null,null,null,null,{"$f":"Раздел2!G194","v":0},{"$f":"Раздел2!D194","v":0}]
[null,"Спортивная гимнастика","187",null,null,null,null,null,null,null,null,null,null,null,null,null,{"$f":"Раздел2!G195","v":0},{"$f":"Раздел2!D195","v":0}]
[null,"Спортивная йога","188",null,null,null,null,null,null,null,null,null,null,null,null,null,{"$f":"Раздел2!G196","v":0},{"$f":"Раздел2!D196","v":0}]
[null,"Спортивно-прикладное собаководство","189",null,null,null,null,null,null,null,null,null,null,null,null,null,{"$f":"Раздел2!G197","v":0},{"$f":"Раздел2!D197","v":0}]
[null,"Спортивное метание ножа","190",null,null,null,null,null,null,null,null,null,null,null,null,null,{"$f":"Раздел2!G198","v":0},{"$f":"Раздел2!D198","v":0}]
[null,"Спортивное ориентирование","191",null,null,null,null,null,null,null,null,null,null,null,null,null,{"$f":"Раздел2!G199","v":0},{"$f":"Раздел2!D199","v":0}]
[null,"Спортивный бридж","192",null,null,null,null,null,null,null,null,null,null,null,null,null,{"$f":"Раздел2!G200","v":0},{"$f":"Раздел2!D200","v":0}]
[null,"Спортивный туризм","193",null,null,null,null,null,null,null,null,null,null,null,null,null,{"$f":"Раздел2!G201","v":0},{"$f":"Раздел2!D201","v":0}]
[null,"Стендовая стрельба - всего","194",{"$f":"SUM(D203:D206)","v":0},{"$f":"SUM(E203:E206)","v":0},0,0,0,0,0,0,0,0,0,0,null,{"$f":"Раздел2!G202","v":0},{"$f":"Раздел2!D202","v":0}]
[null,"в том числе:\nТрап","195",null,null,null,null,null,null,null,null,null,null,null,null,null,{"$f":"Раздел2!G203","v":0},{"$f":"Раздел2!D203","v":0}]
[null,"Скит","196",null,null,null,null,null,null,null,null,null,null,null,null,null,{"$f":"Раздел2!G204","v":0},{"$f":"Раздел2!D204","v":0}]
[null,"Дубль-трап","197",null,null,null,null,null,null,null,null,null,null,null,null,null,{"$f":"Раздел2!G205","v":0},{"$f":"Раздел2!D205","v":0}]
[null,"Спортинг","198",null,null,null,null,null,null,null,null,null,null,null,null,null,{"$f":"Раздел2!G206","v":0},{"$f":"Раздел2!D206","v":0}]
[null,"Страйкбол","199",null,null,null,null,null,null,null,null,null,null,null,null,null,{"$f":"Раздел2!G207","v":0},{"$f":"Раздел2!D207","v":0}]
[null,"Стрельба из арбалета","200",null,null,null,null,null,null,null,null,null,null,null,null,null,{"$f":"Раздел2!G208","v":0},{"$f":"Раздел2!D208","v":0}]
[null,"Стрельба из лука - всего","201",{"$f":"SUM(D210:D212)","v":0},{"$f":"SUM(E210:E212)","v":0},0,0,0,0,0,0,0,0,0,0,null,{"$f":"Раздел2!G209","v":0},{"$f":"Раздел2!D209","v":0}]
[null,"в том числе:\nКлассический лук","202",null,null,null,null,null,null,null,null,null,null,null,null,null,{"$f":"Раздел2!G210","v":0},{"$f":"Раздел2!D210","v":0}]
[null,"   Блочный лук","203",null,null,null,null,null,null,null,null,null,null,null,null,null,{"$f":"Раздел2!G211","v":0},{"$f":"Раздел2!D211","v":0}]
[null,"   Ачери ","204",null,null,null,null,null,null,null,null,null,null,null,null,null,{"$f":"Раздел2!G212","v":0},{"$f":"Раздел2!D212","v":0}]
[null,"Судомодельный спорт","205",null,null,null,null,null,null,null,null,null,null,null,null,null,{"$f":"Раздел2!G213","v":0},{"$f":"Раздел2!D213","v":0}]
[null,"Сумо","206",null,null,null,null,null,null,null,null,null,null,null,null,null,{"$f":"Раздел2!G214","v":0},{"$f":"Раздел2!D214","v":0}]
[null,"Таврели","207",null,null,null,null,null,null,null,null,null,null,null,null,null,{"$f":"Раздел2!G215","v":0},{"$f":"Раздел2!D215","v":0}]
[null,"Тайский бокс","208",null,null,null,null,null,null,null,null,null,null,null,null,null,{"$f":"Раздел2!G216","v":0},{"$f":"Раздел2!D216","v":0}]
[null,"Танцевальный спорт","209",null,null,null,null,null,null,null,null,null,null,null,null,null,{"$f":"Раздел2!G217","v":0},{"$f":"Раздел2!D217","v":0}]
[null,"Теннис","210",null,null,null,null,null,null,null,null,null,null,null,null,null,{"$f":"Раздел2!G218","v":0},{"$f":"Раздел2!D218","v":0}]
[null,"Триатлон","211",null,null,null,null,null,null,null,null,null,null,null,null,null,{"$f":"Раздел2!G219","v":0},{"$f":"Раздел2!D219","v":0}]
[null,"Тхэквондо (ВТФ)","212",null,null,null,null,null,null,null,null,null,null,null,null,null,{"$f":"Раздел2!G220","v":0},{"$f":"Раздел2!D220","v":0}]
[null,"Тхэквондо ГТФ","213",null,null,null,null,null,null,null,null,null,null,null,null,null,{"$f":"Раздел2!G221","v":0},{"$f":"Раздел2!D221","v":0}]
[null,"Тхэквондо ИТФ","214",null,null,null,null,null,null,null,null,null,null,null,null,null,{"$f":"Раздел2!G222","v":0},{"$f":"Раздел2!D222","v":0}]
[null,"Тхэквондо МФТ","215",null,null,null,null,null,null,null,null,null,null,null,null,null,{"$f":"Раздел2!G223","v":0},{"$f":"Раздел2!D223","v":0}]
[null,"Тяжелая атлетика","216",null,null,null,null,null,null,null,null,null,null,null,null,null,{"$f":"Раздел2!G224","v":0},{"$f":"Раздел2!D224","v":0}]
[null,"Универсальный бой","217",null,null,null,null,null,null,null,null,null,null,null,null,null,{"$f":"Раздел2!G225","v":0},{"$f":"Раздел2!D225","v":0}]
[null,"Ушу","218",null,null,null,null,null,null,null,null,null,null,null,null,null,{"$f":"Раздел2!G226","v":0},{"$f":"Раздел2!D226","v":0}]
[null,"Фехтование - всего","219",{"$f":"SUM(D228:D231)","v":0},{"$f":"SUM(E228:E231)","v":0},0,0,0,0,0,0,0,0,0,0,null,{"$f":"Раздел2!G227","v":0},{"$f":"Раздел2!D227","v":0}]
[null,"в том числе:\nРапира","220",null,null,null,null,null,null,null,null,null,null,null,null,null,{"$f":"Раздел2!G228","v":0},{"$f":"Раздел2!D228","v":0}]
[null,"Сабля","221",null,null,null,null,null,null,null,null,null,null,null,null,null,{"$f":"Раздел2!G229","v":0},{"$f":"Раздел2!D229","v":0}]
[null,"Шпага","222",null,null,null,null,null,null,null,null,null,null,null,null,null,{"$f":"Раздел2!G230","v":0},{"$f":"Раздел2!D230","v":0}]
[null,"Арт-фехтование","223",null,null,null,null,null,null,null,null,null,null,null,null,null,{"$f":"Раздел2!G231","v":0},{"$f":"Раздел2!D231","v":0}]
[null,"Фигурное катание на коньках","224",null,null,null,null,null,null,null,null,null,null,null,null,null,{"$f":"Раздел2!G232","v":0},{"$f":"Раздел2!D232","v":0}]
[null,"Фитнес-аэробика","225",null,null,null,null,null,null,null,null,null,null,null,null,null,{"$f":"Раздел2!G233","v":0},{"$f":"Раздел2!D233","v":0}]
[null,"Флаинг диск","226",null,null,null,null,null,null,null,null,null,null,null,null,null,{"$f":"Раздел2!G234","v":0},{"$f":"Раздел2!D234","v":0}]
[null,"Флорбол","227",null,null,null,null,null,null,null,null,null,null,null,null,null,{"$f":"Раздел2!G235","v":0},{"$f":"Раздел2!D235","v":0}]
[null,"Фристайл - всего","228",{"$f":"SUM(D237:D242)","v":0},{"$f":"SUM(E237:E242)","v":0},0,0,0,0,0,0,0,0,0,0,null,{"$f":"Раздел2!G236","v":0},{"$f":"Раздел2!D236","v":0}]
[null,"в том числе:\nАкробатика","229",null,null,null,null,null,null,null,null,null,null,null,null,null,{"$f":"Раздел2!G237","v":0},{"$f":"Раздел2!D237","v":0}]
[null,"Биг-эйр","230",null,null,null,null,null,null,null,null,null,null,null,null,null,{"$f":"Раздел2!G238","v":0},{"$f":"Раздел2!D238","v":0}]
[null,"Могул","231",null,null,null,null,null,null,null,null,null,null,null,null,null,{"$f":"Раздел2!G239","v":0},{"$f":"Раздел2!D239","v":0}]
[null,"Ски-кросс","232",null,null,null,null,null,null,null,null,null,null,null,null,null,{"$f":"Раздел2!G240","v":0},{"$f":"Раздел2!D240","v":0}]
[null,"Хаф-пайп","233",null,null,null,null,null,null,null,null,null,null,null,null,null,{"$f":"Раздел2!G241","v":0},{"$f":"Раздел2!D241","v":0}]
[null,"Слоуп-стайл","234",null,null,null,null,null,null,null,null,null,null,null,null,null,{"$f":"Раздел2!G242","v":0},{"$f":"Раздел2!D242","v":0}]
[null,"Функциональное многоборье","235",null,null,null,null,null,null,null,null,null,null,null,null,null,{"$f":"Раздел2!G243","v":0},{"$f":"Раздел2!D243","v":0}]
[null,"Футбол - всего","236",{"$f":"SUM(D245:D250)","v":0},{"$f":"SUM(E245:E250)","v":0},0,0,0,0,0,0,0,0,0,0,null,{"$f":"Раздел2!G244","v":176},{"$f":"Раздел2!D244","v":1}]
[null,"в том числе:\nФутбол (муж.)","237",null,null,null,null,null,null,null,null,null,null,null,null,null,{"$f":"Раздел2!G245","v":176},{"$f":"Раздел2!D245","v":1}]
[null,"Футбол (жен.)","238",null,null,null,null,null,null,null,null,null,null,null,null,null,{"$f":"Раздел2!G246","v":0},{"$f":"Раздел2!D246","v":0}]
[null,"Мини-футбол (футзал)","239",null,null,null,null,null,null,null,null,null,null,null,null,null,{"$f":"Раздел2!G247","v":0},{"$f":"Раздел2!D247","v":0}]
[null,"Пляжный футбол","240",null,null,null,null,null,null,null,null,null,null,null,null,null,{"$f":"Раздел2!G248","v":0},{"$f":"Раздел2!D248","v":0}]
[null,"Футбол 6х6, 7х7, 8х8","241",null,null,null,null,null,null,null,null,null,null,null,null,null,{"$f":"Раздел2!G249","v":0},{"$f":"Раздел2!D249","v":0}]
[null,"Интерактивный футбол","242",null,null,null,null,null,null,null,null,null,null,null,null,null,{"$f":"Раздел2!G250","v":0},{"$f":"Раздел2!D250","v":0}]
[null,"Футгольф","243",null,null,null,null,null,null,null,null,null,null,null,null,null,{"$f":"Раздел2!G251","v":0},{"$f":"Раздел2!D251","v":0}]
[null,"Хапкидо","244",null,null,null,null,null,null,null,null,null,null,null,null,null,{"$f":"Раздел2!G252","v":0},{"$f":"Раздел2!D252","v":0}]
[null,"Хапсагай","245",null,null,null,null,null,null,null,null,null,null,null,null,null,{"$f":"Раздел2!G253","v":0},{"$f":"Раздел2!D253","v":0}]
[null,"Хоккей - всего","246",{"$f":"SUM(D255:D256)","v":0},{"$f":"SUM(E255:E256)","v":0},0,0,0,0,0,0,0,0,0,0,null,{"$f":"Раздел2!G254","v":0},{"$f":"Раздел2!D254","v":0}]
[null,"в том числе:\nХоккей (муж.)","247",null,null,null,null,null,null,null,null,null,null,null,null,null,{"$f":"Раздел2!G255","v":0},{"$f":"Раздел2!D255","v":0}]
[null,"Хоккей (жен.)","248",null,null,null,null,null,null,null,null,null,null,null,null,null,{"$f":"Раздел2!G256","v":0},{"$f":"Раздел2!D256","v":0}]
[null,"Хоккей на траве - всего","249",{"$f":"SUM(D258:D260)","v":0},{"$f":"SUM(E258:E260)","v":0},0,0,0,{"$f":"SUM(I258:I260)","v":0},0,0,0,0,0,0,null,{"$f":"Раздел2!G257","v":0},{"$f":"Раздел2!D257","v":0}]
[null,"в том числе:\nХоккей на траве (муж.)","250",null,null,null,null,null,null,null,null,null,null,null,null,null,{"$f":"Раздел2!G258","v":0},{"$f":"Раздел2!D258","v":0}]
[null,"Хоккей на траве (жен.)","251",null,null,null,null,null,null,null,null,null,null,null,null,null,{"$f":"Раздел2!G259","v":0},{"$f":"Раздел2!D259","v":0}]
[null,"Индорхоккей","252",null,null,null,null,null,null,null,null,null,null,null,null,null,{"$f":"Раздел2!G260","v":0},{"$f":"Раздел2!D260","v":0}]
[null,"Хоккей с мячом","253",null,null,null,null,null,null,null,null,null,null,null,null,null,{"$f":"Раздел2!G261","v":0},{"$f":"Раздел2!D261","v":0}]
[null,"Художественная гимнастика","254",null,null,null,null,null,null,null,null,null,null,null,null,null,{"$f":"Раздел2!G262","v":136},{"$f":"Раздел2!D262","v":1}]
[null,"Хуреш","255",null,null,null,null,null,null,null,null,null,null,null,null,null,{"$f":"Раздел2!G263","v":0},{"$f":"Раздел2!D263","v":0}]
[null,"Чир спорт","256",null,null,null,null,null,null,null,null,null,null,null,null,null,{"$f":"Раздел2!G264","v":0},{"$f":"Раздел2!D264","v":0}]
[null,"Шахматы","257",null,null,null,null,null,null,null,null,null,null,null,null,null,{"$f":"Раздел2!G265","v":0},{"$f":"Раздел2!D265","v":0}]
[null,"Шашки","258",null,null,null,null,null,null,null,null,null,null,null,null,null,{"$f":"Раздел2!G266","v":0},{"$f":"Раздел2!D266","v":0}]
[null,"Шодсанлат","259",null,null,null,null,null,null,null,null,null,null,null,null,null,{"$f":"Раздел2!G267","v":0},{"$f":"Раздел2!D267","v":0}]
[null,"Эстетическая гимнастика","260",null,null,null,null,null,null,null,null,null,null,null,null,null,{"$f":"Раздел2!G268","v":0},{"$f":"Раздел2!D268","v":0}]
[null,"Якутские национальные прыжки","261",null,null,null,null,null,null,null,null,null,null,null,null,null,{"$f":"Раздел2!G269","v":0},{"$f":"Раздел2!D269","v":0}]
[null,"ИТОГО","262",{"$f":"SUM(D9:D20,D23:D26,D29:D34,D45:D50,D55:D57,D39:D42,D61:D71,D76:D85,D89:D95,D98:D103,D111:D116,D117:D125,D128:D133,D136,D141:D142,D148:D151,D156:D161,D162:D176,D177:D189,D195:D202,D207:D209,D213:D217,D218:D227,D232:D236,D243:D244,D251:D254,D257,D261:D269)","v":0},{"$f":"SUM(E9:E20,E23:E26,E29:E34,E45:E50,E55:E57,E39:E42,E61:E71,E76:E85,E89:E95,E98:E103,E111:E116,E117:E125,E128:E133,E136,E141:E142,E148:E151,E156:E161,E162:E176,E177:E189,E195:E202,E207:E209,E213:E217,E218:E227,E232:E236,E243:E244,E251:E254,E257,E261:E269)","v":0},0,0,{"$f":"SUM(H9:H20,H23:H26,H29:H34,H45:H50,H55:H57,H39:H42,H61:H71,H76:H85,H89:H95,H98:H103,H111:H116,H117:H125,H128:H133,H136,H141:H142,H148:H151,H156:H161,H162:H176,H177:H189,H195:H202,H207:H209,H213:H217,H218:H227,H232:H236,H243:H244,H251:H254,H257,H261:H269)","v":0},{"$f":"SUM(I9:I20,I23:I26,I29:I34,I45:I50,I55:I57,I39:I42,I61:I71,I76:I85,I89:I95,I98:I103,I111:I116,I117:I125,I128:I133,I136,I141:I142,I148:I151,I156:I161,I162:I176,I177:I189,I195:I202,I207:I209,I213:I217,I218:I227,I232:I236,I243:I244,I251:I254,I257,I261:I269)","v":0},{"$f":"SUM(J9:J20,J23:J26,J29:J34,J45:J50,J55:J57,J39:J42,J61:J71,J76:J85,J89:J95,J98:J103,J111:J116,J117:J125,J128:J133,J136,J141:J142,J148:J151,J156:J161,J162:J176,J177:J189,J195:J202,J207:J209,J213:J217,J218:J227,J232:J236,J243:J244,J251:J254,J257,J261:J269)","v":0},{"$f":"SUM(K9:K20,K23:K26,K29:K34,K45:K50,K55:K57,K39:K42,K61:K71,K76:K85,K89:K95,K98:K103,K111:K116,K117:K125,K128:K133,K136,K141:K142,K148:K151,K156:K161,K162:K176,K177:K189,K195:K202,K207:K209,K213:K217,K218:K227,K232:K236,K243:K244,K251:K254,K257,K261:K269)","v":0},{"$f":"SUM(L9:L20,L23:L26,L29:L34,L45:L50,L55:L57,L39:L42,L61:L71,L76:L85,L89:L95,L98:L103,L111:L116,L117:L125,L128:L133,L136,L141:L142,L148:L151,L156:L161,L162:L176,L177:L189,L195:L202,L207:L209,L213:L217,L218:L227,L232:L236,L243:L244,L251:L254,L257,L261:L269)","v":0},0,{"$f":"SUM(N9:N20,N23:N26,N29:N34,N45:N50,N55:N57,N39:N42,N61:N71,N76:N85,N89:N95,N98:N103,N111:N116,N117:N125,N128:N133,N136,N141:N142,N148:N151,N156:N161,N162:N176,N177:N189,N195:N202,N207:N209,N213:N217,N218:N227,N232:N236,N243:N244,N251:N254,N257,N261:N269)","v":0},{"$f":"SUM(O9:O20,O23:O26,O29:O34,O45:O50,O55:O57,O39:O42,O61:O71,O76:O85,O89:O95,O98:O103,O111:O116,O117:O125,O128:O133,O136,O141:O142,O148:O151,O156:O161,O162:O176,O177:O189,O195:O202,O207:O209,O213:O217,O218:O227,O232:O236,O243:O244,O251:O254,O257,O261:O269)","v":0},null,{"$f":"Раздел2!G270","v":1015}]

{"sheet":"Раздел7","index":7,"n_rows":269,"n_cols":37,"rows_kept":269,"cut":false,"hidden":false,"merged":[[2,36,5,36],[3,3,4,8],[3,9,4,13],[3,14,4,18],[3,19,4,23],[3,24,4,28],[3,29,4,33],[0,0,124,0],[0,1,0,33],[0,34,124,34],[1,28,1,33],[2,1,5,1],[2,2,5,2],[2,3,2,33]]}
[null,"Раздел VII. Всероссийские спортивные соревнования"]
[null,null,null,null,null,null,null,null,null,null,null,null,null,null,null,null,null,null,null,null,null,null,null,null,null,null,null,null,"Коды по ОКЕИ: единица - 642"]
[null,"Виды спорта","№ строки","Результаты выступлений на соревнованиях",null,null,null,null,null,null,null,null,null,null,null,null,null,null,null,null,null,null,null,null,null,null,null,null,null,null,null,null,null,null,null,null,"Раздел2 графа3\nЧисло отделений"]
[null,null,null,"Всего",null,null,null,null,null,"Чемпионат России",null,null,null,null,"Первенство России среди юниоров и юниорок",null,null,null,null,"Первенство России среди юношей и девушек",null,null,null,null,"Кубок России",null,null,null,null,"Прочие официальные всероссийские соревнования"]
[]
[null,null,null,"медали \n(1-3 место)",1,2,3,"4-6","учас-тие",1,2,3,"4-6","учас-тие",1,2,3,"4-6","учас-тие",1,2,3,"4-6","учас-тие",1,2,3,"4-6","учас-тие",1,2,3,"4-6","учас-тие"]
[null,1,2,3,4,5,6,7,8,9,10,11,12,13,14,15,16,17,18,19,20,21,22,23,24,25,26,27,28,29,30,31,32,33]
[null,"Авиамодельный спорт","01",{"$f":"SUM(E8:G8)","v":0},{"$f":"SUM(J8,O8,T8,Y8,AD8,)","v":0},{"$f":"SUM(K8,P8,U8,Z8,AE8)","v":0},{"$f":"SUM(L8,Q8,V8,AA8,AF8)","v":0},{"$f":"SUM(M8,R8,W8,AB8,AG8)","v":0},{"$f":"SUM(N8,S8,X8,AC8,AH8)","v":0},null,null,null,null,null,null,null,null,null,null,null,null,null,null,null,null,null,null,null,null,null,null,null,null,null,null,null,{"$f":"Раздел2!D9","v":0}]
[null,"Автомобильный спорт","02",{"$f":"SUM(E9:G9)","v":0},{"$f":"SUM(J9,O9,T9,Y9,AD9,)","v":0},{"$f":"SUM(K9,P9,U9,Z9,AE9)","v":0},{"$f":"SUM(L9,Q9,V9,AA9,AF9)","v":0},{"$f":"SUM(M9,R9,W9,AB9,AG9)","v":0},{"$f":"SUM(N9,S9,X9,AC9,AH9)","v":0},null,null,null,null,null,null,null,null,null,null,null,null,null,null,null,null,null,null,null,null,null,null,null,null,null,null,null,{"$f":"Раздел2!D10","v":0}]
[null,"Автомодельный спорт","03",0,0,0,0,0,0,null,null,null,null,null,null,null,null,null,null,null,null,null,null,null,null,null,null,null,null,null,null,null,null,null,null,null,{"$f":"Раздел2!D11","v":0}]
[null,"Айкидо","04",0,0,0,0,0,0,null,null,null,null,null,null,null,null,null,null,null,null,null,null,null,null,null,null,null,null,null,null,null,null,null,null,null,{"$f":"Раздел2!D12","v":0}]
[null,"Айсшток","05",0,0,0,0,0,0,null,null,null,null,null,null,null,null,null,null,null,null,null,null,null,null,null,null,null,null,null,null,null,null,null,null,null,{"$f":"Раздел2!D13","v":0}]
[null,"Акробатический рок-н-ролл","06",0,0,0,0,0,0,null,null,null,null,null,null,null,null,null,null,null,null,null,null,null,null,null,null,null,null,null,null,null,null,null,null,null,{"$f":"Раздел2!D14","v":0}]
[null,"Альпинизм","07",0,0,0,0,0,0,null,null,null,null,null,null,null,null,null,null,null,null,null,null,null,null,null,null,null,null,null,null,null,null,null,null,null,{"$f":"Раздел2!D15","v":0}]
[null,"Американский футбол","08",0,0,0,0,0,0,null,null,null,null,null,null,null,null,null,null,null,null,null,null,null,null,null,null,null,null,null,null,null,null,null,null,null,{"$f":"Раздел2!D16","v":0}]
[null,"Армейский рукопашный бой","09",0,0,0,0,0,0,null,null,null,null,null,null,null,null,null,null,null,null,null,null,null,null,null,null,null,null,null,null,null,null,null,null,null,{"$f":"Раздел2!D17","v":0}]
[null,"Армрестлинг","10",0,0,0,0,0,0,null,null,null,null,null,null,null,null,null,null,null,null,null,null,null,null,null,null,null,null,null,null,null,null,null,null,null,{"$f":"Раздел2!D18","v":0}]
[null,"Бадминтон","11",0,0,0,0,0,0,null,null,null,null,null,null,null,null,null,null,null,null,null,null,null,null,null,null,null,null,null,null,null,null,null,null,null,{"$f":"Раздел2!D19","v":0}]
[null,"Баскетбол - всего","12",0,0,0,0,0,0,{"$f":"SUM(J20:J21)","v":0},{"$f":"SUM(K20:K21)","v":0},0,0,0,0,0,0,0,0,0,0,0,0,0,0,0,0,0,0,0,0,0,0,0,null,null,{"$f":"Раздел2!D20","v":1}]
[null,"в том числе:\nБаскетбол (муж.)","13",0,0,0,0,0,0,null,null,null,null,null,null,null,null,null,null,null,null,null,null,null,null,null,null,null,null,null,null,null,null,null,null,null,{"$f":"Раздел2!D21","v":1}]
[null,"Баскетбол (жен.)","14",0,0,0,0,0,0,null,null,null,null,null,null,null,null,null,null,null,null,null,null,null,null,null,null,null,null,null,null,null,null,null,null,null,{"$f":"Раздел2!D22","v":0}]
[null,"Бейсбол","15",0,0,0,0,0,0,null,null,null,null,null,null,null,null,null,null,null,null,null,null,null,null,null,null,null,null,null,null,null,null,null,null,null,{"$f":"Раздел2!D23","v":0}]
[null,"Биатлон","16",0,0,0,0,0,0,null,null,null,null,null,null,null,null,null,null,null,null,null,null,null,null,null,null,null,null,null,null,null,null,null,null,null,{"$f":"Раздел2!D24","v":0}]
[null,"Бильярдный спорт","17",0,0,0,0,0,0,null,null,null,null,null,null,null,null,null,null,null,null,null,null,null,null,null,null,null,null,null,null,null,null,null,null,null,{"$f":"Раздел2!D25","v":0}]
[null,"Бобслей - всего","18",0,0,0,0,0,0,{"$f":"SUM(J26:J27)","v":0},{"$f":"SUM(K26:K27)","v":0},0,0,0,0,0,0,0,0,0,0,0,0,0,0,0,0,0,0,0,0,0,0,0,null,null,{"$f":"Раздел2!D26","v":0}]
[null,"в том числе:\nБобслей","19",0,0,0,0,0,0,null,null,null,null,null,null,null,null,null,null,null,null,null,null,null,null,null,null,null,null,null,null,null,null,null,null,null,{"$f":"Раздел2!D27","v":0}]
[null,"Скелетон","20",0,0,0,0,0,0,null,null,null,null,null,null,null,null,null,null,null,null,null,null,null,null,null,null,null,null,null,null,null,null,null,null,null,{"$f":"Раздел2!D28","v":0}]
[null,"Бодибилдинг","21",0,0,0,0,0,0,null,null,null,null,null,null,null,null,null,null,null,null,null,null,null,null,null,null,null,null,null,null,null,null,null,null,null,{"$f":"Раздел2!D29","v":0}]
[null,"Бокс","22",0,0,0,0,0,0,null,null,null,null,null,null,null,null,null,null,null,null,null,null,null,null,null,null,null,null,null,null,null,null,null,null,null,{"$f":"Раздел2!D30","v":1}]
[null,"Борьба на поясах","23",0,0,0,0,0,0,null,null,null,null,null,null,null,null,null,null,null,null,null,null,null,null,null,null,null,null,null,null,null,null,null,null,null,{"$f":"Раздел2!D31","v":0}]
[null,"Боулинг","24",0,0,0,0,0,0,null,null,null,null,null,null,null,null,null,null,null,null,null,null,null,null,null,null,null,null,null,null,null,null,null,null,null,{"$f":"Раздел2!D32","v":0}]
[null,"Боулспорт","25",0,0,0,0,0,0,null,null,null,null,null,null,null,null,null,null,null,null,null,null,null,null,null,null,null,null,null,null,null,null,null,null,null,{"$f":"Раздел2!D33","v":0}]
[null,"Велосипедный спорт - всего","26",0,0,0,0,0,0,{"$f":"SUM(J34:J37)","v":0},{"$f":"SUM(K34:K37)","v":0},0,0,0,0,0,0,0,0,0,0,0,0,0,0,0,0,0,0,0,0,0,0,0,null,null,{"$f":"Раздел2!D34","v":0}]
[null,"в том числе:\nBMX","27",0,0,0,0,0,0,null,null,null,null,null,null,null,null,null,null,null,null,null,null,null,null,null,null,null,null,null,null,null,null,null,null,null,{"$f":"Раздел2!D35","v":0}]
[null,"Маунтинбайк","28",0,0,0,0,0,0,null,null,null,null,null,null,null,null,null,null,null,null,null,null,null,null,null,null,null,null,null,null,null,null,null,null,null,{"$f":"Раздел2!D36","v":0}]
[null,"Трек","29",0,0,0,0,0,0,null,null,null,null,null,null,null,null,null,null,null,null,null,null,null,null,null,null,null,null,null,null,null,null,null,null,null,{"$f":"Раздел2!D37","v":0}]
[null,"Шоссе","30",0,0,0,0,0,0,null,null,null,null,null,null,null,null,null,null,null,null,null,null,null,null,null,null,null,null,null,null,null,null,null,null,null,{"$f":"Раздел2!D38","v":0}]
[null,"Вертолетный спорт","31",0,0,0,0,0,0,null,null,null,null,null,null,null,null,null,null,null,null,null,null,null,null,null,null,null,null,null,null,null,null,null,null,null,{"$f":"Раздел2!D39","v":0}]
[null,"Водно-моторный спорт","32",0,0,0,0,0,0,null,null,null,null,null,null,null,null,null,null,null,null,null,null,null,null,null,null,null,null,null,null,null,null,null,null,null,{"$f":"Раздел2!D40","v":0}]
[null,"Водно-спасательное многоборье","33",0,0,0,0,0,0,null,null,null,null,null,null,null,null,null,null,null,null,null,null,null,null,null,null,null,null,null,null,null,null,null,null,null,{"$f":"Раздел2!D41","v":0}]
[null,"Водное поло - всего ","34",0,0,0,0,0,0,{"$f":"SUM(J42:J43)","v":0},{"$f":"SUM(K42:K43)","v":0},0,0,0,0,0,0,0,0,0,0,0,0,0,0,0,0,0,0,0,0,0,0,0,null,null,{"$f":"Раздел2!D42","v":0}]
[null,"в том числе:\nВодное поло (муж.)","35",0,0,0,0,0,0,null,null,null,null,null,null,null,null,null,null,null,null,null,null,null,null,null,null,null,null,null,null,null,null,null,null,null,{"$f":"Раздел2!D43","v":0}]
[null,"Водное поло (жен.)","36",0,0,0,0,0,0,null,null,null,null,null,null,null,null,null,null,null,null,null,null,null,null,null,null,null,null,null,null,null,null,null,null,null,{"$f":"Раздел2!D44","v":0}]
[null,"Воднолыжный спорт","37",0,0,0,0,0,0,null,null,null,null,null,null,null,null,null,null,null,null,null,null,null,null,null,null,null,null,null,null,null,null,null,null,null,{"$f":"Раздел2!D45","v":0}]
[null,"Военно-прикладной спорт","38",0,0,0,0,0,0,null,null,null,null,null,null,null,null,null,null,null,null,null,null,null,null,null,null,null,null,null,null,null,null,null,null,null,{"$f":"Раздел2!D46","v":0}]
[null,"Военно-спортивное многоборье","39",0,0,0,0,0,0,null,null,null,null,null,null,null,null,null,null,null,null,null,null,null,null,null,null,null,null,null,null,null,null,null,null,null,{"$f":"Раздел2!D47","v":0}]
[null,"Воздухоплавательный спорт","40",0,0,0,0,0,0,null,null,null,null,null,null,null,null,null,null,null,null,null,null,null,null,null,null,null,null,null,null,null,null,null,null,null,{"$f":"Раздел2!D48","v":0}]
[null,"Воздушно-силовая атлетика","41",0,0,0,0,0,0,null,null,null,null,null,null,null,null,null,null,null,null,null,null,null,null,null,null,null,null,null,null,null,null,null,null,null,{"$f":"Раздел2!D49","v":0}]
[null,"Волейбол - всего","42",0,0,0,0,0,0,{"$f":"SUM(J50:J53)","v":0},{"$f":"SUM(K50:K53)","v":0},0,0,0,0,0,0,0,0,0,0,0,0,0,0,0,0,0,0,0,0,0,0,0,null,null,{"$f":"Раздел2!D50","v":0}]
[null,"в том числе:\nВолейбол (муж.)","43",0,0,0,0,0,0,null,null,null,null,null,null,null,null,null,null,null,null,null,null,null,null,null,null,null,null,null,null,null,null,null,null,null,{"$f":"Раздел2!D51","v":0}]
[null,"Волейбол (жен.)","44",0,0,0,0,0,0,null,null,null,null,null,null,null,null,null,null,null,null,null,null,null,null,null,null,null,null,null,null,null,null,null,null,null,{"$f":"Раздел2!D52","v":0}]
[null,"Пляжный волейбол (муж.)","45",0,0,0,0,0,0,null,null,null,null,null,null,null,null,null,null,null,null,null,null,null,null,null,null,null,null,null,null,null,null,null,null,null,{"$f":"Раздел2!D53","v":0}]
[null,"Пляжный волейбол (жен.)","46",0,0,0,0,0,0,null,null,null,null,null,null,null,null,null,null,null,null,null,null,null,null,null,null,null,null,null,null,null,null,null,null,null,{"$f":"Раздел2!D54","v":0}]
[null,"Восточное боевое единоборство","47",0,0,0,0,0,0,null,null,null,null,null,null,null,null,null,null,null,null,null,null,null,null,null,null,null,null,null,null,null,null,null,null,null,{"$f":"Раздел2!D55","v":0}]
[null,"Всестилевое каратэ","48",0,0,0,0,0,0,null,null,null,null,null,null,null,null,null,null,null,null,null,null,null,null,null,null,null,null,null,null,null,null,null,null,null,{"$f":"Раздел2!D56","v":0}]
[null,"Гандбол - всего","49",0,0,0,0,0,0,{"$f":"SUM(J57:J59)","v":0},{"$f":"SUM(K57:K59)","v":0},0,0,0,0,0,0,0,0,0,0,0,0,0,0,0,0,0,0,0,0,0,0,0,null,null,{"$f":"Раздел2!D57","v":0}]
[null,"в том числе:\nГандбол (муж.)","50",0,0,0,0,0,0,null,null,null,null,null,null,null,null,null,null,null,null,null,null,null,null,null,null,null,null,null,null,null,null,null,null,null,{"$f":"Раздел2!D58","v":0}]
[null,"Гандбол (жен.)","51",0,0,0,0,0,0,null,null,null,null,null,null,null,null,null,null,null,null,null,null,null,null,null,null,null,null,null,null,null,null,null,null,null,{"$f":"Раздел2!D59","v":0}]
[null,"Пляжный гандбол","52",0,0,0,0,0,0,null,null,null,null,null,null,null,null,null,null,null,null,null,null,null,null,null,null,null,null,null,null,null,null,null,null,null,{"$f":"Раздел2!D60","v":0}]
[null,"Гиревой спорт","53",0,0,0,0,0,0,null,null,null,null,null,null,null,null,null,null,null,null,null,null,null,null,null,null,null,null,null,null,null,null,null,null,null,{"$f":"Раздел2!D61","v":0}]
[null,"Го","54",0,0,0,0,0,0,null,null,null,null,null,null,null,null,null,null,null,null,null,null,null,null,null,null,null,null,null,null,null,null,null,null,null,{"$f":"Раздел2!D62","v":0}]
[null,"Гольф","55",0,0,0,0,0,0,null,null,null,null,null,null,null,null,null,null,null,null,null,null,null,null,null,null,null,null,null,null,null,null,null,null,null,{"$f":"Раздел2!D63","v":0}]
[null,"Гонки на охотничьих лыжах","56",0,0,0,0,0,0,null,null,null,null,null,null,null,null,null,null,null,null,null,null,null,null,null,null,null,null,null,null,null,null,null,null,null,{"$f":"Раздел2!D64","v":0}]
[null,"Гонки с препятствиями","57",0,0,0,0,0,0,null,null,null,null,null,null,null,null,null,null,null,null,null,null,null,null,null,null,null,null,null,null,null,null,null,null,null,{"$f":"Раздел2!D65","v":0}]
[null,"Горнолыжный спорт","58",0,0,0,0,0,0,null,null,null,null,null,null,null,null,null,null,null,null,null,null,null,null,null,null,null,null,null,null,null,null,null,null,null,{"$f":"Раздел2!D66","v":0}]
[null,"Городошный спорт","59",0,0,0,0,0,0,null,null,null,null,null,null,null,null,null,null,null,null,null,null,null,null,null,null,null,null,null,null,null,null,null,null,null,{"$f":"Раздел2!D67","v":0}]
[null,"Гребля на байдарках и каноэ","60",0,0,0,0,0,0,null,null,null,null,null,null,null,null,null,null,null,null,null,null,null,null,null,null,null,null,null,null,null,null,null,null,null,{"$f":"Раздел2!D68","v":0}]
[null,"Гребля на шлюпках","61",0,0,0,0,0,0,null,null,null,null,null,null,null,null,null,null,null,null,null,null,null,null,null,null,null,null,null,null,null,null,null,null,null,{"$f":"Раздел2!D69","v":0}]
[null,"Гребной слалом","62",0,0,0,0,0,0,null,null,null,null,null,null,null,null,null,null,null,null,null,null,null,null,null,null,null,null,null,null,null,null,null,null,null,{"$f":"Раздел2!D70","v":0}]
[null,"Гребной спорт - всего","63",0,0,0,0,0,0,{"$f":"SUM(J71:J74)","v":0},{"$f":"SUM(K71:K74)","v":0},0,0,0,0,0,0,0,0,0,0,0,0,0,0,0,0,0,0,0,0,0,0,0,null,null,{"$f":"Раздел2!D71","v":0}]
[null,"в том числе:\nАкадемическая гребля","64",0,0,0,0,0,0,null,null,null,null,null,null,null,null,null,null,null,null,null,null,null,null,null,null,null,null,null,null,null,null,null,null,null,{"$f":"Раздел2!D72","v":0}]
[null,"Гребля-индор","65",0,0,0,0,0,0,null,null,null,null,null,null,null,null,null,null,null,null,null,null,null,null,null,null,null,null,null,null,null,null,null,null,null,{"$f":"Раздел2!D73","v":0}]
[null,"Народная гребля","66",{"$f":"SUM(E73:G73)","v":0},{"$f":"SUM(J73,O73,T73,Y73,AD73,)","v":0},{"$f":"SUM(K73,P73,U73,Z73,AE73)","v":0},{"$f":"SUM(L73,Q73,V73,AA73,AF73)","v":0},{"$f":"SUM(M73,R73,W73,AB73,AG73)","v":0},{"$f":"SUM(N73,S73,X73,AC73,AH73)","v":0},null,null,null,null,null,null,null,null,null,null,null,null,null,null,null,null,null,null,null,null,null,null,null,null,null,null,null,{"$f":"Раздел2!D74","v":0}]
[null,"Прибрежная гребля","67",0,0,0,0,0,0,null,null,null,null,null,null,null,null,null,null,null,null,null,null,null,null,null,null,null,null,null,null,null,null,null,null,null,{"$f":"Раздел2!D75","v":0}]
[null,"Гребно-парусное двоеборье","68",0,0,0,0,0,0,null,null,null,null,null,null,null,null,null,null,null,null,null,null,null,null,null,null,null,null,null,null,null,null,null,null,null,{"$f":"Раздел2!D76","v":0}]
[null,"Дартс","69",0,0,0,0,0,0,null,null,null,null,null,null,null,null,null,null,null,null,null,null,null,null,null,null,null,null,null,null,null,null,null,null,null,{"$f":"Раздел2!D77","v":0}]
[null,"Джиу-джитсу","70",0,0,0,0,0,0,null,null,null,null,null,null,null,null,null,null,null,null,null,null,null,null,null,null,null,null,null,null,null,null,null,null,null,{"$f":"Раздел2!D78","v":0}]
[null,"Дзюдо","71",0,0,0,0,0,0,null,null,null,null,null,null,null,null,null,null,null,null,null,null,null,null,null,null,null,null,null,null,null,null,null,null,null,{"$f":"Раздел2!D79","v":0}]
[null,"Ездовой спорт","72",0,0,0,0,0,0,null,null,null,null,null,null,null,null,null,null,null,null,null,null,null,null,null,null,null,null,null,null,null,null,null,null,null,{"$f":"Раздел2!D80","v":0}]
[null,"Капоэйра","73",0,0,0,0,0,0,null,null,null,null,null,null,null,null,null,null,null,null,null,null,null,null,null,null,null,null,null,null,null,null,null,null,null,{"$f":"Раздел2!D81","v":0}]
[null,"Каратэ","74",0,0,0,0,0,0,null,null,null,null,null,null,null,null,null,null,null,null,null,null,null,null,null,null,null,null,null,null,null,null,null,null,null,{"$f":"Раздел2!D82","v":0}]
[null,"Кендо","75",0,0,0,0,0,0,null,null,null,null,null,null,null,null,null,null,null,null,null,null,null,null,null,null,null,null,null,null,null,null,null,null,null,{"$f":"Раздел2!D83","v":0}]
[null,"Керешу","76",0,0,0,0,0,0,null,null,null,null,null,null,null,null,null,null,null,null,null,null,null,null,null,null,null,null,null,null,null,null,null,null,null,{"$f":"Раздел2!D84","v":0}]
[null,"Кёрлинг - всего","77",0,0,0,0,0,0,{"$f":"SUM(J85:J87)","v":0},{"$f":"SUM(K85:K87)","v":0},0,0,0,0,0,0,0,0,0,0,0,0,0,0,0,0,0,0,0,0,0,0,0,null,null,{"$f":"Раздел2!D85","v":0}]
[null,"в том числе:\nКерлинг (муж.)","78",0,0,0,0,0,0,null,null,null,null,null,null,null,null,null,null,null,null,null,null,null,null,null,null,null,null,null,null,null,null,null,null,null,{"$f":"Раздел2!D86","v":0}]
[null,"Керлинг (жен.)","79",0,0,0,0,0,0,null,null,null,null,null,null,null,null,null,null,null,null,null,null,null,null,null,null,null,null,null,null,null,null,null,null,null,{"$f":"Раздел2!D87","v":0}]
[null,"Кёрлинг – смешанные пары","80",0,0,0,0,0,0,null,null,null,null,null,null,null,null,null,null,null,null,null,null,null,null,null,null,null,null,null,null,null,null,null,null,null,{"$f":"Раздел2!D88","v":0}]
[null,"Кикбоксинг","81",0,0,0,0,0,0,null,null,null,null,null,null,null,null,null,null,null,null,null,null,null,null,null,null,null,null,null,null,null,null,null,null,null,{"$f":"Раздел2!D89","v":0}]
[null,"Кинологический спорт","82",0,0,0,0,0,0,null,null,null,null,null,null,null,null,null,null,null,null,null,null,null,null,null,null,null,null,null,null,null,null,null,null,null,{"$f":"Раздел2!D90","v":0}]
[null,"Киокусинкай","83",0,0,0,0,0,0,null,null,null,null,null,null,null,null,null,null,null,null,null,null,null,null,null,null,null,null,null,null,null,null,null,null,null,{"$f":"Раздел2!D91","v":0}]
[null,"Комплексное единоборство","84",0,0,0,0,0,0,null,null,null,null,null,null,null,null,null,null,null,null,null,null,null,null,null,null,null,null,null,null,null,null,null,null,null,{"$f":"Раздел2!D92","v":0}]
[null,"Компьютерный спорт","85",0,0,0,0,0,0,null,null,null,null,null,null,null,null,null,null,null,null,null,null,null,null,null,null,null,null,null,null,null,null,null,null,null,{"$f":"Раздел2!D93","v":0}]
[null,"Конный спорт","86",0,0,0,0,0,0,null,null,null,null,null,null,null,null,null,null,null,null,null,null,null,null,null,null,null,null,null,null,null,null,null,null,null,{"$f":"Раздел2!D94","v":0}]
[null,"Конькобежный спорт - всего","87",0,0,0,0,0,0,{"$f":"SUM(J95:J96)","v":0},{"$f":"SUM(K95:K96)","v":0},0,0,0,0,0,0,0,0,0,0,0,0,0,0,0,0,0,0,0,0,0,0,0,null,null,{"$f":"Раздел2!D95","v":0}]
[null,"в том числе:\nКонькобежный спорт","88",0,0,0,0,0,0,null,null,null,null,null,null,null,null,null,null,null,null,null,null,null,null,null,null,null,null,null,null,null,null,null,null,null,{"$f":"Раздел2!D96","v":0}]
[null,"Шорт-трек","89",0,0,0,0,0,0,null,null,null,null,null,null,null,null,null,null,null,null,null,null,null,null,null,null,null,null,null,null,null,null,null,null,null,{"$f":"Раздел2!D97","v":0}]
[null,"Корэш","90",0,0,0,0,0,0,null,null,null,null,null,null,null,null,null,null,null,null,null,null,null,null,null,null,null,null,null,null,null,null,null,null,null,{"$f":"Раздел2!D98","v":0}]
[null,"Корфбол","91",0,0,0,0,0,0,null,null,null,null,null,null,null,null,null,null,null,null,null,null,null,null,null,null,null,null,null,null,null,null,null,null,null,{"$f":"Раздел2!D99","v":0}]
[null,"Крикет","92",0,0,0,0,0,0,null,null,null,null,null,null,null,null,null,null,null,null,null,null,null,null,null,null,null,null,null,null,null,null,null,null,null,{"$f":"Раздел2!D100","v":0}]
[null,"Кудо","93",0,0,0,0,0,0,null,null,null,null,null,null,null,null,null,null,null,null,null,null,null,null,null,null,null,null,null,null,null,null,null,null,null,{"$f":"Раздел2!D101","v":0}]
[null,"Лапта","94",0,0,0,0,0,0,null,null,null,null,null,null,null,null,null,null,null,null,null,null,null,null,null,null,null,null,null,null,null,null,null,null,null,{"$f":"Раздел2!D102","v":0}]
[null,"Легкая атлетика - всего","95",0,0,0,0,1,0,{"$f":"SUM(J103:J109)","v":0},{"$f":"SUM(K103:K109)","v":0},0,0,0,0,0,0,0,0,0,0,0,0,0,0,0,0,0,0,0,0,0,{"$f":"SUM(AG103:AG109)","v":1},0,null,null,{"$f":"Раздел2!D103","v":1}]
[null,"в том числе:\nСпринтерский и барьерный бег","96",0,0,0,0,0,0,null,null,null,null,null,null,null,null,null,null,null,null,null,null,null,null,null,null,null,null,null,null,null,null,null,null,null,{"$f":"Раздел2!D104","v":0}]
[null,"Бег на средние дистанции и бег с препятствиями","97",0,0,0,0,0,0,null,null,null,null,null,null,null,null,null,null,null,null,null,null,null,null,null,null,null,null,null,null,null,null,null,null,null,{"$f":"Раздел2!D105","v":0}]
[null,"Бег на длинные и сверхдлинные дистанции","98",0,0,0,0,0,0,null,null,null,null,null,null,null,null,null,null,null,null,null,null,null,null,null,null,null,null,null,null,null,null,null,null,null,{"$f":"Раздел2!D106","v":0}]
[null,"Многоборья","99",0,0,0,0,1,0,null,null,null,null,null,null,null,null,null,null,null,null,null,null,null,null,null,null,null,null,null,null,null,1,null,null,null,{"$f":"Раздел2!D107","v":1}]
[null,"Прыжки","100",0,0,0,0,0,0,null,null,null,null,null,null,null,null,null,null,null,null,null,null,null,null,null,null,null,null,null,null,null,null,null,null,null,{"$f":"Раздел2!D108","v":0}]
[null,"Метания","101",0,0,0,0,0,0,null,null,null,null,null,null,null,null,null,null,null,null,null,null,null,null,null,null,null,null,null,null,null,null,null,null,null,{"$f":"Раздел2!D109","v":0}]
[null,"Спортивная ходьба","102",0,0,0,0,0,0,null,null,null,null,null,null,null,null,null,null,null,null,null,null,null,null,null,null,null,null,null,null,null,null,null,null,null,{"$f":"Раздел2!D110","v":0}]
[null,"Лыжное двоеборье","103",0,0,0,0,0,0,null,null,null,null,null,null,null,null,null,null,null,null,null,null,null,null,null,null,null,null,null,null,null,null,null,null,null,{"$f":"Раздел2!D111","v":0}]
[null,"Лыжные гонки","104",0,0,0,0,0,0,null,null,null,null,null,null,null,null,null,null,null,null,null,null,null,null,null,null,null,null,null,null,null,null,null,null,null,{"$f":"Раздел2!D112","v":0}]
[null,"Мас-рестлинг","105",0,0,0,0,0,0,null,null,null,null,null,null,null,null,null,null,null,null,null,null,null,null,null,null,null,null,null,null,null,null,null,null,null,{"$f":"Раздел2!D113","v":0}]
[null,"Международное военно-спортивное многоборье","106",0,0,0,0,0,0,null,null,null,null,null,null,null,null,null,null,null,null,null,null,null,null,null,null,null,null,null,null,null,null,null,null,null,{"$f":"Раздел2!D114","v":0}]
[null,"Многоборье кинологов","107",0,0,0,0,0,0,null,null,null,null,null,null,null,null,null,null,null,null,null,null,null,null,null,null,null,null,null,null,null,null,null,null,null,{"$f":"Раздел2!D115","v":0}]
[null,"Многоборье спасателей МЧС России","108",0,0,0,0,0,0,null,null,null,null,null,null,null,null,null,null,null,null,null,null,null,null,null,null,null,null,null,null,null,null,null,null,null,{"$f":"Раздел2!D116","v":0}]
[null,"Морское многоборье","109",0,0,0,0,0,0,null,null,null,null,null,null,null,null,null,null,null,null,null,null,null,null,null,null,null,null,null,null,null,null,null,null,null,{"$f":"Раздел2!D117","v":0}]
[null,"Мотоциклетный спорт","110",0,0,0,0,0,0,null,null,null,null,null,null,null,null,null,null,null,null,null,null,null,null,null,null,null,null,null,null,null,null,null,null,null,{"$f":"Раздел2!D118","v":0}]
[null,"Настольный теннис","111",0,0,0,0,0,0,null,null,null,null,null,null,null,null,null,null,null,null,null,null,null,null,null,null,null,null,null,null,null,null,null,null,null,{"$f":"Раздел2!D119","v":0}]
[null,"Падел","112",0,0,0,0,0,0,null,null,null,null,null,null,null,null,null,null,null,null,null,null,null,null,null,null,null,null,null,null,null,null,null,null,null,{"$f":"Раздел2!D120","v":0}]
[null,"Парашютный спорт","113",0,0,0,0,0,0,null,null,null,null,null,null,null,null,null,null,null,null,null,null,null,null,null,null,null,null,null,null,null,null,null,null,null,{"$f":"Раздел2!D121","v":0}]
[null,"Парусный спорт","114",0,0,0,0,0,0,null,null,null,null,null,null,null,null,null,null,null,null,null,null,null,null,null,null,null,null,null,null,null,null,null,null,null,{"$f":"Раздел2!D122","v":0}]
[null,"Пауэрлифтинг","115",0,0,0,0,0,0,null,null,null,null,null,null,null,null,null,null,null,null,null,null,null,null,null,null,null,null,null,null,null,null,null,null,null,{"$f":"Раздел2!D123","v":0}]
[null,"Перетягивание каната","116",0,0,0,0,0,0,null,null,null,null,null,null,null,null,null,null,null,null,null,null,null,null,null,null,null,null,null,null,null,null,null,null,null,{"$f":"Раздел2!D124","v":0}]
[null,"Плавание - всего","117",0,0,0,0,0,0,{"$f":"SUM(J125:J126)","v":0},{"$f":"SUM(K125:K126)","v":0},0,0,0,0,0,0,0,0,0,0,0,0,0,0,0,0,0,0,0,0,0,0,0,null,null,{"$f":"Раздел2!D125","v":1}]
[null,"в том числе:\nПлавание ","118",0,0,0,0,0,0,null,null,null,null,null,null,null,null,null,null,null,null,null,null,null,null,null,null,null,null,null,null,null,null,null,null,null,{"$f":"Раздел2!D126","v":1}]
[null,"Открытая вода","119",0,0,0,0,0,0,null,null,null,null,null,null,null,null,null,null,null,null,null,null,null,null,null,null,null,null,null,null,null,null,null,null,null,{"$f":"Раздел2!D127","v":0}]
[null,"Планерный спорт","120",0,0,0,0,0,0,null,null,null,null,null,null,null,null,null,null,null,null,null,null,null,null,null,null,null,null,null,null,null,null,null,null,null,{"$f":"Раздел2!D128","v":0}]
[null,"Подводный спорт","121",0,0,0,0,0,0,null,null,null,null,null,null,null,null,null,null,null,null,null,null,null,null,null,null,null,null,null,null,null,null,null,null,null,{"$f":"Раздел2!D129","v":0}]
[null,"Пожарно-спасательный спорт","122",0,0,0,0,0,0,null,null,null,null,null,null,null,null,null,null,null,null,null,null,null,null,null,null,null,null,null,null,null,null,null,null,null,{"$f":"Раздел2!D130","v":0}]
[null,"Полиатлон","123",0,0,0,0,0,0,null,null,null,null,null,null,null,null,null,null,null,null,null,null,null,null,null,null,null,null,null,null,null,null,null,null,null,{"$f":"Раздел2!D131","v":0}]
[null,"Практическая стрельба","124",0,0,0,0,0,0,null,null,null,null,null,null,null,null,null,null,null,null,null,null,null,null,null,null,null,null,null,null,null,null,null,null,null,{"$f":"Раздел2!D132","v":0}]
[null,"Прыжки в воду - всего","125",0,0,0,0,0,0,{"$f":"SUM(J133:J134)","v":0},{"$f":"SUM(K133:K134)","v":0},0,0,0,0,0,0,0,0,0,0,0,0,0,0,0,0,0,0,0,0,0,0,0,null,null,{"$f":"Раздел2!D133","v":0}]
[null,"в том числе:\nПрыжки в воду","126",0,0,0,0,0,0,null,null,null,null,null,null,null,null,null,null,null,null,null,null,null,null,null,null,null,null,null,null,null,null,null,null,null,{"$f":"Раздел2!D134","v":0}]
[null,"Прыжки в открытый водоем","127",0,0,0,0,0,0,null,null,null,null,null,null,null,null,null,null,null,null,null,null,null,null,null,null,null,null,null,null,null,null,null,null,null,{"$f":"Раздел2!D135","v":0}]
[null,"Прыжки на батуте - всего","128",0,0,0,0,0,0,{"$f":"SUM(J136:J139)","v":0},{"$f":"SUM(K136:K139)","v":0},0,0,0,0,0,0,0,0,0,0,0,0,0,0,0,0,0,0,0,0,0,0,0,null,null,{"$f":"Раздел2!D136","v":0}]
[null,"в том числе:\nАкробатическая дорожка","129",0,0,0,0,0,0,null,null,null,null,null,null,null,null,null,null,null,null,null,null,null,null,null,null,null,null,null,null,null,null,null,null,null,{"$f":"Раздел2!D137","v":0}]
[null,"Двойной минитрамп","130",{"$f":"SUM(E137:G137)","v":0},{"$f":"SUM(J137,O137,T137,Y137,AD137,)","v":0},{"$f":"SUM(K137,P137,U137,Z137,AE137)","v":0},{"$f":"SUM(L137,Q137,V137,AA137,AF137)","v":0},{"$f":"SUM(M137,R137,W137,AB137,AG137)","v":0},{"$f":"SUM(N137,S137,X137,AC137,AH137)","v":0},null,null,null,null,null,null,null,null,null,null,null,null,null,null,null,null,null,null,null,null,null,null,null,null,null,null,null,{"$f":"Раздел2!D138","v":0}]
[null,"Индивидуальные прыжки","131",0,0,0,0,0,0,null,null,null,null,null,null,null,null,null,null,null,null,null,null,null,null,null,null,null,null,null,null,null,null,null,null,null,{"$f":"Раздел2!D139","v":0}]
[null,"Синхронные прыжки","132",0,0,0,0,0,0,null,null,null,null,null,null,null,null,null,null,null,null,null,null,null,null,null,null,null,null,null,null,null,null,null,null,null,{"$f":"Раздел2!D140","v":0}]
[null,"Прыжки на лыжах с трамплина","133",0,0,0,0,0,0,null,null,null,null,null,null,null,null,null,null,null,null,null,null,null,null,null,null,null,null,null,null,null,null,null,null,null,{"$f":"Раздел2!D141","v":0}]
[null,"Пулевая стрельба - всего","134",0,0,0,0,0,0,{"$f":"SUM(J142:J146)","v":0},{"$f":"SUM(K142:K146)","v":0},0,0,0,0,0,0,0,0,0,0,0,0,0,0,0,0,0,0,0,0,0,0,{"$f":"SUM(AH142:AH146)","v":0},null,null,{"$f":"Раздел2!D142","v":0}]
[null,"в том числе:\nПневматическая винтовка","135",0,0,0,0,0,0,null,null,null,null,null,null,null,null,null,null,null,null,null,null,null,null,null,null,null,null,null,null,null,null,null,null,null,{"$f":"Раздел2!D143","v":0}]
[null,"Пневматический пистолет","136",0,0,0,0,0,0,null,null,null,null,null,null,null,null,null,null,null,null,null,null,null,null,null,null,null,null,null,null,null,null,null,null,null,{"$f":"Раздел2!D144","v":0}]
[null,"Малокалиберная винтовка","137",0,0,0,0,0,0,null,null,null,null,null,null,null,null,null,null,null,null,null,null,null,null,null,null,null,null,null,null,null,null,null,null,null,{"$f":"Раздел2!D145","v":0}]
[null,"Малокалиберный пистолет","138",0,0,0,0,0,0,null,null,null,null,null,null,null,null,null,null,null,null,null,null,null,null,null,null,null,null,null,null,null,null,null,null,null,{"$f":"Раздел2!D146","v":0}]
[null,"Движущаяся мишень","139",0,0,0,0,0,0,null,null,null,null,null,null,null,null,null,null,null,null,null,null,null,null,null,null,null,null,null,null,null,null,null,null,null,{"$f":"Раздел2!D147","v":0}]
[null,"Пэйнтбол","140",0,0,0,0,0,0,null,null,null,null,null,null,null,null,null,null,null,null,null,null,null,null,null,null,null,null,null,null,null,null,null,null,null,{"$f":"Раздел2!D148","v":0}]
[null,"Радиоспорт","141",0,0,0,0,0,0,null,null,null,null,null,null,null,null,null,null,null,null,null,null,null,null,null,null,null,null,null,null,null,null,null,null,null,{"$f":"Раздел2!D149","v":0}]
[null,"Рафтинг","142",0,0,0,0,0,0,null,null,null,null,null,null,null,null,null,null,null,null,null,null,null,null,null,null,null,null,null,null,null,null,null,null,null,{"$f":"Раздел2!D150","v":0}]
[null,"Регби - всего","143",0,0,0,0,0,0,{"$f":"SUM(J151:J154)","v":0},{"$f":"SUM(K151:K154)","v":0},0,0,0,0,0,0,0,0,0,0,0,0,0,0,0,0,0,0,0,0,0,0,{"$f":"SUM(AH151:AH154)","v":0},null,null,{"$f":"Раздел2!D151","v":0}]
[null,"в том числе:\nРегби","144",0,0,0,0,0,0,null,null,null,null,null,null,null,null,null,null,null,null,null,null,null,null,null,null,null,null,null,null,null,null,null,null,null,{"$f":"Раздел2!D152","v":0}]
[null,"Регби 7 (муж.)","145",0,0,0,0,0,0,null,null,null,null,null,null,null,null,null,null,null,null,null,null,null,null,null,null,null,null,null,null,null,null,null,null,null,{"$f":"Раздел2!D153","v":0}]
[null,"Регби 7 (жен.)","146",0,0,0,0,0,0,null,null,null,null,null,null,null,null,null,null,null,null,null,null,null,null,null,null,null,null,null,null,null,null,null,null,null,{"$f":"Раздел2!D154","v":0}]
[null,"Регби - пляжное","147",0,0,0,0,0,0,null,null,null,null,null,null,null,null,null,null,null,null,null,null,null,null,null,null,null,null,null,null,null,null,null,null,null,{"$f":"Раздел2!D155","v":0}]
[null,"Регбол","148",0,0,0,0,0,0,null,null,null,null,null,null,null,null,null,null,null,null,null,null,null,null,null,null,null,null,null,null,null,null,null,null,null,{"$f":"Раздел2!D156","v":0}]
[null,"Роллер спорт","149",0,0,0,0,0,0,null,null,null,null,null,null,null,null,null,null,null,null,null,null,null,null,null,null,null,null,null,null,null,null,null,null,null,{"$f":"Раздел2!D157","v":0}]
[null,"Роуп скиппинг (спортивная скакалка)","150",0,0,0,0,0,0,null,null,null,null,null,null,null,null,null,null,null,null,null,null,null,null,null,null,null,null,null,null,null,null,null,null,null,{"$f":"Раздел2!D158","v":0}]
[null,"Рукопашный бой","151",0,0,0,0,0,0,null,null,null,null,null,null,null,null,null,null,null,null,null,null,null,null,null,null,null,null,null,null,null,null,null,null,null,{"$f":"Раздел2!D159","v":0}]
[null,"Рыболовный спорт","152",0,0,0,0,0,0,null,null,null,null,null,null,null,null,null,null,null,null,null,null,null,null,null,null,null,null,null,null,null,null,null,null,null,{"$f":"Раздел2!D160","v":0}]
[null,"Сават","153",0,0,0,0,0,0,null,null,null,null,null,null,null,null,null,null,null,null,null,null,null,null,null,null,null,null,null,null,null,null,null,null,null,{"$f":"Раздел2!D161","v":0}]
[null,"Самбо","154",0,0,0,0,0,0,null,null,null,null,null,null,null,null,null,null,null,null,null,null,null,null,null,null,null,null,null,null,null,null,null,null,null,{"$f":"Раздел2!D162","v":0}]
[null,"Самолетный спорт","155",0,0,0,0,0,0,null,null,null,null,null,null,null,null,null,null,null,null,null,null,null,null,null,null,null,null,null,null,null,null,null,null,null,{"$f":"Раздел2!D163","v":0}]
[null,"Санный спорт","156",0,0,0,0,0,0,null,null,null,null,null,null,null,null,null,null,null,null,null,null,null,null,null,null,null,null,null,null,null,null,null,null,null,{"$f":"Раздел2!D164","v":0}]
[null,"Северное многоборье","157",0,0,0,0,0,0,null,null,null,null,null,null,null,null,null,null,null,null,null,null,null,null,null,null,null,null,null,null,null,null,null,null,null,{"$f":"Раздел2!D165","v":0}]
[null,"Серфинг","158",0,0,0,0,0,0,null,null,null,null,null,null,null,null,null,null,null,null,null,null,null,null,null,null,null,null,null,null,null,null,null,null,null,{"$f":"Раздел2!D166","v":0}]
[null,"Синхронное плавание","159",0,0,0,0,0,0,null,null,null,null,null,null,null,null,null,null,null,null,null,null,null,null,null,null,null,null,null,null,null,null,null,null,null,{"$f":"Раздел2!D167","v":0}]
[null,"Скалолазание","160",0,0,0,0,0,0,null,null,null,null,null,null,null,null,null,null,null,null,null,null,null,null,null,null,null,null,null,null,null,null,null,null,null,{"$f":"Раздел2!D168","v":0}]
[null,"Сквош","161",0,0,0,0,0,0,null,null,null,null,null,null,null,null,null,null,null,null,null,null,null,null,null,null,null,null,null,null,null,null,null,null,null,{"$f":"Раздел2!D169","v":0}]
[null,"Скейтбординг","162",0,0,0,0,0,0,null,null,null,null,null,null,null,null,null,null,null,null,null,null,null,null,null,null,null,null,null,null,null,null,null,null,null,{"$f":"Раздел2!D170","v":0}]
[null,"Служебно-боевая стрельба ","163",0,0,0,0,0,0,null,null,null,null,null,null,null,null,null,null,null,null,null,null,null,null,null,null,null,null,null,null,null,null,null,null,null,{"$f":"Раздел2!D171","v":0}]
[null,"Служебно-прикладной спорт","164",0,0,0,0,0,0,null,null,null,null,null,null,null,null,null,null,null,null,null,null,null,null,null,null,null,null,null,null,null,null,null,null,null,{"$f":"Раздел2!D172","v":0}]
[null,"Служебно-прикладной спорт ФСО России","165",0,0,0,0,0,0,null,null,null,null,null,null,null,null,null,null,null,null,null,null,null,null,null,null,null,null,null,null,null,null,null,null,null,{"$f":"Раздел2!D173","v":0}]
[null,"Служебно-прикладной спорт ФТС России","166",0,0,0,0,0,0,null,null,null,null,null,null,null,null,null,null,null,null,null,null,null,null,null,null,null,null,null,null,null,null,null,null,null,{"$f":"Раздел2!D174","v":0}]
[null,"Служебное двоеборье","167",0,0,0,0,0,0,null,null,null,null,null,null,null,null,null,null,null,null,null,null,null,null,null,null,null,null,null,null,null,null,null,null,null,{"$f":"Раздел2!D175","v":0}]
[null,"Служебное единоборство","168",0,0,0,0,0,0,null,null,null,null,null,null,null,null,null,null,null,null,null,null,null,null,null,null,null,null,null,null,null,null,null,null,null,{"$f":"Раздел2!D176","v":0}]
[null,"Служебное многоборье","169",0,0,0,0,0,0,null,null,null,null,null,null,null,null,null,null,null,null,null,null,null,null,null,null,null,null,null,null,null,null,null,null,null,{"$f":"Раздел2!D177","v":0}]
[null,"Служебный биатлон","170",0,0,0,0,0,0,null,null,null,null,null,null,null,null,null,null,null,null,null,null,null,null,null,null,null,null,null,null,null,null,null,null,null,{"$f":"Раздел2!D178","v":0}]
[null,"Спасательный спорт","171",0,0,0,0,0,0,null,null,null,null,null,null,null,null,null,null,null,null,null,null,null,null,null,null,null,null,null,null,null,null,null,null,null,{"$f":"Раздел2!D179","v":0}]
[null,"Стрельба из боевого ручного стрелкового оружия","172",0,0,0,0,0,0,null,null,null,null,null,null,null,null,null,null,null,null,null,null,null,null,null,null,null,null,null,null,null,null,null,null,null,{"$f":"Раздел2!D180","v":0}]
[null,"Стрельба из штатного или табельного оружия","173",0,0,0,0,0,0,null,null,null,null,null,null,null,null,null,null,null,null,null,null,null,null,null,null,null,null,null,null,null,null,null,null,null,{"$f":"Раздел2!D181","v":0}]
[null,"Смешанное боевое единоборство (ММА)","174",0,0,0,0,0,0,null,null,null,null,null,null,null,null,null,null,null,null,null,null,null,null,null,null,null,null,null,null,null,null,null,null,null,{"$f":"Раздел2!D182","v":0}]
[null,"Сноуборд","175",0,0,0,0,0,0,null,null,null,null,null,null,null,null,null,null,null,null,null,null,null,null,null,null,null,null,null,null,null,null,null,null,null,{"$f":"Раздел2!D183","v":0}]
[null,"Современное пятиборье","176",0,0,0,0,0,0,null,null,null,null,null,null,null,null,null,null,null,null,null,null,null,null,null,null,null,null,null,null,null,null,null,null,null,{"$f":"Раздел2!D184","v":0}]
[null,"Софтбол","177",0,0,0,0,0,0,null,null,null,null,null,null,null,null,null,null,null,null,null,null,null,null,null,null,null,null,null,null,null,null,null,null,null,{"$f":"Раздел2!D185","v":0}]
[null,"Спорт сверхлегкой авиации","178",0,0,0,0,0,0,null,null,null,null,null,null,null,null,null,null,null,null,null,null,null,null,null,null,null,null,null,null,null,null,null,null,null,{"$f":"Раздел2!D186","v":0}]
[null,"Спортивная акробатика","179",0,0,0,0,0,0,null,null,null,null,null,null,null,null,null,null,null,null,null,null,null,null,null,null,null,null,null,null,null,null,null,null,null,{"$f":"Раздел2!D187","v":0}]
[null,"Спортивная аэробика","180",0,0,0,0,0,0,null,null,null,null,null,null,null,null,null,null,null,null,null,null,null,null,null,null,null,null,null,null,null,null,null,null,null,{"$f":"Раздел2!D188","v":0}]
[null,"Спортивная борьба - всего","181",0,0,0,0,0,0,{"$f":"SUM(J189:J193)","v":0},{"$f":"SUM(K189:K193)","v":0},0,0,0,0,0,0,0,0,0,0,0,0,0,0,0,0,0,0,0,0,0,0,{"$f":"SUM(AH189:AH193)","v":0},null,null,{"$f":"Раздел2!D189","v":1}]
[null,"в том числе:\nВольная борьба","182",0,0,0,0,0,0,null,null,null,null,null,null,null,null,null,null,null,null,null,null,null,null,null,null,null,null,null,null,null,null,null,null,null,{"$f":"Раздел2!D190","v":0}]
[null,"Греко-римская борьба","183",0,0,0,0,0,0,null,null,null,null,null,null,null,null,null,null,null,null,null,null,null,null,null,null,null,null,null,null,null,null,null,null,null,{"$f":"Раздел2!D191","v":1}]
[null,"Грэпплинг","184",0,0,0,0,0,0,null,null,null,null,null,null,null,null,null,null,null,null,null,null,null,null,null,null,null,null,null,null,null,null,null,null,null,{"$f":"Раздел2!D192","v":0}]
[null,"Грэпплинг-ги","185",0,0,0,0,0,0,null,null,null,null,null,null,null,null,null,null,null,null,null,null,null,null,null,null,null,null,null,null,null,null,null,null,null,{"$f":"Раздел2!D193","v":0}]
[null,"Панкратион","186",0,0,0,0,0,0,null,null,null,null,null,null,null,null,null,null,null,null,null,null,null,null,null,null,null,null,null,null,null,null,null,null,null,{"$f":"Раздел2!D194","v":0}]
[null,"Спортивная гимнастика","187",0,0,0,0,0,0,null,null,null,null,null,null,null,null,null,null,null,null,null,null,null,null,null,null,null,null,null,null,null,null,null,null,null,{"$f":"Раздел2!D195","v":0}]
[null,"Спортивная йога","188",0,0,0,0,0,0,null,null,null,null,null,null,null,null,null,null,null,null,null,null,null,null,null,null,null,null,null,null,null,null,null,null,null,{"$f":"Раздел2!D196","v":0}]
[null,"Спортивно-прикладное собаководство","189",0,0,0,0,0,0,null,null,null,null,null,null,null,null,null,null,null,null,null,null,null,null,null,null,null,null,null,null,null,null,null,null,null,{"$f":"Раздел2!D197","v":0}]
[null,"Спортивное метание ножа","190",0,0,0,0,0,0,null,null,null,null,null,null,null,null,null,null,null,null,null,null,null,null,null,null,null,null,null,null,null,null,null,null,null,{"$f":"Раздел2!D198","v":0}]
[null,"Спортивное ориентирование","191",0,0,0,0,0,0,null,null,null,null,null,null,null,null,null,null,null,null,null,null,null,null,null,null,null,null,null,null,null,null,null,null,null,{"$f":"Раздел2!D199","v":0}]
[null,"Спортивный бридж","192",0,0,0,0,0,0,null,null,null,null,null,null,null,null,null,null,null,null,null,null,null,null,null,null,null,null,null,null,null,null,null,null,null,{"$f":"Раздел2!D200","v":0}]
[null,"Спортивный туризм","193",0,0,0,0,0,0,null,null,null,null,null,null,null,null,null,null,null,null,null,null,null,null,null,null,null,null,null,null,null,null,null,null,null,{"$f":"Раздел2!D201","v":0}]
[null,"Стендовая стрельба - всего","194",{"$f":"SUM(E201:G201)","v":0},{"$f":"SUM(J201,O201,T201,Y201,AD201,)","v":0},{"$f":"SUM(K201,P201,U201,Z201,AE201)","v":0},{"$f":"SUM(L201,Q201,V201,AA201,AF201)","v":0},{"$f":"SUM(M201,R201,W201,AB201,AG201)","v":0},{"$f":"SUM(N201,S201,X201,AC201,AH201)","v":0},{"$f":"SUM(J202:J205)","v":0},{"$f":"SUM(K202:K205)","v":0},0,0,0,0,0,0,0,0,0,0,0,0,0,0,0,0,0,0,0,0,0,0,0,null,null,{"$f":"Раздел2!D202","v":0}]
[null,"в том числе:\nТрап","195",0,0,0,0,0,0,null,null,null,null,null,null,null,null,null,null,null,null,null,null,null,null,null,null,null,null,null,null,null,null,null,null,null,{"$f":"Раздел2!D203","v":0}]
[null,"Скит","196",0,0,0,0,0,0,null,null,null,null,null,null,null,null,null,null,null,null,null,null,null,null,null,null,null,null,null,null,null,null,null,null,null,{"$f":"Раздел2!D204","v":0}]
[null,"Дубль-трап","197",0,0,0,0,0,0,null,null,null,null,null,null,null,null,null,null,null,null,null,null,null,null,null,null,null,null,null,null,null,null,null,null,null,{"$f":"Раздел2!D205","v":0}]
[null,"Спортинг","198",0,0,0,0,0,0,null,null,null,null,null,null,null,null,null,null,null,null,null,null,null,null,null,null,null,null,null,null,null,null,null,null,null,{"$f":"Раздел2!D206","v":0}]
[null,"Страйкбол","199",0,0,0,0,0,0,null,null,null,null,null,null,null,null,null,null,null,null,null,null,null,null,null,null,null,null,null,null,null,null,null,null,null,{"$f":"Раздел2!D207","v":0}]
[null,"Стрельба из арбалета","200",0,0,0,0,0,0,null,null,null,null,null,null,null,null,null,null,null,null,null,null,null,null,null,null,null,null,null,null,null,null,null,null,null,{"$f":"Раздел2!D208","v":0}]
[null,"Стрельба из лука - всего","201",0,0,0,0,0,0,{"$f":"SUM(J209:J211)","v":0},{"$f":"SUM(K209:K211)","v":0},0,0,0,0,0,0,0,0,0,0,0,0,0,0,0,0,0,0,0,0,0,0,0,null,null,{"$f":"Раздел2!D209","v":0}]
[null,"в том числе:\nКлассический лук","202",0,0,0,0,0,0,null,null,null,null,null,null,null,null,null,null,null,null,null,null,null,null,null,null,null,null,null,null,null,null,null,null,null,{"$f":"Раздел2!D210","v":0}]
[null,"   Блочный лук","203",0,0,0,0,0,0,null,null,null,null,null,null,null,null,null,null,null,null,null,null,null,null,null,null,null,null,null,null,null,null,null,null,null,{"$f":"Раздел2!D211","v":0}]
[null,"   Ачери ","204",0,0,0,0,0,0,null,null,null,null,null,null,null,null,null,null,null,null,null,null,null,null,null,null,null,null,null,null,null,null,null,null,null,{"$f":"Раздел2!D212","v":0}]
[null,"Судомодельный спорт","205",0,0,0,0,0,0,null,null,null,null,null,null,null,null,null,null,null,null,null,null,null,null,null,null,null,null,null,null,null,null,null,null,null,{"$f":"Раздел2!D213","v":0}]
[null,"Сумо","206",0,0,0,0,0,0,null,null,null,null,null,null,null,null,null,null,null,null,null,null,null,null,null,null,null,null,null,null,null,null,null,null,null,{"$f":"Раздел2!D214","v":0}]
[null,"Таврели","207",0,0,0,0,0,0,null,null,null,null,null,null,null,null,null,null,null,null,null,null,null,null,null,null,null,null,null,null,null,null,null,null,null,{"$f":"Раздел2!D215","v":0}]
[null,"Тайский бокс","208",0,0,0,0,0,0,null,null,null,null,null,null,null,null,null,null,null,null,null,null,null,null,null,null,null,null,null,null,null,null,null,null,null,{"$f":"Раздел2!D216","v":0}]
[null,"Танцевальный спорт","209",0,0,0,0,0,0,null,null,null,null,null,null,null,null,null,null,null,null,null,null,null,null,null,null,null,null,null,null,null,null,null,null,null,{"$f":"Раздел2!D217","v":0}]
[null,"Теннис","210",0,0,0,0,0,0,null,null,null,null,null,null,null,null,null,null,null,null,null,null,null,null,null,null,null,null,null,null,null,null,null,null,null,{"$f":"Раздел2!D218","v":0}]
[null,"Триатлон","211",0,0,0,0,0,0,null,null,null,null,null,null,null,null,null,null,null,null,null,null,null,null,null,null,null,null,null,null,null,null,null,null,null,{"$f":"Раздел2!D219","v":0}]
[null,"Тхэквондо (ВТФ)","212",0,0,0,0,0,0,null,null,null,null,null,null,null,null,null,null,null,null,null,null,null,null,null,null,null,null,null,null,null,null,null,null,null,{"$f":"Раздел2!D220","v":0}]
[null,"Тхэквондо ГТФ","213",0,0,0,0,0,0,null,null,null,null,null,null,null,null,null,null,null,null,null,null,null,null,null,null,null,null,null,null,null,null,null,null,null,{"$f":"Раздел2!D221","v":0}]
[null,"Тхэквондо ИТФ","214",0,0,0,0,0,0,null,null,null,null,null,null,null,null,null,null,null,null,null,null,null,null,null,null,null,null,null,null,null,null,null,null,null,{"$f":"Раздел2!D222","v":0}]
[null,"Тхэквондо МФТ","215",0,0,0,0,0,0,null,null,null,null,null,null,null,null,null,null,null,null,null,null,null,null,null,null,null,null,null,null,null,null,null,null,null,{"$f":"Раздел2!D223","v":0}]
[null,"Тяжелая атлетика","216",0,0,0,0,0,0,null,null,null,null,null,null,null,null,null,null,null,null,null,null,null,null,null,null,null,null,null,null,null,null,null,null,null,{"$f":"Раздел2!D224","v":0}]
[null,"Универсальный бой","217",0,0,0,0,0,0,null,null,null,null,null,null,null,null,null,null,null,null,null,null,null,null,null,null,null,null,null,null,null,null,null,null,null,{"$f":"Раздел2!D225","v":0}]
[null,"Ушу","218",0,0,0,0,0,0,null,null,null,null,null,null,null,null,null,null,null,null,null,null,null,null,null,null,null,null,null,null,null,null,null,null,null,{"$f":"Раздел2!D226","v":0}]
[null,"Фехтование - всего","219",0,0,0,0,0,0,{"$f":"SUM(J227:J230)","v":0},{"$f":"SUM(K227:K230)","v":0},0,0,{"$f":"SUM(N227:N230)","v":0},0,0,0,0,0,0,0,0,0,0,0,0,0,0,0,0,0,0,0,0,null,null,{"$f":"Раздел2!D227","v":0}]
[null,"в том числе:\nРапира","220",0,0,0,0,0,0,null,null,null,null,null,null,null,null,null,null,null,null,null,null,null,null,null,null,null,null,null,null,null,null,null,null,null,{"$f":"Раздел2!D228","v":0}]
[null,"Сабля","221",0,0,0,0,0,0,null,null,null,null,null,null,null,null,null,null,null,null,null,null,null,null,null,null,null,null,null,null,null,null,null,null,null,{"$f":"Раздел2!D229","v":0}]
[null,"Шпага","222",0,0,0,0,0,0,null,null,null,null,null,null,null,null,null,null,null,null,null,null,null,null,null,null,null,null,null,null,null,null,null,null,null,{"$f":"Раздел2!D230","v":0}]
[null,"Арт-фехтование","223",0,0,0,0,0,0,null,null,null,null,null,null,null,null,null,null,null,null,null,null,null,null,null,null,null,null,null,null,null,null,null,null,null,{"$f":"Раздел2!D231","v":0}]
[null,"Фигурное катание на коньках","224",0,0,0,0,0,0,null,null,null,null,null,null,null,null,null,null,null,null,null,null,null,null,null,null,null,null,null,null,null,null,null,null,null,{"$f":"Раздел2!D232","v":0}]
[null,"Фитнес-аэробика","225",0,0,0,0,0,0,null,null,null,null,null,null,null,null,null,null,null,null,null,null,null,null,null,null,null,null,null,null,null,null,null,null,null,{"$f":"Раздел2!D233","v":0}]
[null,"Флаинг диск","226",0,0,0,0,0,0,null,null,null,null,null,null,null,null,null,null,null,null,null,null,null,null,null,null,null,null,null,null,null,null,null,null,null,{"$f":"Раздел2!D234","v":0}]
[null,"Флорбол","227",0,0,0,0,0,0,null,null,null,null,null,null,null,null,null,null,null,null,null,null,null,null,null,null,null,null,null,null,null,null,null,null,null,{"$f":"Раздел2!D235","v":0}]
[null,"Фристайл - всего","228",0,0,0,0,0,0,{"$f":"SUM(J236:J241)","v":0},{"$f":"SUM(K236:K241)","v":0},0,0,0,0,0,0,0,0,0,0,0,0,0,0,0,0,0,0,0,0,0,0,0,null,null,{"$f":"Раздел2!D236","v":0}]
[null,"в том числе:\nАкробатика","229",0,0,0,0,0,0,null,null,null,null,null,null,null,null,null,null,null,null,null,null,null,null,null,null,null,null,null,null,null,null,null,null,null,{"$f":"Раздел2!D237","v":0}]
[null,"Биг-эйр","230",0,0,0,0,0,0,null,null,null,null,null,null,null,null,null,null,null,null,null,null,null,null,null,null,null,null,null,null,null,null,null,null,null,{"$f":"Раздел2!D238","v":0}]
[null,"Могул","231",0,0,0,0,0,0,null,null,null,null,null,null,null,null,null,null,null,null,null,null,null,null,null,null,null,null,null,null,null,null,null,null,null,{"$f":"Раздел2!D239","v":0}]
[null,"Ски-кросс","232",0,0,0,0,0,0,null,null,null,null,null,null,null,null,null,null,null,null,null,null,null,null,null,null,null,null,null,null,null,null,null,null,null,{"$f":"Раздел2!D240","v":0}]
[null,"Хаф-пайп","233",0,0,0,0,0,0,null,null,null,null,null,null,null,null,null,null,null,null,null,null,null,null,null,null,null,null,null,null,null,null,null,null,null,{"$f":"Раздел2!D241","v":0}]
[null,"Слоуп-стайл","234",0,0,0,0,0,0,null,null,null,null,null,null,null,null,null,null,null,null,null,null,null,null,null,null,null,null,null,null,null,null,null,null,null,{"$f":"Раздел2!D242","v":0}]
[null,"Функциональное многоборье","235",0,0,0,0,0,0,null,null,null,null,null,null,null,null,null,null,null,null,null,null,null,null,null,null,null,null,null,null,null,null,null,null,null,{"$f":"Раздел2!D243","v":0}]
[null,"Футбол - всего","236",0,0,0,0,0,0,{"$f":"SUM(J244:J249)","v":0},{"$f":"SUM(K244:K249)","v":0},0,0,0,0,0,0,0,0,0,0,0,0,0,0,0,0,0,0,0,0,0,0,0,null,null,{"$f":"Раздел2!D244","v":1}]
[null,"в том числе:\nФутбол (муж.)","237",0,0,0,0,0,0,null,null,null,null,null,null,null,null,null,null,null,null,null,null,null,null,null,null,null,null,null,null,null,null,null,null,null,{"$f":"Раздел2!D245","v":1}]
[null,"Футбол (жен.)","238",0,0,0,0,0,0,null,null,null,null,null,null,null,null,null,null,null,null,null,null,null,null,null,null,null,null,null,null,null,null,null,null,null,{"$f":"Раздел2!D246","v":0}]
[null,"Мини-футбол (футзал)","239",0,0,0,0,0,0,null,null,null,null,null,null,null,null,null,null,null,null,null,null,null,null,null,null,null,null,null,null,null,null,null,null,null,{"$f":"Раздел2!D247","v":0}]
[null,"Пляжный футбол","240",0,0,0,0,0,0,null,null,null,null,null,null,null,null,null,null,null,null,null,null,null,null,null,null,null,null,null,null,null,null,null,null,null,{"$f":"Раздел2!D248","v":0}]
[null,"Футбол 6х6, 7х7, 8х8","241",0,0,0,0,0,0,null,null,null,null,null,null,null,null,null,null,null,null,null,null,null,null,null,null,null,null,null,null,null,null,null,null,null,{"$f":"Раздел2!D249","v":0}]
[null,"Интерактивный футбол","242",0,0,0,0,0,0,null,null,null,null,null,null,null,null,null,null,null,null,null,null,null,null,null,null,null,null,null,null,null,null,null,null,null,{"$f":"Раздел2!D250","v":0}]
[null,"Футгольф","243",0,0,0,0,0,0,null,null,null,null,null,null,null,null,null,null,null,null,null,null,null,null,null,null,null,null,null,null,null,null,null,null,null,{"$f":"Раздел2!D251","v":0}]
[null,"Хапкидо","244",0,0,0,0,0,0,null,null,null,null,null,null,null,null,null,null,null,null,null,null,null,null,null,null,null,null,null,null,null,null,null,null,null,{"$f":"Раздел2!D252","v":0}]
[null,"Хапсагай","245",0,0,0,0,0,0,null,null,null,null,null,null,null,null,null,null,null,null,null,null,null,null,null,null,null,null,null,null,null,null,null,null,null,{"$f":"Раздел2!D253","v":0}]
[null,"Хоккей - всего","246",0,0,0,0,0,0,{"$f":"SUM(J254:J255)","v":0},{"$f":"SUM(K254:K255)","v":0},0,0,0,0,0,0,0,0,0,0,0,0,0,0,0,0,0,0,0,0,0,0,0,null,null,{"$f":"Раздел2!D254","v":0}]
[null,"в том числе:\nХоккей (муж.)","247",0,0,0,0,0,0,null,null,null,null,null,null,null,null,null,null,null,null,null,null,null,null,null,null,null,null,null,null,null,null,null,null,null,{"$f":"Раздел2!D255","v":0}]
[null,"Хоккей (жен.)","248",0,0,0,0,0,0,null,null,null,null,null,null,null,null,null,null,null,null,null,null,null,null,null,null,null,null,null,null,null,null,null,null,null,{"$f":"Раздел2!D256","v":0}]
[null,"Хоккей на траве - всего","249",0,0,{"$f":"SUM(K256,P256,U256,Z256,AE256)","v":0},0,0,0,{"$f":"SUM(J257:J259)","v":0},{"$f":"SUM(K257:K259)","v":0},0,0,0,0,0,0,0,0,0,0,0,0,0,0,0,0,0,0,0,0,0,0,0,null,null,{"$f":"Раздел2!D257","v":0}]
[null,"в том числе:\nХоккей на траве (муж.)","250",0,0,0,0,0,0,null,null,null,null,null,null,null,null,null,null,null,null,null,null,null,null,null,null,null,null,null,null,null,null,null,null,null,{"$f":"Раздел2!D258","v":0}]
[null,"Хоккей на траве (жен.)","251",0,0,0,0,0,0,null,null,null,null,null,null,null,null,null,null,null,null,null,null,null,null,null,null,null,null,null,null,null,null,null,null,null,{"$f":"Раздел2!D259","v":0}]
[null,"Индорхоккей","252",0,0,0,0,0,0,null,null,null,null,null,null,null,null,null,null,null,null,null,null,null,null,null,null,null,null,null,null,null,null,null,null,null,{"$f":"Раздел2!D260","v":0}]
[null,"Хоккей с мячом","253",0,0,0,0,0,0,null,null,null,null,null,null,null,null,null,null,null,null,null,null,null,null,null,null,null,null,null,null,null,null,null,null,null,{"$f":"Раздел2!D261","v":0}]
[null,"Художественная гимнастика","254",0,0,0,0,0,0,null,null,null,null,null,null,null,null,null,null,null,null,null,null,null,null,null,null,null,null,null,null,null,null,null,null,null,{"$f":"Раздел2!D262","v":1}]
[null,"Хуреш","255",0,0,0,0,0,0,null,null,null,null,null,null,null,null,null,null,null,null,null,null,null,null,null,null,null,null,null,null,null,null,null,null,null,{"$f":"Раздел2!D263","v":0}]
[null,"Чир спорт","256",0,0,0,0,0,0,null,null,null,null,null,null,null,null,null,null,null,null,null,null,null,null,null,null,null,null,null,null,null,null,null,null,null,{"$f":"Раздел2!D264","v":0}]
[null,"Шахматы","257",0,0,0,0,0,0,null,null,null,null,null,null,null,null,null,null,null,null,null,null,null,null,null,null,null,null,null,null,null,null,null,null,null,{"$f":"Раздел2!D265","v":0}]
[null,"Шашки","258",{"$f":"SUM(E265:G265)","v":0},{"$f":"SUM(J265,O265,T265,Y265,AD265,)","v":0},{"$f":"SUM(K265,P265,U265,Z265,AE265)","v":0},{"$f":"SUM(L265,Q265,V265,AA265,AF265)","v":0},{"$f":"SUM(M265,R265,W265,AB265,AG265)","v":0},{"$f":"SUM(N265,S265,X265,AC265,AH265)","v":0},null,null,null,null,null,null,null,null,null,null,null,null,null,null,null,null,null,null,null,null,null,null,null,null,null,null,null,{"$f":"Раздел2!D266","v":0}]
[null,"Шодсанлат","259",0,0,0,0,0,0,null,null,null,null,null,null,null,null,null,null,null,null,null,null,null,null,null,null,null,null,null,null,null,null,null,null,null,{"$f":"Раздел2!D267","v":0}]
[null,"Эстетическая гимнастика","260",0,0,0,0,0,0,null,null,null,null,null,null,null,null,null,null,null,null,null,null,null,null,null,null,null,null,null,null,null,null,null,null,null,{"$f":"Раздел2!D268","v":0}]
[null,"Якутские национальные прыжки","261",0,0,0,0,0,0,null,null,null,null,null,null,null,null,null,null,null,null,null,null,null,null,null,null,null,null,null,null,null,null,null,null,null,{"$f":"Раздел2!D269","v":0}]
[null,"ИТОГО","262",0,0,0,0,1,0,{"$f":"SUM(J8:J19,J22:J25,J28:J33,J44:J49,J54:J56,J38:J41,J60:J70,J75:J84,J88:J94,J97:J102,J110:J115,J116:J124,J127:J132,J135,J140:J141,J147:J150,J155:J160,J161:J175,J176:J188,J194:J201,J206:J208,J212:J216,J217:J226,J231:J235,J242:J243,J250:J253,J256,J260:J268)","v":0},{"$f":"SUM(K8:K19,K22:K25,K28:K33,K44:K49,K54:K56,K38:K41,K60:K70,K75:K84,K88:K94,K97:K102,K110:K115,K116:K124,K127:K132,K135,K140:K141,K147:K150,K155:K160,K161:K175,K176:K188,K194:K201,K206:K208,K212:K216,K217:K226,K231:K235,K242:K243,K250:K253,K256,K260:K268)","v":0},0,0,0,{"$f":"SUM(O8:O19,O22:O25,O28:O33,O44:O49,O54:O56,O38:O41,O60:O70,O75:O84,O88:O94,O97:O102,O110:O115,O116:O124,O127:O132,O135,O140:O141,O147:O150,O155:O160,O161:O175,O176:O188,O194:O201,O206:O208,O212:O216,O217:O226,O231:O235,O242:O243,O250:O253,O256,O260:O268)","v":0},0,0,0,0,0,0,0,{"$f":"SUM(W8:W19,W22:W25,W28:W33,W44:W49,W54:W56,W38:W41,W60:W70,W75:W84,W88:W94,W97:W102,W110:W115,W116:W124,W127:W132,W135,W140:W141,W147:W150,W155:W160,W161:W175,W176:W188,W194:W201,W206:W208,W212:W216,W217:W226,W231:W235,W242:W243,W250:W253,W256,W260:W268)","v":0},0,0,0,0,0,0,0,0,0,1,0]

{"sheet":"Раздел8","index":8,"n_rows":269,"n_cols":62,"rows_kept":269,"cut":false,"hidden":false,"merged":[[2,61,5,61],[3,3,4,8],[3,9,4,13],[3,14,4,18],[3,19,4,23],[3,24,4,28],[3,29,4,33],[3,34,4,38],[3,39,4,43],[3,44,4,48],[3,49,4,53],[3,54,4,58],[0,0,124,0],[0,1,0,33],[0,59,124,59],[1,24,1,33],[1,51,1,58],[2,1,5,1],[2,2,5,2],[2,3,2,33],[2,34,2,58]]}
[null,"Раздел VIII. Международные спортивные соревнования"]
[null,null,null,null,null,null,null,null,null,null,null,null,null,null,null,null,null,null,null,null,null,null,null,null,"Коды по ОКЕИ: единица - 642"]
[null,"Виды спорта","№ строки","Результаты выступлений на соревнованиях",null,null,null,null,null,null,null,null,null,null,null,null,null,null,null,null,null,null,null,null,null,null,null,null,null,null,null,null,null,null,"Результаты выступлений на соревнованиях",null,null,null,null,null,null,null,null,null,null,null,null,null,null,null,null,null,null,null,null,null,null,null,null,null,null,"Раздел2 графа3\nЧисло отделений"]
[null,null,null,"Всего",null,null,null,null,null,"Олимпийские игры",null,null,null,null,"Чемпионат мира",null,null,null,null,"Юношеские Олимпийские игры",null,null,null,null,"Первенство мира",null,null,null,null,"Кубок мира",null,null,null,null,"Этапы Кубка мира",null,null,null,null,"Чемпионат Европы",null,null,null,null,"Первенство Европы",null,null,null,null,"Кубок Европы",null,null,null,null,"Прочие официальные между-народные соревнования"]
[]
[null,null,null,"медали \n(1-3 место)",1,2,3,"4-6","учас-тие",1,2,3,"4-6","учас-тие",1,2,3,"4-6","учас-тие",1,2,3,"4-6","учас-тие",1,2,3,"4-6","учас-тие",1,2,3,"4-6","учас-тие",1,2,3,"4-6","учас-тие",1,2,3,"4-6","учас-тие",1,2,3,"4-6","учас-тие",1,2,3,"4-6","учас-тие",1,2,3,"4-6","учас-тие"]
[null,1,2,3,4,5,6,7,8,9,10,11,12,13,14,15,16,17,18,19,20,21,22,23,24,25,26,27,28,29,30,31,32,33,34,35,36,37,38,39,40,41,42,43,44,45,46,47,48,49,50,51,52,53,54,55,56,57,58]
[null,"Авиамодельный спорт","01",{"$f":"SUM(E8:G8)","v":0},{"$f":"SUM(J8,O8,T8,Y8,AD8,AI8,AN8,AS8,AX8,BC8,)","v":0},{"$f":"SUM(K8,P8,U8,Z8,AE8,AJ8,AO8,AT8,AY8,BD8,)","v":0},0,0,{"$f":"SUM(N8,S8,X8,AC8,AH8,AM8,AR8,AW8,BB8,BG8,)","v":0},null,null,null,null,null,null,null,null,null,null,null,null,null,null,null,null,null,null,null,null,null,null,null,null,null,null,null,null,null,null,null,null,null,null,null,null,null,null,null,null,null,null,null,null,null,null,null,null,null,null,null,null,{"$f":"Раздел2!D9","v":0}]
[null,"Автомобильный спорт","02",{"$f":"SUM(E9:G9)","v":0},{"$f":"SUM(J9,O9,T9,Y9,AD9,AI9,AN9,AS9,AX9,BC9,)","v":0},{"$f":"SUM(K9,P9,U9,Z9,AE9,AJ9,AO9,AT9,AY9,BD9,)","v":0},{"$f":"SUM(L9,Q9,V9,AA9,AF9,AK9,AP9,AU9,AZ9,BE9,)","v":0},{"$f":"SUM(M9,R9,W9,AB9,AG9,AL9,AQ9,AV9,BA9,BF9,)","v":0},{"$f":"SUM(N9,S9,X9,AC9,AH9,AM9,AR9,AW9,BB9,BG9,)","v":0},null,null,null,null,null,null,null,null,null,null,null,null,null,null,null,null,null,null,null,null,null,null,null,null,null,null,null,null,null,null,null,null,null,null,null,null,null,null,null,null,null,null,null,null,null,null,null,null,null,null,null,null,{"$f":"Раздел2!D10","v":0}]
[null,"Автомодельный спорт","03",0,0,0,0,0,0,null,null,null,null,null,null,null,null,null,null,null,null,null,null,null,null,null,null,null,null,null,null,null,null,null,null,null,null,null,null,null,null,null,null,null,null,null,null,null,null,null,null,null,null,null,null,null,null,null,null,null,null,{"$f":"Раздел2!D11","v":0}]
[null,"Айкидо","04",0,0,0,0,0,0,null,null,null,null,null,null,null,null,null,null,null,null,null,null,null,null,null,null,null,null,null,null,null,null,null,null,null,null,null,null,null,null,null,null,null,null,null,null,null,null,null,null,null,null,null,null,null,null,null,null,null,null,{"$f":"Раздел2!D12","v":0}]
[null,"Айсшток","05",0,0,0,0,0,0,null,null,null,null,null,null,null,null,null,null,null,null,null,null,null,null,null,null,null,null,null,null,null,null,null,null,null,null,null,null,null,null,null,null,null,null,null,null,null,null,null,null,null,null,null,null,null,null,null,null,null,null,{"$f":"Раздел2!D13","v":0}]
[null,"Акробатический рок-н-ролл","06",0,0,0,0,0,0,null,null,null,null,null,null,null,null,null,null,null,null,null,null,null,null,null,null,null,null,null,null,null,null,null,null,null,null,null,null,null,null,null,null,null,null,null,null,null,null,null,null,null,null,null,null,null,null,null,null,null,null,{"$f":"Раздел2!D14","v":0}]
[null,"Альпинизм","07",0,0,0,0,0,0,null,null,null,null,null,null,null,null,null,null,null,null,null,null,null,null,null,null,null,null,null,null,null,null,null,null,null,null,null,null,null,null,null,null,null,null,null,null,null,null,null,null,null,null,null,null,null,null,null,null,null,null,{"$f":"Раздел2!D15","v":0}]
[null,"Американский футбол","08",0,0,0,0,0,0,null,null,null,null,null,null,null,null,null,null,null,null,null,null,null,null,null,null,null,null,null,null,null,null,null,null,null,null,null,null,null,null,null,null,null,null,null,null,null,null,null,null,null,null,null,null,null,null,null,null,null,null,{"$f":"Раздел2!D16","v":0}]
[null,"Армейский рукопашный бой","09",0,0,0,0,0,0,null,null,null,null,null,null,null,null,null,null,null,null,null,null,null,null,null,null,null,null,null,null,null,null,null,null,null,null,null,null,null,null,null,null,null,null,null,null,null,null,null,null,null,null,null,null,null,null,null,null,null,null,{"$f":"Раздел2!D17","v":0}]
[null,"Армрестлинг","10",0,0,0,0,0,0,null,null,null,null,null,null,null,null,null,null,null,null,null,null,null,null,null,null,null,null,null,null,null,null,null,null,null,null,null,null,null,null,null,null,null,null,null,null,null,null,null,null,null,null,null,null,null,null,null,null,null,null,{"$f":"Раздел2!D18","v":0}]
[null,"Бадминтон","11",0,0,0,0,0,0,null,null,null,null,null,null,null,null,null,null,null,null,null,null,null,null,null,null,null,null,null,null,null,null,null,null,null,null,null,null,null,null,null,null,null,null,null,null,null,null,null,null,null,null,null,null,null,null,null,null,null,null,{"$f":"Раздел2!D19","v":0}]
[null,"Баскетбол - всего","12",0,0,0,0,0,0,{"$f":"SUM(J20:J21)","v":0},{"$f":"SUM(K20:K21)","v":0},0,0,0,0,0,0,0,0,0,0,0,0,0,0,0,0,0,0,0,0,0,0,0,0,0,0,0,0,0,0,0,0,0,0,0,0,0,0,0,0,0,0,0,0,0,0,0,0,null,null,{"$f":"Раздел2!D20","v":1}]
[null,"в том числе:\nБаскетбол (муж.)","13",0,0,0,0,0,0,null,null,null,null,null,null,null,null,null,null,null,null,null,null,null,null,null,null,null,null,null,null,null,null,null,null,null,null,null,null,null,null,null,null,null,null,null,null,null,null,null,null,null,null,null,null,null,null,null,null,null,null,{"$f":"Раздел2!D21","v":1}]
[null,"Баскетбол (жен.)","14",0,0,0,0,0,0,null,null,null,null,null,null,null,null,null,null,null,null,null,null,null,null,null,null,null,null,null,null,null,null,null,null,null,null,null,null,null,null,null,null,null,null,null,null,null,null,null,null,null,null,null,null,null,null,null,null,null,null,{"$f":"Раздел2!D22","v":0}]
[null,"Бейсбол","15",0,0,0,0,0,0,null,null,null,null,null,null,null,null,null,null,null,null,null,null,null,null,null,null,null,null,null,null,null,null,null,null,null,null,null,null,null,null,null,null,null,null,null,null,null,null,null,null,null,null,null,null,null,null,null,null,null,null,{"$f":"Раздел2!D23","v":0}]
[null,"Биатлон","16",0,0,0,0,0,0,null,null,null,null,null,null,null,null,null,null,null,null,null,null,null,null,null,null,null,null,null,null,null,null,null,null,null,null,null,null,null,null,null,null,null,null,null,null,null,null,null,null,null,null,null,null,null,null,null,null,null,null,{"$f":"Раздел2!D24","v":0}]
[null,"Бильярдный спорт","17",0,0,0,0,0,0,null,null,null,null,null,null,null,null,null,null,null,null,null,null,null,null,null,null,null,null,null,null,null,null,null,null,null,null,null,null,null,null,null,null,null,null,null,null,null,null,null,null,null,null,null,null,null,null,null,null,null,null,{"$f":"Раздел2!D25","v":0}]
[null,"Бобслей - всего","18",0,0,0,0,0,0,{"$f":"SUM(J26:J27)","v":0},{"$f":"SUM(K26:K27)","v":0},0,0,0,0,0,0,0,0,0,0,0,0,0,0,0,0,0,0,0,0,0,0,0,0,0,0,0,0,0,0,0,0,0,0,0,0,0,0,0,0,0,0,0,0,0,0,0,0,null,null,{"$f":"Раздел2!D26","v":0}]
[null,"в том числе:\nБобслей","19",0,0,0,0,0,0,null,null,null,null,null,null,null,null,null,null,null,null,null,null,null,null,null,null,null,null,null,null,null,null,null,null,null,null,null,null,null,null,null,null,null,null,null,null,null,null,null,null,null,null,null,null,null,null,null,null,null,null,{"$f":"Раздел2!D27","v":0}]
[null,"Скелетон","20",0,0,0,0,0,0,null,null,null,null,null,null,null,null,null,null,null,null,null,null,null,null,null,null,null,null,null,null,null,null,null,null,null,null,null,null,null,null,null,null,null,null,null,null,null,null,null,null,null,null,null,null,null,null,null,null,null,null,{"$f":"Раздел2!D28","v":0}]
[null,"Бодибилдинг","21",0,0,0,0,0,0,null,null,null,null,null,null,null,null,null,null,null,null,null,null,null,null,null,null,null,null,null,null,null,null,null,null,null,null,null,null,null,null,null,null,null,null,null,null,null,null,null,null,null,null,null,null,null,null,null,null,null,null,{"$f":"Раздел2!D29","v":0}]
[null,"Бокс","22",0,0,0,0,0,0,null,null,null,null,null,null,null,null,null,null,null,null,null,null,null,null,null,null,null,null,null,null,null,null,null,null,null,null,null,null,null,null,null,null,null,null,null,null,null,null,null,null,null,null,null,null,null,null,null,null,null,null,{"$f":"Раздел2!D30","v":1}]
[null,"Борьба на поясах","23",0,0,0,0,0,0,null,null,null,null,null,null,null,null,null,null,null,null,null,null,null,null,null,null,null,null,null,null,null,null,null,null,null,null,null,null,null,null,null,null,null,null,null,null,null,null,null,null,null,null,null,null,null,null,null,null,null,null,{"$f":"Раздел2!D31","v":0}]
[null,"Боулинг","24",0,0,0,0,0,0,null,null,null,null,null,null,null,null,null,null,null,null,null,null,null,null,null,null,null,null,null,null,null,null,null,null,null,null,null,null,null,null,null,null,null,null,null,null,null,null,null,null,null,null,null,null,null,null,null,null,null,null,{"$f":"Раздел2!D32","v":0}]
[null,"Боулспорт","25",0,0,0,0,0,0,null,null,null,null,null,null,null,null,null,null,null,null,null,null,null,null,null,null,null,null,null,null,null,null,null,null,null,null,null,null,null,null,null,null,null,null,null,null,null,null,null,null,null,null,null,null,null,null,null,null,null,null,{"$f":"Раздел2!D33","v":0}]
[null,"Велосипедный спорт - всего","26",0,0,0,0,0,0,{"$f":"SUM(J34:J37)","v":0},{"$f":"SUM(K34:K37)","v":0},0,0,0,0,0,0,0,0,0,0,0,0,0,0,0,0,0,0,0,0,0,0,0,0,0,0,0,0,0,0,0,0,0,0,0,0,0,0,0,0,0,0,0,0,0,0,0,0,null,null,{"$f":"Раздел2!D34","v":0}]
[null,"в том числе:\nBMX","27",0,0,0,0,0,0,null,null,null,null,null,null,null,null,null,null,null,null,null,null,null,null,null,null,null,null,null,null,null,null,null,null,null,null,null,null,null,null,null,null,null,null,null,null,null,null,null,null,null,null,null,null,null,null,null,null,null,null,{"$f":"Раздел2!D35","v":0}]
[null,"Маунтинбайк","28",0,0,0,0,0,0,null,null,null,null,null,null,null,null,null,null,null,null,null,null,null,null,null,null,null,null,null,null,null,null,null,null,null,null,null,null,null,null,null,null,null,null,null,null,null,null,null,null,null,null,null,null,null,null,null,null,null,null,{"$f":"Раздел2!D36","v":0}]
[null,"Трек","29",0,0,0,0,0,0,null,null,null,null,null,null,null,null,null,null,null,null,null,null,null,null,null,null,null,null,null,null,null,null,null,null,null,null,null,null,null,null,null,null,null,null,null,null,null,null,null,null,null,null,null,null,null,null,null,null,null,null,{"$f":"Раздел2!D37","v":0}]
[null,"Шоссе","30",0,0,0,0,0,0,null,null,null,null,null,null,null,null,null,null,null,null,null,null,null,null,null,null,null,null,null,null,null,null,null,null,null,null,null,null,null,null,null,null,null,null,null,null,null,null,null,null,null,null,null,null,null,null,null,null,null,null,{"$f":"Раздел2!D38","v":0}]
[null,"Вертолетный спорт","31",0,0,0,0,0,0,null,null,null,null,null,null,null,null,null,null,null,null,null,null,null,null,null,null,null,null,null,null,null,null,null,null,null,null,null,null,null,null,null,null,null,null,null,null,null,null,null,null,null,null,null,null,null,null,null,null,null,null,{"$f":"Раздел2!D39","v":0}]
[null,"Водно-моторный спорт","32",0,0,0,0,0,0,null,null,null,null,null,null,null,null,null,null,null,null,null,null,null,null,null,null,null,null,null,null,null,null,null,null,null,null,null,null,null,null,null,null,null,null,null,null,null,null,null,null,null,null,null,null,null,null,null,null,null,null,{"$f":"Раздел2!D40","v":0}]
[null,"Водно-спасательное многоборье","33",0,0,0,0,0,0,null,null,null,null,null,null,null,null,null,null,null,null,null,null,null,null,null,null,null,null,null,null,null,null,null,null,null,null,null,null,null,null,null,null,null,null,null,null,null,null,null,null,null,null,null,null,null,null,null,null,null,null,{"$f":"Раздел2!D41","v":0}]
[null,"Водное поло - всего ","34",0,0,0,0,0,0,{"$f":"SUM(J42:J43)","v":0},{"$f":"SUM(K42:K43)","v":0},0,0,0,0,0,0,0,0,0,0,0,0,0,0,0,0,0,0,0,0,0,0,0,0,0,0,0,0,0,0,0,0,0,0,0,0,0,0,0,0,0,0,0,0,0,0,0,0,null,null,{"$f":"Раздел2!D42","v":0}]
[null,"в том числе:\nВодное поло (муж.)","35",0,0,0,0,0,0,null,null,null,null,null,null,null,null,null,null,null,null,null,null,null,null,null,null,null,null,null,null,null,null,null,null,null,null,null,null,null,null,null,null,null,null,null,null,null,null,null,null,null,null,null,null,null,null,null,null,null,null,{"$f":"Раздел2!D43","v":0}]
[null,"Водное поло (жен.)","36",0,0,0,0,0,0,null,null,null,null,null,null,null,null,null,null,null,null,null,null,null,null,null,null,null,null,null,null,null,null,null,null,null,null,null,null,null,null,null,null,null,null,null,null,null,null,null,null,null,null,null,null,null,null,null,null,null,null,{"$f":"Раздел2!D44","v":0}]
[null,"Воднолыжный спорт","37",0,0,0,0,0,0,null,null,null,null,null,null,null,null,null,null,null,null,null,null,null,null,null,null,null,null,null,null,null,null,null,null,null,null,null,null,null,null,null,null,null,null,null,null,null,null,null,null,null,null,null,null,null,null,null,null,null,null,{"$f":"Раздел2!D45","v":0}]
[null,"Военно-прикладной спорт","38",0,0,0,0,0,0,null,null,null,null,null,null,null,null,null,null,null,null,null,null,null,null,null,null,null,null,null,null,null,null,null,null,null,null,null,null,null,null,null,null,null,null,null,null,null,null,null,null,null,null,null,null,null,null,null,null,null,null,{"$f":"Раздел2!D46","v":0}]
[null,"Военно-спортивное многоборье","39",0,0,0,0,0,0,null,null,null,null,null,null,null,null,null,null,null,null,null,null,null,null,null,null,null,null,null,null,null,null,null,null,null,null,null,null,null,null,null,null,null,null,null,null,null,null,null,null,null,null,null,null,null,null,null,null,null,null,{"$f":"Раздел2!D47","v":0}]
[null,"Воздухоплавательный спорт","40",0,0,0,0,0,0,null,null,null,null,null,null,null,null,null,null,null,null,null,null,null,null,null,null,null,null,null,null,null,null,null,null,null,null,null,null,null,null,null,null,null,null,null,null,null,null,null,null,null,null,null,null,null,null,null,null,null,null,{"$f":"Раздел2!D48","v":0}]
[null,"Воздушно-силовая атлетика","41",0,0,0,0,0,0,null,null,null,null,null,null,null,null,null,null,null,null,null,null,null,null,null,null,null,null,null,null,null,null,null,null,null,null,null,null,null,null,null,null,null,null,null,null,null,null,null,null,null,null,null,null,null,null,null,null,null,null,{"$f":"Раздел2!D49","v":0}]
[null,"Волейбол - всего","42",0,0,0,0,0,0,{"$f":"SUM(J50:J53)","v":0},{"$f":"SUM(K50:K53)","v":0},0,0,0,0,0,0,0,0,0,0,0,0,0,0,0,0,0,0,0,0,0,0,0,0,0,0,0,0,0,0,0,0,0,0,0,0,0,0,0,0,0,0,0,0,0,0,0,0,null,null,{"$f":"Раздел2!D50","v":0}]
[null,"в том числе:\nВолейбол (муж.)","43",0,0,0,0,0,0,null,null,null,null,null,null,null,null,null,null,null,null,null,null,null,null,null,null,null,null,null,null,null,null,null,null,null,null,null,null,null,null,null,null,null,null,null,null,null,null,null,null,null,null,null,null,null,null,null,null,null,null,{"$f":"Раздел2!D51","v":0}]
[null,"Волейбол (жен.)","44",0,0,0,0,0,0,null,null,null,null,null,null,null,null,null,null,null,null,null,null,null,null,null,null,null,null,null,null,null,null,null,null,null,null,null,null,null,null,null,null,null,null,null,null,null,null,null,null,null,null,null,null,null,null,null,null,null,null,{"$f":"Раздел2!D52","v":0}]
[null,"Пляжный волейбол (муж.)","45",0,0,0,0,0,0,null,null,null,null,null,null,null,null,null,null,null,null,null,null,null,null,null,null,null,null,null,null,null,null,null,null,null,null,null,null,null,null,null,null,null,null,null,null,null,null,null,null,null,null,null,null,null,null,null,null,null,null,{"$f":"Раздел2!D53","v":0}]
[null,"Пляжный волейбол (жен.)","46",0,0,0,0,0,0,null,null,null,null,null,null,null,null,null,null,null,null,null,null,null,null,null,null,null,null,null,null,null,null,null,null,null,null,null,null,null,null,null,null,null,null,null,null,null,null,null,null,null,null,null,null,null,null,null,null,null,null,{"$f":"Раздел2!D54","v":0}]
[null,"Восточное боевое единоборство","47",0,0,0,0,0,0,null,null,null,null,null,null,null,null,null,null,null,null,null,null,null,null,null,null,null,null,null,null,null,null,null,null,null,null,null,null,null,null,null,null,null,null,null,null,null,null,null,null,null,null,null,null,null,null,null,null,null,null,{"$f":"Раздел2!D55","v":0}]
[null,"Всестилевое каратэ","48",0,0,0,0,0,0,null,null,null,null,null,null,null,null,null,null,null,null,null,null,null,null,null,null,null,null,null,null,null,null,null,null,null,null,null,null,null,null,null,null,null,null,null,null,null,null,null,null,null,null,null,null,null,null,null,null,null,null,{"$f":"Раздел2!D56","v":0}]
[null,"Гандбол - всего","49",0,0,0,0,0,0,{"$f":"SUM(J57:J59)","v":0},{"$f":"SUM(K57:K59)","v":0},0,0,0,0,{"$f":"SUM(P57:P59)","v":0},0,0,0,0,0,0,0,0,0,0,0,0,0,0,0,0,0,0,0,0,0,0,0,0,0,0,0,0,0,0,0,0,0,0,0,0,0,0,0,0,0,0,0,null,null,{"$f":"Раздел2!D57","v":0}]
[null,"в том числе:\nГандбол (муж.)","50",0,0,0,0,0,0,null,null,null,null,null,null,null,null,null,null,null,null,null,null,null,null,null,null,null,null,null,null,null,null,null,null,null,null,null,null,null,null,null,null,null,null,null,null,null,null,null,null,null,null,null,null,null,null,null,null,null,null,{"$f":"Раздел2!D58","v":0}]
[null,"Гандбол (жен.)","51",0,0,0,0,0,0,null,null,null,null,null,null,null,null,null,null,null,null,null,null,null,null,null,null,null,null,null,null,null,null,null,null,null,null,null,null,null,null,null,null,null,null,null,null,null,null,null,null,null,null,null,null,null,null,null,null,null,null,{"$f":"Раздел2!D59","v":0}]
[null,"Пляжный гандбол","52",0,0,0,0,0,0,null,null,null,null,null,null,null,null,null,null,null,null,null,null,null,null,null,null,null,null,null,null,null,null,null,null,null,null,null,null,null,null,null,null,null,null,null,null,null,null,null,null,null,null,null,null,null,null,null,null,null,null,{"$f":"Раздел2!D60","v":0}]
[null,"Гиревой спорт","53",0,0,0,0,0,0,null,null,null,null,null,null,null,null,null,null,null,null,null,null,null,null,null,null,null,null,null,null,null,null,null,null,null,null,null,null,null,null,null,null,null,null,null,null,null,null,null,null,null,null,null,null,null,null,null,null,null,null,{"$f":"Раздел2!D61","v":0}]
[null,"Го","54",0,0,0,0,0,0,null,null,null,null,null,null,null,null,null,null,null,null,null,null,null,null,null,null,null,null,null,null,null,null,null,null,null,null,null,null,null,null,null,null,null,null,null,null,null,null,null,null,null,null,null,null,null,null,null,null,null,null,{"$f":"Раздел2!D62","v":0}]
[null,"Гольф","55",0,0,0,0,0,0,null,null,null,null,null,null,null,null,null,null,null,null,null,null,null,null,null,null,null,null,null,null,null,null,null,null,null,null,null,null,null,null,null,null,null,null,null,null,null,null,null,null,null,null,null,null,null,null,null,null,null,null,{"$f":"Раздел2!D63","v":0}]
[null,"Гонки на охотничьих лыжах","56",0,0,0,0,0,0,null,null,null,null,null,null,null,null,null,null,null,null,null,null,null,null,null,null,null,null,null,null,null,null,null,null,null,null,null,null,null,null,null,null,null,null,null,null,null,null,null,null,null,null,null,null,null,null,null,null,null,null,{"$f":"Раздел2!D64","v":0}]
[null,"Гонки с препятствиями","57",0,0,0,0,0,0,null,null,null,null,null,null,null,null,null,null,null,null,null,null,null,null,null,null,null,null,null,null,null,null,null,null,null,null,null,null,null,null,null,null,null,null,null,null,null,null,null,null,null,null,null,null,null,null,null,null,null,null,{"$f":"Раздел2!D65","v":0}]
[null,"Горнолыжный спорт","58",0,0,0,0,0,0,null,null,null,null,null,null,null,null,null,null,null,null,null,null,null,null,null,null,null,null,null,null,null,null,null,null,null,null,null,null,null,null,null,null,null,null,null,null,null,null,null,null,null,null,null,null,null,null,null,null,null,null,{"$f":"Раздел2!D66","v":0}]
[null,"Городошный спорт","59",0,0,0,0,0,0,null,null,null,null,null,null,null,null,null,null,null,null,null,null,null,null,null,null,null,null,null,null,null,null,null,null,null,null,null,null,null,null,null,null,null,null,null,null,null,null,null,null,null,null,null,null,null,null,null,null,null,null,{"$f":"Раздел2!D67","v":0}]
[null,"Гребля на байдарках и каноэ","60",0,0,0,0,0,0,null,null,null,null,null,null,null,null,null,null,null,null,null,null,null,null,null,null,null,null,null,null,null,null,null,null,null,null,null,null,null,null,null,null,null,null,null,null,null,null,null,null,null,null,null,null,null,null,null,null,null,null,{"$f":"Раздел2!D68","v":0}]
[null,"Гребля на шлюпках","61",0,0,0,0,0,0,null,null,null,null,null,null,null,null,null,null,null,null,null,null,null,null,null,null,null,null,null,null,null,null,null,null,null,null,null,null,null,null,null,null,null,null,null,null,null,null,null,null,null,null,null,null,null,null,null,null,null,null,{"$f":"Раздел2!D69","v":0}]
[null,"Гребной слалом","62",0,0,0,0,0,0,null,null,null,null,null,null,null,null,null,null,null,null,null,null,null,null,null,null,null,null,null,null,null,null,null,null,null,null,null,null,null,null,null,null,null,null,null,null,null,null,null,null,null,null,null,null,null,null,null,null,null,null,{"$f":"Раздел2!D70","v":0}]
[null,"Гребной спорт - всего","63",0,0,0,0,0,0,{"$f":"SUM(J71:J74)","v":0},{"$f":"SUM(K71:K74)","v":0},0,0,0,0,0,0,0,0,0,0,0,0,0,0,0,0,0,0,0,0,0,0,0,0,0,0,0,0,0,0,0,0,0,0,0,0,0,0,0,0,0,0,0,0,0,0,0,0,null,null,{"$f":"Раздел2!D71","v":0}]
[null,"в том числе:\nАкадемическая гребля","64",0,0,0,0,0,0,null,null,null,null,null,null,null,null,null,null,null,null,null,null,null,null,null,null,null,null,null,null,null,null,null,null,null,null,null,null,null,null,null,null,null,null,null,null,null,null,null,null,null,null,null,null,null,null,null,null,null,null,{"$f":"Раздел2!D72","v":0}]
[null,"Гребля-индор","65",0,0,0,0,0,0,null,null,null,null,null,null,null,null,null,null,null,null,null,null,null,null,null,null,null,null,null,null,null,null,null,null,null,null,null,null,null,null,null,null,null,null,null,null,null,null,null,null,null,null,null,null,null,null,null,null,null,null,{"$f":"Раздел2!D73","v":0}]
[null,"Народная гребля","66",{"$f":"SUM(E73:G73)","v":0},{"$f":"SUM(J73,O73,T73,Y73,AD73,AI73,AN73,AS73,AX73,BC73,)","v":0},{"$f":"SUM(K73,P73,U73,Z73,AE73,AJ73,AO73,AT73,AY73,BD73,)","v":0},{"$f":"SUM(L73,Q73,V73,AA73,AF73,AK73,AP73,AU73,AZ73,BE73,)","v":0},{"$f":"SUM(M73,R73,W73,AB73,AG73,AL73,AQ73,AV73,BA73,BF73,)","v":0},{"$f":"SUM(N73,S73,X73,AC73,AH73,AM73,AR73,AW73,BB73,BG73,)","v":0},null,null,null,null,null,null,null,null,null,null,null,null,null,null,null,null,null,null,null,null,null,null,null,null,null,null,null,null,null,null,null,null,null,null,null,null,null,null,null,null,null,null,null,null,null,null,null,null,null,null,null,null,{"$f":"Раздел2!D74","v":0}]
[null,"Прибрежная гребля","67",0,0,0,0,0,0,null,null,null,null,null,null,null,null,null,null,null,null,null,null,null,null,null,null,null,null,null,null,null,null,null,null,null,null,null,null,null,null,null,null,null,null,null,null,null,null,null,null,null,null,null,null,null,null,null,null,null,null,{"$f":"Раздел2!D75","v":0}]
[null,"Гребно-парусное двоеборье","68",0,0,0,0,0,0,null,null,null,null,null,null,null,null,null,null,null,null,null,null,null,null,null,null,null,null,null,null,null,null,null,null,null,null,null,null,null,null,null,null,null,null,null,null,null,null,null,null,null,null,null,null,null,null,null,null,null,null,{"$f":"Раздел2!D76","v":0}]
[null,"Дартс","69",0,0,0,0,0,0,null,null,null,null,null,null,null,null,null,null,null,null,null,null,null,null,null,null,null,null,null,null,null,null,null,null,null,null,null,null,null,null,null,null,null,null,null,null,null,null,null,null,null,null,null,null,null,null,null,null,null,null,{"$f":"Раздел2!D77","v":0}]
[null,"Джиу-джитсу","70",0,0,0,0,0,0,null,null,null,null,null,null,null,null,null,null,null,null,null,null,null,null,null,null,null,null,null,null,null,null,null,null,null,null,null,null,null,null,null,null,null,null,null,null,null,null,null,null,null,null,null,null,null,null,null,null,null,null,{"$f":"Раздел2!D78","v":0}]
[null,"Дзюдо","71",0,0,0,0,0,0,null,null,null,null,null,null,null,null,null,null,null,null,null,null,null,null,null,null,null,null,null,null,null,null,null,null,null,null,null,null,null,null,null,null,null,null,null,null,null,null,null,null,null,null,null,null,null,null,null,null,null,null,{"$f":"Раздел2!D79","v":0}]
[null,"Ездовой спорт","72",0,0,0,0,0,0,null,null,null,null,null,null,null,null,null,null,null,null,null,null,null,null,null,null,null,null,null,null,null,null,null,null,null,null,null,null,null,null,null,null,null,null,null,null,null,null,null,null,null,null,null,null,null,null,null,null,null,null,{"$f":"Раздел2!D80","v":0}]
[null,"Капоэйра","73",0,0,0,0,0,0,null,null,null,null,null,null,null,null,null,null,null,null,null,null,null,null,null,null,null,null,null,null,null,null,null,null,null,null,null,null,null,null,null,null,null,null,null,null,null,null,null,null,null,null,null,null,null,null,null,null,null,null,{"$f":"Раздел2!D81","v":0}]
[null,"Каратэ","74",0,0,0,0,0,0,null,null,null,null,null,null,null,null,null,null,null,null,null,null,null,null,null,null,null,null,null,null,null,null,null,null,null,null,null,null,null,null,null,null,null,null,null,null,null,null,null,null,null,null,null,null,null,null,null,null,null,null,{"$f":"Раздел2!D82","v":0}]
[null,"Кендо","75",0,0,0,0,0,0,null,null,null,null,null,null,null,null,null,null,null,null,null,null,null,null,null,null,null,null,null,null,null,null,null,null,null,null,null,null,null,null,null,null,null,null,null,null,null,null,null,null,null,null,null,null,null,null,null,null,null,null,{"$f":"Раздел2!D83","v":0}]
[null,"Керешу","76",0,0,0,0,0,0,null,null,null,null,null,null,null,null,null,null,null,null,null,null,null,null,null,null,null,null,null,null,null,null,null,null,null,null,null,null,null,null,null,null,null,null,null,null,null,null,null,null,null,null,null,null,null,null,null,null,null,null,{"$f":"Раздел2!D84","v":0}]
[null,"Кёрлинг - всего","77",0,0,0,0,0,0,{"$f":"SUM(J85:J87)","v":0},{"$f":"SUM(K85:K87)","v":0},0,0,0,0,0,0,0,0,0,0,0,0,0,0,0,0,0,0,0,0,0,0,0,0,0,0,0,0,0,0,0,0,0,0,0,0,0,0,0,0,0,0,0,0,0,0,0,0,null,null,{"$f":"Раздел2!D85","v":0}]
[null,"в том числе:\nКерлинг (муж.)","78",0,0,0,0,0,0,null,null,null,null,null,null,null,null,null,null,null,null,null,null,null,null,null,null,null,null,null,null,null,null,null,null,null,null,null,null,null,null,null,null,null,null,null,null,null,null,null,null,null,null,null,null,null,null,null,null,null,null,{"$f":"Раздел2!D86","v":0}]
[null,"Керлинг (жен.)","79",0,0,0,0,0,0,null,null,null,null,null,null,null,null,null,null,null,null,null,null,null,null,null,null,null,null,null,null,null,null,null,null,null,null,null,null,null,null,null,null,null,null,null,null,null,null,null,null,null,null,null,null,null,null,null,null,null,null,{"$f":"Раздел2!D87","v":0}]
[null,"Кёрлинг – смешанные пары","80",0,0,0,0,0,0,null,null,null,null,null,null,null,null,null,null,null,null,null,null,null,null,null,null,null,null,null,null,null,null,null,null,null,null,null,null,null,null,null,null,null,null,null,null,null,null,null,null,null,null,null,null,null,null,null,null,null,null,{"$f":"Раздел2!D88","v":0}]
[null,"Кикбоксинг","81",0,0,0,0,0,0,null,null,null,null,null,null,null,null,null,null,null,null,null,null,null,null,null,null,null,null,null,null,null,null,null,null,null,null,null,null,null,null,null,null,null,null,null,null,null,null,null,null,null,null,null,null,null,null,null,null,null,null,{"$f":"Раздел2!D89","v":0}]
[null,"Кинологический спорт","82",0,0,0,0,0,0,null,null,null,null,null,null,null,null,null,null,null,null,null,null,null,null,null,null,null,null,null,null,null,null,null,null,null,null,null,null,null,null,null,null,null,null,null,null,null,null,null,null,null,null,null,null,null,null,null,null,null,null,{"$f":"Раздел2!D90","v":0}]
[null,"Киокусинкай","83",0,0,0,0,0,0,null,null,null,null,null,null,null,null,null,null,null,null,null,null,null,null,null,null,null,null,null,null,null,null,null,null,null,null,null,null,null,null,null,null,null,null,null,null,null,null,null,null,null,null,null,null,null,null,null,null,null,null,{"$f":"Раздел2!D91","v":0}]
[null,"Комплексное единоборство","84",0,0,0,0,0,0,null,null,null,null,null,null,null,null,null,null,null,null,null,null,null,null,null,null,null,null,null,null,null,null,null,null,null,null,null,null,null,null,null,null,null,null,null,null,null,null,null,null,null,null,null,null,null,null,null,null,null,null,{"$f":"Раздел2!D92","v":0}]
[null,"Компьютерный спорт","85",0,0,0,0,0,0,null,null,null,null,null,null,null,null,null,null,null,null,null,null,null,null,null,null,null,null,null,null,null,null,null,null,null,null,null,null,null,null,null,null,null,null,null,null,null,null,null,null,null,null,null,null,null,null,null,null,null,null,{"$f":"Раздел2!D93","v":0}]
[null,"Конный спорт","86",0,0,0,0,0,0,null,null,null,null,null,null,null,null,null,null,null,null,null,null,null,null,null,null,null,null,null,null,null,null,null,null,null,null,null,null,null,null,null,null,null,null,null,null,null,null,null,null,null,null,null,null,null,null,null,null,null,null,{"$f":"Раздел2!D94","v":0}]
[null,"Конькобежный спорт - всего","87",0,0,0,0,0,0,{"$f":"SUM(J95:J96)","v":0},{"$f":"SUM(K95:K96)","v":0},0,0,0,0,0,0,0,0,0,0,0,0,0,0,0,0,0,0,0,0,0,0,0,0,0,0,0,0,0,0,0,0,0,0,0,0,0,0,0,0,0,0,0,0,0,0,0,0,null,null,{"$f":"Раздел2!D95","v":0}]
[null,"в том числе:\nКонькобежный спорт","88",0,0,0,0,0,0,null,null,null,null,null,null,null,null,null,null,null,null,null,null,null,null,null,null,null,null,null,null,null,null,null,null,null,null,null,null,null,null,null,null,null,null,null,null,null,null,null,null,null,null,null,null,null,null,null,null,null,null,{"$f":"Раздел2!D96","v":0}]
[null,"Шорт-трек","89",0,0,0,0,0,0,null,null,null,null,null,null,null,null,null,null,null,null,null,null,null,null,null,null,null,null,null,null,null,null,null,null,null,null,null,null,null,null,null,null,null,null,null,null,null,null,null,null,null,null,null,null,null,null,null,null,null,null,{"$f":"Раздел2!D97","v":0}]
[null,"Корэш","90",0,0,0,0,0,0,null,null,null,null,null,null,null,null,null,null,null,null,null,null,null,null,null,null,null,null,null,null,null,null,null,null,null,null,null,null,null,null,null,null,null,null,null,null,null,null,null,null,null,null,null,null,null,null,null,null,null,null,{"$f":"Раздел2!D98","v":0}]
[null,"Корфбол","91",0,0,0,0,0,0,null,null,null,null,null,null,null,null,null,null,null,null,null,null,null,null,null,null,null,null,null,null,null,null,null,null,null,null,null,null,null,null,null,null,null,null,null,null,null,null,null,null,null,null,null,null,null,null,null,null,null,null,{"$f":"Раздел2!D99","v":0}]
[null,"Крикет","92",0,0,0,0,0,0,null,null,null,null,null,null,null,null,null,null,null,null,null,null,null,null,null,null,null,null,null,null,null,null,null,null,null,null,null,null,null,null,null,null,null,null,null,null,null,null,null,null,null,null,null,null,null,null,null,null,null,null,{"$f":"Раздел2!D100","v":0}]
[null,"Кудо","93",0,0,0,0,0,0,null,null,null,null,null,null,null,null,null,null,null,null,null,null,null,null,null,null,null,null,null,null,null,null,null,null,null,null,null,null,null,null,null,null,null,null,null,null,null,null,null,null,null,null,null,null,null,null,null,null,null,null,{"$f":"Раздел2!D101","v":0}]
[null,"Лапта","94",0,0,0,0,0,0,null,null,null,null,null,null,null,null,null,null,null,null,null,null,null,null,null,null,null,null,null,null,null,null,null,null,null,null,null,null,null,null,null,null,null,null,null,null,null,null,null,null,null,null,null,null,null,null,null,null,null,null,{"$f":"Раздел2!D102","v":0}]
[null,"Легкая атлетика - всего","95",0,0,0,0,0,0,{"$f":"SUM(J103:J109)","v":0},{"$f":"SUM(K103:K109)","v":0},0,0,0,0,0,0,0,0,0,0,0,0,0,0,0,0,0,0,0,0,0,0,0,0,0,0,0,0,0,0,0,0,0,0,0,0,0,0,0,0,0,0,0,0,0,0,0,0,null,null,{"$f":"Раздел2!D103","v":1}]
[null,"в том числе:\nСпринтерский и барьерный бег","96",0,0,0,0,0,0,null,null,null,null,null,null,null,null,null,null,null,null,null,null,null,null,null,null,null,null,null,null,null,null,null,null,null,null,null,null,null,null,null,null,null,null,null,null,null,null,null,null,null,null,null,null,null,null,null,null,null,null,{"$f":"Раздел2!D104","v":0}]
[null,"Бег на средние дистанции и бег с препятствиями","97",0,0,0,0,0,0,null,null,null,null,null,null,null,null,null,null,null,null,null,null,null,null,null,null,null,null,null,null,null,null,null,null,null,null,null,null,null,null,null,null,null,null,null,null,null,null,null,null,null,null,null,null,null,null,null,null,null,null,{"$f":"Раздел2!D105","v":0}]
[null,"Бег на длинные и сверхдлинные дистанции","98",0,0,0,0,0,0,null,null,null,null,null,null,null,null,null,null,null,null,null,null,null,null,null,null,null,null,null,null,null,null,null,null,null,null,null,null,null,null,null,null,null,null,null,null,null,null,null,null,null,null,null,null,null,null,null,null,null,null,{"$f":"Раздел2!D106","v":0}]
[null,"Многоборья","99",0,0,0,0,0,0,null,null,null,null,null,null,null,null,null,null,null,null,null,null,null,null,null,null,null,null,null,null,null,null,null,null,null,null,null,null,null,null,null,null,null,null,null,null,null,null,null,null,null,null,null,null,null,null,null,null,null,null,{"$f":"Раздел2!D107","v":1}]
[null,"Прыжки","100",0,0,0,0,0,0,null,null,null,null,null,null,null,null,null,null,null,null,null,null,null,null,null,null,null,null,null,null,null,null,null,null,null,null,null,null,null,null,null,null,null,null,null,null,null,null,null,null,null,null,null,null,null,null,null,null,null,null,{"$f":"Раздел2!D108","v":0}]
[null,"Метания","101",0,0,0,0,0,0,null,null,null,null,null,null,null,null,null,null,null,null,null,null,null,null,null,null,null,null,null,null,null,null,null,null,null,null,null,null,null,null,null,null,null,null,null,null,null,null,null,null,null,null,null,null,null,null,null,null,null,null,{"$f":"Раздел2!D109","v":0}]
[null,"Спортивная ходьба","102",0,0,0,0,0,0,null,null,null,null,null,null,null,null,null,null,null,null,null,null,null,null,null,null,null,null,null,null,null,null,null,null,null,null,null,null,null,null,null,null,null,null,null,null,null,null,null,null,null,null,null,null,null,null,null,null,null,null,{"$f":"Раздел2!D110","v":0}]
[null,"Лыжное двоеборье","103",0,0,0,0,0,0,null,null,null,null,null,null,null,null,null,null,null,null,null,null,null,null,null,null,null,null,null,null,null,null,null,null,null,null,null,null,null,null,null,null,null,null,null,null,null,null,null,null,null,null,null,null,null,null,null,null,null,null,{"$f":"Раздел2!D111","v":0}]
[null,"Лыжные гонки","104",0,0,0,0,0,0,null,null,null,null,null,null,null,null,null,null,null,null,null,null,null,null,null,null,null,null,null,null,null,null,null,null,null,null,null,null,null,null,null,null,null,null,null,null,null,null,null,null,null,null,null,null,null,null,null,null,null,null,{"$f":"Раздел2!D112","v":0}]
[null,"Мас-рестлинг","105",0,0,0,0,0,0,null,null,null,null,null,null,null,null,null,null,null,null,null,null,null,null,null,null,null,null,null,null,null,null,null,null,null,null,null,null,null,null,null,null,null,null,null,null,null,null,null,null,null,null,null,null,null,null,null,null,null,null,{"$f":"Раздел2!D113","v":0}]
[null,"Международное военно-спортивное многоборье","106",0,0,0,0,0,0,null,null,null,null,null,null,null,null,null,null,null,null,null,null,null,null,null,null,null,null,null,null,null,null,null,null,null,null,null,null,null,null,null,null,null,null,null,null,null,null,null,null,null,null,null,null,null,null,null,null,null,null,{"$f":"Раздел2!D114","v":0}]
[null,"Многоборье кинологов","107",0,0,0,0,0,0,null,null,null,null,null,null,null,null,null,null,null,null,null,null,null,null,null,null,null,null,null,null,null,null,null,null,null,null,null,null,null,null,null,null,null,null,null,null,null,null,null,null,null,null,null,null,null,null,null,null,null,null,{"$f":"Раздел2!D115","v":0}]
[null,"Многоборье спасателей МЧС России","108",0,0,0,0,0,0,null,null,null,null,null,null,null,null,null,null,null,null,null,null,null,null,null,null,null,null,null,null,null,null,null,null,null,null,null,null,null,null,null,null,null,null,null,null,null,null,null,null,null,null,null,null,null,null,null,null,null,null,{"$f":"Раздел2!D116","v":0}]
[null,"Морское многоборье","109",0,0,0,0,0,0,null,null,null,null,null,null,null,null,null,null,null,null,null,null,null,null,null,null,null,null,null,null,null,null,null,null,null,null,null,null,null,null,null,null,null,null,null,null,null,null,null,null,null,null,null,null,null,null,null,null,null,null,{"$f":"Раздел2!D117","v":0}]
[null,"Мотоциклетный спорт","110",0,0,0,0,0,0,null,null,null,null,null,null,null,null,null,null,null,null,null,null,null,null,null,null,null,null,null,null,null,null,null,null,null,null,null,null,null,null,null,null,null,null,null,null,null,null,null,null,null,null,null,null,null,null,null,null,null,null,{"$f":"Раздел2!D118","v":0}]
[null,"Настольный теннис","111",0,0,0,0,0,0,null,null,null,null,null,null,null,null,null,null,null,null,null,null,null,null,null,null,null,null,null,null,null,null,null,null,null,null,null,null,null,null,null,null,null,null,null,null,null,null,null,null,null,null,null,null,null,null,null,null,null,null,{"$f":"Раздел2!D119","v":0}]
[null,"Падел","112",0,0,0,0,0,0,null,null,null,null,null,null,null,null,null,null,null,null,null,null,null,null,null,null,null,null,null,null,null,null,null,null,null,null,null,null,null,null,null,null,null,null,null,null,null,null,null,null,null,null,null,null,null,null,null,null,null,null,{"$f":"Раздел2!D120","v":0}]
[null,"Парашютный спорт","113",0,0,0,0,0,0,null,null,null,null,null,null,null,null,null,null,null,null,null,null,null,null,null,null,null,null,null,null,null,null,null,null,null,null,null,null,null,null,null,null,null,null,null,null,null,null,null,null,null,null,null,null,null,null,null,null,null,null,{"$f":"Раздел2!D121","v":0}]
[null,"Парусный спорт","114",0,0,0,0,0,0,null,null,null,null,null,null,null,null,null,null,null,null,null,null,null,null,null,null,null,null,null,null,null,null,null,null,null,null,null,null,null,null,null,null,null,null,null,null,null,null,null,null,null,null,null,null,null,null,null,null,null,null,{"$f":"Раздел2!D122","v":0}]
[null,"Пауэрлифтинг","115",0,0,0,0,0,0,null,null,null,null,null,null,null,null,null,null,null,null,null,null,null,null,null,null,null,null,null,null,null,null,null,null,null,null,null,null,null,null,null,null,null,null,null,null,null,null,null,null,null,null,null,null,null,null,null,null,null,null,{"$f":"Раздел2!D123","v":0}]
[null,"Перетягивание каната","116",0,0,0,0,0,0,null,null,null,null,null,null,null,null,null,null,null,null,null,null,null,null,null,null,null,null,null,null,null,null,null,null,null,null,null,null,null,null,null,null,null,null,null,null,null,null,null,null,null,null,null,null,null,null,null,null,null,null,{"$f":"Раздел2!D124","v":0}]
[null,"Плавание - всего","117",0,0,0,0,0,0,{"$f":"SUM(J125:J126)","v":0},{"$f":"SUM(K125:K126)","v":0},0,0,0,0,0,0,0,0,0,0,0,0,0,0,0,0,0,0,0,0,0,0,0,0,0,0,0,0,0,0,0,0,0,0,0,0,0,0,0,0,0,0,0,0,0,0,0,0,null,null,{"$f":"Раздел2!D125","v":1}]
[null,"в том числе:\nПлавание ","118",0,0,0,0,0,0,null,null,null,null,null,null,null,null,null,null,null,null,null,null,null,null,null,null,null,null,null,null,null,null,null,null,null,null,null,null,null,null,null,null,null,null,null,null,null,null,null,null,null,null,null,null,null,null,null,null,null,null,{"$f":"Раздел2!D126","v":1}]
[null,"Открытая вода","119",0,0,0,0,0,0,null,null,null,null,null,null,null,null,null,null,null,null,null,null,null,null,null,null,null,null,null,null,null,null,null,null,null,null,null,null,null,null,null,null,null,null,null,null,null,null,null,null,null,null,null,null,null,null,null,null,null,null,{"$f":"Раздел2!D127","v":0}]
[null,"Планерный спорт","120",0,0,0,0,0,0,null,null,null,null,null,null,null,null,null,null,null,null,null,null,null,null,null,null,null,null,null,null,null,null,null,null,null,null,null,null,null,null,null,null,null,null,null,null,null,null,null,null,null,null,null,null,null,null,null,null,null,null,{"$f":"Раздел2!D128","v":0}]
[null,"Подводный спорт","121",0,0,0,0,0,0,null,null,null,null,null,null,null,null,null,null,null,null,null,null,null,null,null,null,null,null,null,null,null,null,null,null,null,null,null,null,null,null,null,null,null,null,null,null,null,null,null,null,null,null,null,null,null,null,null,null,null,null,{"$f":"Раздел2!D129","v":0}]
[null,"Пожарно-спасательный спорт","122",0,0,0,0,0,0,null,null,null,null,null,null,null,null,null,null,null,null,null,null,null,null,null,null,null,null,null,null,null,null,null,null,null,null,null,null,null,null,null,null,null,null,null,null,null,null,null,null,null,null,null,null,null,null,null,null,null,null,{"$f":"Раздел2!D130","v":0}]
[null,"Полиатлон","123",0,0,0,0,0,0,null,null,null,null,null,null,null,null,null,null,null,null,null,null,null,null,null,null,null,null,null,null,null,null,null,null,null,null,null,null,null,null,null,null,null,null,null,null,null,null,null,null,null,null,null,null,null,null,null,null,null,null,{"$f":"Раздел2!D131","v":0}]
[null,"Практическая стрельба","124",0,0,0,0,0,0,null,null,null,null,null,null,null,null,null,null,null,null,null,null,null,null,null,null,null,null,null,null,null,null,null,null,null,null,null,null,null,null,null,null,null,null,null,null,null,null,null,null,null,null,null,null,null,null,null,null,null,null,{"$f":"Раздел2!D132","v":0}]
[null,"Прыжки в воду - всего","125",0,0,0,0,0,0,{"$f":"SUM(J133:J134)","v":0},{"$f":"SUM(K133:K134)","v":0},0,0,0,0,0,0,0,0,0,0,0,0,0,0,0,0,0,0,0,0,0,0,0,0,0,0,0,0,0,0,0,0,0,0,0,0,0,0,0,0,0,0,0,0,0,0,0,0,null,null,{"$f":"Раздел2!D133","v":0}]
[null,"в том числе:\nПрыжки в воду","126",0,0,0,0,0,0,null,null,null,null,null,null,null,null,null,null,null,null,null,null,null,null,null,null,null,null,null,null,null,null,null,null,null,null,null,null,null,null,null,null,null,null,null,null,null,null,null,null,null,null,null,null,null,null,null,null,null,null,{"$f":"Раздел2!D134","v":0}]
[null,"Прыжки в открытый водоем","127",0,0,0,0,0,0,null,null,null,null,null,null,null,null,null,null,null,null,null,null,null,null,null,null,null,null,null,null,null,null,null,null,null,null,null,null,null,null,null,null,null,null,null,null,null,null,null,null,null,null,null,null,null,null,null,null,null,null,{"$f":"Раздел2!D135","v":0}]
[null,"Прыжки на батуте - всего","128",0,0,0,0,0,0,{"$f":"SUM(J136:J139)","v":0},{"$f":"SUM(K136:K139)","v":0},0,0,0,0,0,0,0,0,0,0,0,0,0,0,0,0,0,0,0,0,0,0,0,0,0,0,0,0,0,0,0,0,0,0,0,0,0,0,0,0,0,0,0,0,0,0,0,0,null,null,{"$f":"Раздел2!D136","v":0}]
[null,"в том числе:\nАкробатическая дорожка","129",0,0,0,0,0,0,null,null,null,null,null,null,null,null,null,null,null,null,null,null,null,null,null,null,null,null,null,null,null,null,null,null,null,null,null,null,null,null,null,null,null,null,null,null,null,null,null,null,null,null,null,null,null,null,null,null,null,null,{"$f":"Раздел2!D137","v":0}]
[null,"Двойной минитрамп","130",{"$f":"SUM(E137:G137)","v":0},{"$f":"SUM(J137,O137,T137,Y137,AD137,AI137,AN137,AS137,AX137,BC137,)","v":0},{"$f":"SUM(K137,P137,U137,Z137,AE137,AJ137,AO137,AT137,AY137,BD137,)","v":0},{"$f":"SUM(L137,Q137,V137,AA137,AF137,AK137,AP137,AU137,AZ137,BE137,)","v":0},{"$f":"SUM(M137,R137,W137,AB137,AG137,AL137,AQ137,AV137,BA137,BF137,)","v":0},{"$f":"SUM(N137,S137,X137,AC137,AH137,AM137,AR137,AW137,BB137,BG137,)","v":0},null,null,null,null,null,null,null,null,null,null,null,null,null,null,null,null,null,null,null,null,null,null,null,null,null,null,null,null,null,null,null,null,null,null,null,null,null,null,null,null,null,null,null,null,null,null,null,null,null,null,null,null,{"$f":"Раздел2!D138","v":0}]
[null,"Индивидуальные прыжки","131",0,0,0,0,0,0,null,null,null,null,null,null,null,null,null,null,null,null,null,null,null,null,null,null,null,null,null,null,null,null,null,null,null,null,null,null,null,null,null,null,null,null,null,null,null,null,null,null,null,null,null,null,null,null,null,null,null,null,{"$f":"Раздел2!D139","v":0}]
[null,"Синхронные прыжки","132",0,0,0,0,0,0,null,null,null,null,null,null,null,null,null,null,null,null,null,null,null,null,null,null,null,null,null,null,null,null,null,null,null,null,null,null,null,null,null,null,null,null,null,null,null,null,null,null,null,null,null,null,null,null,null,null,null,null,{"$f":"Раздел2!D140","v":0}]
[null,"Прыжки на лыжах с трамплина","133",0,0,0,0,0,0,null,null,null,null,null,null,null,null,null,null,null,null,null,null,null,null,null,null,null,null,null,null,null,null,null,null,null,null,null,null,null,null,null,null,null,null,null,null,null,null,null,null,null,null,null,null,null,null,null,null,null,null,{"$f":"Раздел2!D141","v":0}]
[null,"Пулевая стрельба - всего","134",0,0,0,0,0,0,{"$f":"SUM(J142:J146)","v":0},{"$f":"SUM(K142:K146)","v":0},0,0,0,0,0,0,0,0,0,0,0,0,0,0,0,0,0,0,0,0,0,0,0,0,0,0,0,0,0,0,0,0,0,0,0,0,0,0,0,0,0,0,0,0,0,0,0,0,null,null,{"$f":"Раздел2!D142","v":0}]
[null,"в том числе:\nПневматическая винтовка","135",0,0,0,0,0,0,null,null,null,null,null,null,null,null,null,null,null,null,null,null,null,null,null,null,null,null,null,null,null,null,null,null,null,null,null,null,null,null,null,null,null,null,null,null,null,null,null,null,null,null,null,null,null,null,null,null,null,null,{"$f":"Раздел2!D143","v":0}]
[null,"Пневматический пистолет","136",0,0,0,0,0,0,null,null,null,null,null,null,null,null,null,null,null,null,null,null,null,null,null,null,null,null,null,null,null,null,null,null,null,null,null,null,null,null,null,null,null,null,null,null,null,null,null,null,null,null,null,null,null,null,null,null,null,null,{"$f":"Раздел2!D144","v":0}]
[null,"Малокалиберная винтовка","137",0,0,0,0,0,0,null,null,null,null,null,null,null,null,null,null,null,null,null,null,null,null,null,null,null,null,null,null,null,null,null,null,null,null,null,null,null,null,null,null,null,null,null,null,null,null,null,null,null,null,null,null,null,null,null,null,null,null,{"$f":"Раздел2!D145","v":0}]
[null,"Малокалиберный пистолет","138",0,0,0,0,0,0,null,null,null,null,null,null,null,null,null,null,null,null,null,null,null,null,null,null,null,null,null,null,null,null,null,null,null,null,null,null,null,null,null,null,null,null,null,null,null,null,null,null,null,null,null,null,null,null,null,null,null,null,{"$f":"Раздел2!D146","v":0}]
[null,"Движущаяся мишень","139",0,0,0,0,0,0,null,null,null,null,null,null,null,null,null,null,null,null,null,null,null,null,null,null,null,null,null,null,null,null,null,null,null,null,null,null,null,null,null,null,null,null,null,null,null,null,null,null,null,null,null,null,null,null,null,null,null,null,{"$f":"Раздел2!D147","v":0}]
[null,"Пэйнтбол","140",0,0,0,0,0,0,null,null,null,null,null,null,null,null,null,null,null,null,null,null,null,null,null,null,null,null,null,null,null,null,null,null,null,null,null,null,null,null,null,null,null,null,null,null,null,null,null,null,null,null,null,null,null,null,null,null,null,null,{"$f":"Раздел2!D148","v":0}]
[null,"Радиоспорт","141",0,0,0,0,0,0,null,null,null,null,null,null,null,null,null,null,null,null,null,null,null,null,null,null,null,null,null,null,null,null,null,null,null,null,null,null,null,null,null,null,null,null,null,null,null,null,null,null,null,null,null,null,null,null,null,null,null,null,{"$f":"Раздел2!D149","v":0}]
[null,"Рафтинг","142",0,0,0,0,0,0,null,null,null,null,null,null,null,null,null,null,null,null,null,null,null,null,null,null,null,null,null,null,null,null,null,null,null,null,null,null,null,null,null,null,null,null,null,null,null,null,null,null,null,null,null,null,null,null,null,null,null,null,{"$f":"Раздел2!D150","v":0}]
[null,"Регби - всего","143",0,0,0,0,0,0,{"$f":"SUM(J151:J154)","v":0},{"$f":"SUM(K151:K154)","v":0},0,0,0,0,0,0,0,0,0,0,0,0,0,0,0,0,0,0,0,0,0,0,0,0,0,0,0,0,0,0,0,0,0,0,0,0,0,0,0,0,0,0,0,0,0,0,0,0,null,null,{"$f":"Раздел2!D151","v":0}]
[null,"в том числе:\nРегби","144",0,0,0,0,0,0,null,null,null,null,null,null,null,null,null,null,null,null,null,null,null,null,null,null,null,null,null,null,null,null,null,null,null,null,null,null,null,null,null,null,null,null,null,null,null,null,null,null,null,null,null,null,null,null,null,null,null,null,{"$f":"Раздел2!D152","v":0}]
[null,"Регби 7 (муж.)","145",0,0,0,0,0,0,null,null,null,null,null,null,null,null,null,null,null,null,null,null,null,null,null,null,null,null,null,null,null,null,null,null,null,null,null,null,null,null,null,null,null,null,null,null,null,null,null,null,null,null,null,null,null,null,null,null,null,null,{"$f":"Раздел2!D153","v":0}]
[null,"Регби 7 (жен.)","146",0,0,0,0,0,0,null,null,null,null,null,null,null,null,null,null,null,null,null,null,null,null,null,null,null,null,null,null,null,null,null,null,null,null,null,null,null,null,null,null,null,null,null,null,null,null,null,null,null,null,null,null,null,null,null,null,null,null,{"$f":"Раздел2!D154","v":0}]
[null,"Регби - пляжное","147",0,0,0,0,0,0,null,null,null,null,null,null,null,null,null,null,null,null,null,null,null,null,null,null,null,null,null,null,null,null,null,null,null,null,null,null,null,null,null,null,null,null,null,null,null,null,null,null,null,null,null,null,null,null,null,null,null,null,{"$f":"Раздел2!D155","v":0}]
[null,"Регбол","148",0,0,0,0,0,0,null,null,null,null,null,null,null,null,null,null,null,null,null,null,null,null,null,null,null,null,null,null,null,null,null,null,null,null,null,null,null,null,null,null,null,null,null,null,null,null,null,null,null,null,null,null,null,null,null,null,null,null,{"$f":"Раздел2!D156","v":0}]
[null,"Роллер спорт","149",0,0,0,0,0,0,null,null,null,null,null,null,null,null,null,null,null,null,null,null,null,null,null,null,null,null,null,null,null,null,null,null,null,null,null,null,null,null,null,null,null,null,null,null,null,null,null,null,null,null,null,null,null,null,null,null,null,null,{"$f":"Раздел2!D157","v":0}]
[null,"Роуп скиппинг (спортивная скакалка)","150",0,0,0,0,0,0,null,null,null,null,null,null,null,null,null,null,null,null,null,null,null,null,null,null,null,null,null,null,null,null,null,null,null,null,null,null,null,null,null,null,null,null,null,null,null,null,null,null,null,null,null,null,null,null,null,null,null,null,{"$f":"Раздел2!D158","v":0}]
[null,"Рукопашный бой","151",0,0,0,0,0,0,null,null,null,null,null,null,null,null,null,null,null,null,null,null,null,null,null,null,null,null,null,null,null,null,null,null,null,null,null,null,null,null,null,null,null,null,null,null,null,null,null,null,null,null,null,null,null,null,null,null,null,null,{"$f":"Раздел2!D159","v":0}]
[null,"Рыболовный спорт","152",0,0,0,0,0,0,null,null,null,null,null,null,null,null,null,null,null,null,null,null,null,null,null,null,null,null,null,null,null,null,null,null,null,null,null,null,null,null,null,null,null,null,null,null,null,null,null,null,null,null,null,null,null,null,null,null,null,null,{"$f":"Раздел2!D160","v":0}]
[null,"Сават","153",0,0,0,0,0,0,null,null,null,null,null,null,null,null,null,null,null,null,null,null,null,null,null,null,null,null,null,null,null,null,null,null,null,null,null,null,null,null,null,null,null,null,null,null,null,null,null,null,null,null,null,null,null,null,null,null,null,null,{"$f":"Раздел2!D161","v":0}]
[null,"Самбо","154",0,0,0,0,0,0,null,null,null,null,null,null,null,null,null,null,null,null,null,null,null,null,null,null,null,null,null,null,null,null,null,null,null,null,null,null,null,null,null,null,null,null,null,null,null,null,null,null,null,null,null,null,null,null,null,null,null,null,{"$f":"Раздел2!D162","v":0}]
[null,"Самолетный спорт","155",0,0,0,0,0,0,null,null,null,null,null,null,null,null,null,null,null,null,null,null,null,null,null,null,null,null,null,null,null,null,null,null,null,null,null,null,null,null,null,null,null,null,null,null,null,null,null,null,null,null,null,null,null,null,null,null,null,null,{"$f":"Раздел2!D163","v":0}]
[null,"Санный спорт","156",0,0,0,0,0,0,null,null,null,null,null,null,null,null,null,null,null,null,null,null,null,null,null,null,null,null,null,null,null,null,null,null,null,null,null,null,null,null,null,null,null,null,null,null,null,null,null,null,null,null,null,null,null,null,null,null,null,null,{"$f":"Раздел2!D164","v":0}]
[null,"Северное многоборье","157",0,0,0,0,0,0,null,null,null,null,null,null,null,null,null,null,null,null,null,null,null,null,null,null,null,null,null,null,null,null,null,null,null,null,null,null,null,null,null,null,null,null,null,null,null,null,null,null,null,null,null,null,null,null,null,null,null,null,{"$f":"Раздел2!D165","v":0}]
[null,"Серфинг","158",0,0,0,0,0,0,null,null,null,null,null,null,null,null,null,null,null,null,null,null,null,null,null,null,null,null,null,null,null,null,null,null,null,null,null,null,null,null,null,null,null,null,null,null,null,null,null,null,null,null,null,null,null,null,null,null,null,null,{"$f":"Раздел2!D166","v":0}]
[null,"Синхронное плавание","159",0,0,0,0,0,0,null,null,null,null,null,null,null,null,null,null,null,null,null,null,null,null,null,null,null,null,null,null,null,null,null,null,null,null,null,null,null,null,null,null,null,null,null,null,null,null,null,null,null,null,null,null,null,null,null,null,null,null,{"$f":"Раздел2!D167","v":0}]
[null,"Скалолазание","160",0,0,0,0,0,0,null,null,null,null,null,null,null,null,null,null,null,null,null,null,null,null,null,null,null,null,null,null,null,null,null,null,null,null,null,null,null,null,null,null,null,null,null,null,null,null,null,null,null,null,null,null,null,null,null,null,null,null,{"$f":"Раздел2!D168","v":0}]
[null,"Сквош","161",0,0,0,0,0,0,null,null,null,null,null,null,null,null,null,null,null,null,null,null,null,null,null,null,null,null,null,null,null,null,null,null,null,null,null,null,null,null,null,null,null,null,null,null,null,null,null,null,null,null,null,null,null,null,null,null,null,null,{"$f":"Раздел2!D169","v":0}]
[null,"Скейтбординг","162",0,0,0,0,0,0,null,null,null,null,null,null,null,null,null,null,null,null,null,null,null,null,null,null,null,null,null,null,null,null,null,null,null,null,null,null,null,null,null,null,null,null,null,null,null,null,null,null,null,null,null,null,null,null,null,null,null,null,{"$f":"Раздел2!D170","v":0}]
[null,"Служебно-боевая стрельба ","163",0,0,0,0,0,0,null,null,null,null,null,null,null,null,null,null,null,null,null,null,null,null,null,null,null,null,null,null,null,null,null,null,null,null,null,null,null,null,null,null,null,null,null,null,null,null,null,null,null,null,null,null,null,null,null,null,null,null,{"$f":"Раздел2!D171","v":0}]
[null,"Служебно-прикладной спорт","164",0,0,0,0,0,0,null,null,null,null,null,null,null,null,null,null,null,null,null,null,null,null,null,null,null,null,null,null,null,null,null,null,null,null,null,null,null,null,null,null,null,null,null,null,null,null,null,null,null,null,null,null,null,null,null,null,null,null,{"$f":"Раздел2!D172","v":0}]
[null,"Служебно-прикладной спорт ФСО России","165",0,0,0,0,0,0,null,null,null,null,null,null,null,null,null,null,null,null,null,null,null,null,null,null,null,null,null,null,null,null,null,null,null,null,null,null,null,null,null,null,null,null,null,null,null,null,null,null,null,null,null,null,null,null,null,null,null,null,{"$f":"Раздел2!D173","v":0}]
[null,"Служебно-прикладной спорт ФТС России","166",0,0,0,0,0,0,null,null,null,null,null,null,null,null,null,null,null,null,null,null,null,null,null,null,null,null,null,null,null,null,null,null,null,null,null,null,null,null,null,null,null,null,null,null,null,null,null,null,null,null,null,null,null,null,null,null,null,null,{"$f":"Раздел2!D174","v":0}]
[null,"Служебное двоеборье","167",0,0,0,0,0,0,null,null,null,null,null,null,null,null,null,null,null,null,null,null,null,null,null,null,null,null,null,null,null,null,null,null,null,null,null,null,null,null,null,null,null,null,null,null,null,null,null,null,null,null,null,null,null,null,null,null,null,null,{"$f":"Раздел2!D175","v":0}]
[null,"Служебное единоборство","168",0,0,0,0,0,0,null,null,null,null,null,null,null,null,null,null,null,null,null,null,null,null,null,null,null,null,null,null,null,null,null,null,null,null,null,null,null,null,null,null,null,null,null,null,null,null,null,null,null,null,null,null,null,null,null,null,null,null,{"$f":"Раздел2!D176","v":0}]
[null,"Служебное многоборье","169",0,0,0,0,0,0,null,null,null,null,null,null,null,null,null,null,null,null,null,null,null,null,null,null,null,null,null,null,null,null,null,null,null,null,null,null,null,null,null,null,null,null,null,null,null,null,null,null,null,null,null,null,null,null,null,null,null,null,{"$f":"Раздел2!D177","v":0}]
[null,"Служебный биатлон","170",0,0,0,0,0,0,null,null,null,null,null,null,null,null,null,null,null,null,null,null,null,null,null,null,null,null,null,null,null,null,null,null,null,null,null,null,null,null,null,null,null,null,null,null,null,null,null,null,null,null,null,null,null,null,null,null,null,null,{"$f":"Раздел2!D178","v":0}]
[null,"Спасательный спорт","171",0,0,0,0,0,0,null,null,null,null,null,null,null,null,null,null,null,null,null,null,null,null,null,null,null,null,null,null,null,null,null,null,null,null,null,null,null,null,null,null,null,null,null,null,null,null,null,null,null,null,null,null,null,null,null,null,null,null,{"$f":"Раздел2!D179","v":0}]
[null,"Стрельба из боевого ручного стрелкового оружия","172",0,0,0,0,0,0,null,null,null,null,null,null,null,null,null,null,null,null,null,null,null,null,null,null,null,null,null,null,null,null,null,null,null,null,null,null,null,null,null,null,null,null,null,null,null,null,null,null,null,null,null,null,null,null,null,null,null,null,{"$f":"Раздел2!D180","v":0}]
[null,"Стрельба из штатного или табельного оружия","173",0,0,0,0,0,0,null,null,null,null,null,null,null,null,null,null,null,null,null,null,null,null,null,null,null,null,null,null,null,null,null,null,null,null,null,null,null,null,null,null,null,null,null,null,null,null,null,null,null,null,null,null,null,null,null,null,null,null,{"$f":"Раздел2!D181","v":0}]
[null,"Смешанное боевое единоборство (ММА)","174",0,0,0,0,0,0,null,null,null,null,null,null,null,null,null,null,null,null,null,null,null,null,null,null,null,null,null,null,null,null,null,null,null,null,null,null,null,null,null,null,null,null,null,null,null,null,null,null,null,null,null,null,null,null,null,null,null,null,{"$f":"Раздел2!D182","v":0}]
[null,"Сноуборд","175",0,0,0,0,0,0,null,null,null,null,null,null,null,null,null,null,null,null,null,null,null,null,null,null,null,null,null,null,null,null,null,null,null,null,null,null,null,null,null,null,null,null,null,null,null,null,null,null,null,null,null,null,null,null,null,null,null,null,{"$f":"Раздел2!D183","v":0}]
[null,"Современное пятиборье","176",0,0,0,0,0,0,null,null,null,null,null,null,null,null,null,null,null,null,null,null,null,null,null,null,null,null,null,null,null,null,null,null,null,null,null,null,null,null,null,null,null,null,null,null,null,null,null,null,null,null,null,null,null,null,null,null,null,null,{"$f":"Раздел2!D184","v":0}]
[null,"Софтбол","177",0,0,0,0,0,0,null,null,null,null,null,null,null,null,null,null,null,null,null,null,null,null,null,null,null,null,null,null,null,null,null,null,null,null,null,null,null,null,null,null,null,null,null,null,null,null,null,null,null,null,null,null,null,null,null,null,null,null,{"$f":"Раздел2!D185","v":0}]
[null,"Спорт сверхлегкой авиации","178",0,0,0,0,0,0,null,null,null,null,null,null,null,null,null,null,null,null,null,null,null,null,null,null,null,null,null,null,null,null,null,null,null,null,null,null,null,null,null,null,null,null,null,null,null,null,null,null,null,null,null,null,null,null,null,null,null,null,{"$f":"Раздел2!D186","v":0}]
[null,"Спортивная акробатика","179",0,0,0,0,0,0,null,null,null,null,null,null,null,null,null,null,null,null,null,null,null,null,null,null,null,null,null,null,null,null,null,null,null,null,null,null,null,null,null,null,null,null,null,null,null,null,null,null,null,null,null,null,null,null,null,null,null,null,{"$f":"Раздел2!D187","v":0}]
[null,"Спортивная аэробика","180",0,0,0,0,0,0,null,null,null,null,null,null,null,null,null,null,null,null,null,null,null,null,null,null,null,null,null,null,null,null,null,null,null,null,null,null,null,null,null,null,null,null,null,null,null,null,null,null,null,null,null,null,null,null,null,null,null,null,{"$f":"Раздел2!D188","v":0}]
[null,"Спортивная борьба - всего","181",0,0,0,0,0,0,{"$f":"SUM(J189:J193)","v":0},{"$f":"SUM(K189:K193)","v":0},0,0,0,0,0,0,0,0,0,0,0,0,0,0,0,0,0,0,0,0,0,0,0,0,0,0,0,0,0,0,0,0,0,0,0,0,0,0,0,0,0,0,0,0,0,0,0,0,null,null,{"$f":"Раздел2!D189","v":1}]
[null,"в том числе:\nВольная борьба","182",0,0,0,0,0,0,null,null,null,null,null,null,null,null,null,null,null,null,null,null,null,null,null,null,null,null,null,null,null,null,null,null,null,null,null,null,null,null,null,null,null,null,null,null,null,null,null,null,null,null,null,null,null,null,null,null,null,null,{"$f":"Раздел2!D190","v":0}]
[null,"Греко-римская борьба","183",0,0,0,0,0,0,null,null,null,null,null,null,null,null,null,null,null,null,null,null,null,null,null,null,null,null,null,null,null,null,null,null,null,null,null,null,null,null,null,null,null,null,null,null,null,null,null,null,null,null,null,null,null,null,null,null,null,null,{"$f":"Раздел2!D191","v":1}]
[null,"Грэпплинг","184",0,0,0,0,0,0,null,null,null,null,null,null,null,null,null,null,null,null,null,null,null,null,null,null,null,null,null,null,null,null,null,null,null,null,null,null,null,null,null,null,null,null,null,null,null,null,null,null,null,null,null,null,null,null,null,null,null,null,{"$f":"Раздел2!D192","v":0}]
[null,"Грэпплинг-ги","185",0,0,0,0,0,0,null,null,null,null,null,null,null,null,null,null,null,null,null,null,null,null,null,null,null,null,null,null,null,null,null,null,null,null,null,null,null,null,null,null,null,null,null,null,null,null,null,null,null,null,null,null,null,null,null,null,null,null,{"$f":"Раздел2!D193","v":0}]
[null,"Панкратион","186",0,0,0,0,0,0,null,null,null,null,null,null,null,null,null,null,null,null,null,null,null,null,null,null,null,null,null,null,null,null,null,null,null,null,null,null,null,null,null,null,null,null,null,null,null,null,null,null,null,null,null,null,null,null,null,null,null,null,{"$f":"Раздел2!D194","v":0}]
[null,"Спортивная гимнастика","187",0,0,0,0,0,0,null,null,null,null,null,null,null,null,null,null,null,null,null,null,null,null,null,null,null,null,null,null,null,null,null,null,null,null,null,null,null,null,null,null,null,null,null,null,null,null,null,null,null,null,null,null,null,null,null,null,null,null,{"$f":"Раздел2!D195","v":0}]
[null,"Спортивная йога","188",0,0,0,0,0,0,null,null,null,null,null,null,null,null,null,null,null,null,null,null,null,null,null,null,null,null,null,null,null,null,null,null,null,null,null,null,null,null,null,null,null,null,null,null,null,null,null,null,null,null,null,null,null,null,null,null,null,null,{"$f":"Раздел2!D196","v":0}]
[null,"Спортивно-прикладное собаководство","189",0,0,0,0,0,0,null,null,null,null,null,null,null,null,null,null,null,null,null,null,null,null,null,null,null,null,null,null,null,null,null,null,null,null,null,null,null,null,null,null,null,null,null,null,null,null,null,null,null,null,null,null,null,null,null,null,null,null,{"$f":"Раздел2!D197","v":0}]
[null,"Спортивное метание ножа","190",0,0,0,0,0,0,null,null,null,null,null,null,null,null,null,null,null,null,null,null,null,null,null,null,null,null,null,null,null,null,null,null,null,null,null,null,null,null,null,null,null,null,null,null,null,null,null,null,null,null,null,null,null,null,null,null,null,null,{"$f":"Раздел2!D198","v":0}]
[null,"Спортивное ориентирование","191",0,0,0,0,0,0,null,null,null,null,null,null,null,null,null,null,null,null,null,null,null,null,null,null,null,null,null,null,null,null,null,null,null,null,null,null,null,null,null,null,null,null,null,null,null,null,null,null,null,null,null,null,null,null,null,null,null,null,{"$f":"Раздел2!D199","v":0}]
[null,"Спортивный бридж","192",0,0,0,0,0,0,null,null,null,null,null,null,null,null,null,null,null,null,null,null,null,null,null,null,null,null,null,null,null,null,null,null,null,null,null,null,null,null,null,null,null,null,null,null,null,null,null,null,null,null,null,null,null,null,null,null,null,null,{"$f":"Раздел2!D200","v":0}]
[null,"Спортивный туризм","193",0,0,0,0,0,0,null,null,null,null,null,null,null,null,null,null,null,null,null,null,null,null,null,null,null,null,null,null,null,null,null,null,null,null,null,null,null,null,null,null,null,null,null,null,null,null,null,null,null,null,null,null,null,null,null,null,null,null,{"$f":"Раздел2!D201","v":0}]
[null,"Стендовая стрельба - всего","194",{"$f":"SUM(E201:G201)","v":0},{"$f":"SUM(J201,O201,T201,Y201,AD201,AI201,AN201,AS201,AX201,BC201,)","v":0},{"$f":"SUM(K201,P201,U201,Z201,AE201,AJ201,AO201,AT201,AY201,BD201,)","v":0},{"$f":"SUM(L201,Q201,V201,AA201,AF201,AK201,AP201,AU201,AZ201,BE201,)","v":0},{"$f":"SUM(M201,R201,W201,AB201,AG201,AL201,AQ201,AV201,BA201,BF201,)","v":0},{"$f":"SUM(N201,S201,X201,AC201,AH201,AM201,AR201,AW201,BB201,BG201,)","v":0},{"$f":"SUM(J202:J205)","v":0},{"$f":"SUM(K202:K205)","v":0},0,0,0,0,0,0,0,0,0,0,0,0,0,0,0,0,0,0,0,0,0,0,0,0,0,0,0,0,0,0,0,0,0,0,0,0,0,0,0,0,0,0,0,0,0,0,0,0,null,null,{"$f":"Раздел2!D202","v":0}]
[null,"в том числе:\nТрап","195",0,0,0,0,0,0,null,null,null,null,null,null,null,null,null,null,null,null,null,null,null,null,null,null,null,null,null,null,null,null,null,null,null,null,null,null,null,null,null,null,null,null,null,null,null,null,null,null,null,null,null,null,null,null,null,null,null,null,{"$f":"Раздел2!D203","v":0}]
[null,"Скит","196",0,0,0,0,0,0,null,null,null,null,null,null,null,null,null,null,null,null,null,null,null,null,null,null,null,null,null,null,null,null,null,null,null,null,null,null,null,null,null,null,null,null,null,null,null,null,null,null,null,null,null,null,null,null,null,null,null,null,{"$f":"Раздел2!D204","v":0}]
[null,"Дубль-трап","197",0,0,0,0,0,0,null,null,null,null,null,null,null,null,null,null,null,null,null,null,null,null,null,null,null,null,null,null,null,null,null,null,null,null,null,null,null,null,null,null,null,null,null,null,null,null,null,null,null,null,null,null,null,null,null,null,null,null,{"$f":"Раздел2!D205","v":0}]
[null,"Спортинг","198",0,0,0,0,0,0,null,null,null,null,null,null,null,null,null,null,null,null,null,null,null,null,null,null,null,null,null,null,null,null,null,null,null,null,null,null,null,null,null,null,null,null,null,null,null,null,null,null,null,null,null,null,null,null,null,null,null,null,{"$f":"Раздел2!D206","v":0}]
[null,"Страйкбол","199",0,0,0,0,0,0,null,null,null,null,null,null,null,null,null,null,null,null,null,null,null,null,null,null,null,null,null,null,null,null,null,null,null,null,null,null,null,null,null,null,null,null,null,null,null,null,null,null,null,null,null,null,null,null,null,null,null,null,{"$f":"Раздел2!D207","v":0}]
[null,"Стрельба из арбалета","200",0,0,0,0,0,0,null,null,null,null,null,null,null,null,null,null,null,null,null,null,null,null,null,null,null,null,null,null,null,null,null,null,null,null,null,null,null,null,null,null,null,null,null,null,null,null,null,null,null,null,null,null,null,null,null,null,null,null,{"$f":"Раздел2!D208","v":0}]
[null,"Стрельба из лука - всего","201",0,0,0,0,0,0,{"$f":"SUM(J209:J211)","v":0},{"$f":"SUM(K209:K211)","v":0},0,0,0,0,0,0,0,0,0,0,0,0,0,0,0,0,0,0,0,0,0,0,0,0,0,0,0,0,0,0,0,0,0,0,0,0,0,0,0,0,0,0,0,0,0,0,0,0,null,null,{"$f":"Раздел2!D209","v":0}]
[null,"в том числе:\nКлассический лук","202",0,0,0,0,0,0,null,null,null,null,null,null,null,null,null,null,null,null,null,null,null,null,null,null,null,null,null,null,null,null,null,null,null,null,null,null,null,null,null,null,null,null,null,null,null,null,null,null,null,null,null,null,null,null,null,null,null,null,{"$f":"Раздел2!D210","v":0}]
[null,"   Блочный лук","203",0,0,0,0,0,0,null,null,null,null,null,null,null,null,null,null,null,null,null,null,null,null,null,null,null,null,null,null,null,null,null,null,null,null,null,null,null,null,null,null,null,null,null,null,null,null,null,null,null,null,null,null,null,null,null,null,null,null,{"$f":"Раздел2!D211","v":0}]
[null,"   Ачери ","204",0,0,0,0,0,0,null,null,null,null,null,null,null,null,null,null,null,null,null,null,null,null,null,null,null,null,null,null,null,null,null,null,null,null,null,null,null,null,null,null,null,null,null,null,null,null,null,null,null,null,null,null,null,null,null,null,null,null,{"$f":"Раздел2!D212","v":0}]
[null,"Судомодельный спорт","205",0,0,0,0,0,0,null,null,null,null,null,null,null,null,null,null,null,null,null,null,null,null,null,null,null,null,null,null,null,null,null,null,null,null,null,null,null,null,null,null,null,null,null,null,null,null,null,null,null,null,null,null,null,null,null,null,null,null,{"$f":"Раздел2!D213","v":0}]
[null,"Сумо","206",0,0,0,0,0,0,null,null,null,null,null,null,null,null,null,null,null,null,null,null,null,null,null,null,null,null,null,null,null,null,null,null,null,null,null,null,null,null,null,null,null,null,null,null,null,null,null,null,null,null,null,null,null,null,null,null,null,null,{"$f":"Раздел2!D214","v":0}]
[null,"Таврели","207",0,0,0,0,0,0,null,null,null,null,null,null,null,null,null,null,null,null,null,null,null,null,null,null,null,null,null,null,null,null,null,null,null,null,null,null,null,null,null,null,null,null,null,null,null,null,null,null,null,null,null,null,null,null,null,null,null,null,{"$f":"Раздел2!D215","v":0}]
[null,"Тайский бокс","208",0,0,0,0,0,0,null,null,null,null,null,null,null,null,null,null,null,null,null,null,null,null,null,null,null,null,null,null,null,null,null,null,null,null,null,null,null,null,null,null,null,null,null,null,null,null,null,null,null,null,null,null,null,null,null,null,null,null,{"$f":"Раздел2!D216","v":0}]
[null,"Танцевальный спорт","209",0,0,0,0,0,0,null,null,null,null,null,null,null,null,null,null,null,null,null,null,null,null,null,null,null,null,null,null,null,null,null,null,null,null,null,null,null,null,null,null,null,null,null,null,null,null,null,null,null,null,null,null,null,null,null,null,null,null,{"$f":"Раздел2!D217","v":0}]
[null,"Теннис","210",0,0,0,0,0,0,null,null,null,null,null,null,null,null,null,null,null,null,null,null,null,null,null,null,null,null,null,null,null,null,null,null,null,null,null,null,null,null,null,null,null,null,null,null,null,null,null,null,null,null,null,null,null,null,null,null,null,null,{"$f":"Раздел2!D218","v":0}]
[null,"Триатлон","211",0,0,0,0,0,0,null,null,null,null,null,null,null,null,null,null,null,null,null,null,null,null,null,null,null,null,null,null,null,null,null,null,null,null,null,null,null,null,null,null,null,null,null,null,null,null,null,null,null,null,null,null,null,null,null,null,null,null,{"$f":"Раздел2!D219","v":0}]
[null,"Тхэквондо (ВТФ)","212",0,0,0,0,0,0,null,null,null,null,null,null,null,null,null,null,null,null,null,null,null,null,null,null,null,null,null,null,null,null,null,null,null,null,null,null,null,null,null,null,null,null,null,null,null,null,null,null,null,null,null,null,null,null,null,null,null,null,{"$f":"Раздел2!D220","v":0}]
[null,"Тхэквондо ГТФ","213",0,0,0,0,0,0,null,null,null,null,null,null,null,null,null,null,null,null,null,null,null,null,null,null,null,null,null,null,null,null,null,null,null,null,null,null,null,null,null,null,null,null,null,null,null,null,null,null,null,null,null,null,null,null,null,null,null,null,{"$f":"Раздел2!D221","v":0}]
[null,"Тхэквондо ИТФ","214",0,0,0,0,0,0,null,null,null,null,null,null,null,null,null,null,null,null,null,null,null,null,null,null,null,null,null,null,null,null,null,null,null,null,null,null,null,null,null,null,null,null,null,null,null,null,null,null,null,null,null,null,null,null,null,null,null,null,{"$f":"Раздел2!D222","v":0}]
[null,"Тхэквондо МФТ","215",0,0,0,0,0,0,null,null,null,null,null,null,null,null,null,null,null,null,null,null,null,null,null,null,null,null,null,null,null,null,null,null,null,null,null,null,null,null,null,null,null,null,null,null,null,null,null,null,null,null,null,null,null,null,null,null,null,null,{"$f":"Раздел2!D223","v":0}]
[null,"Тяжелая атлетика","216",0,0,0,0,0,0,null,null,null,null,null,null,null,null,null,null,null,null,null,null,null,null,null,null,null,null,null,null,null,null,null,null,null,null,null,null,null,null,null,null,null,null,null,null,null,null,null,null,null,null,null,null,null,null,null,null,null,null,{"$f":"Раздел2!D224","v":0}]
[null,"Универсальный бой","217",0,0,0,0,0,0,null,null,null,null,null,null,null,null,null,null,null,null,null,null,null,null,null,null,null,null,null,null,null,null,null,null,null,null,null,null,null,null,null,null,null,null,null,null,null,null,null,null,null,null,null,null,null,null,null,null,null,null,{"$f":"Раздел2!D225","v":0}]
[null,"Ушу","218",0,0,0,0,0,0,null,null,null,null,null,null,null,null,null,null,null,null,null,null,null,null,null,null,null,null,null,null,null,null,null,null,null,null,null,null,null,null,null,null,null,null,null,null,null,null,null,null,null,null,null,null,null,null,null,null,null,null,{"$f":"Раздел2!D226","v":0}]
[null,"Фехтование - всего","219",0,0,0,0,0,0,{"$f":"SUM(J227:J230)","v":0},{"$f":"SUM(K227:K230)","v":0},0,0,0,0,0,0,0,0,0,0,0,0,0,0,0,0,0,0,0,0,0,0,0,0,0,0,0,0,0,0,0,0,0,0,0,0,0,0,0,0,0,0,0,0,0,0,0,0,null,null,{"$f":"Раздел2!D227","v":0}]
[null,"в том числе:\nРапира","220",0,0,0,0,0,0,null,null,null,null,null,null,null,null,null,null,null,null,null,null,null,null,null,null,null,null,null,null,null,null,null,null,null,null,null,null,null,null,null,null,null,null,null,null,null,null,null,null,null,null,null,null,null,null,null,null,null,null,{"$f":"Раздел2!D228","v":0}]
[null,"Сабля","221",0,0,0,0,0,0,null,null,null,null,null,null,null,null,null,null,null,null,null,null,null,null,null,null,null,null,null,null,null,null,null,null,null,null,null,null,null,null,null,null,null,null,null,null,null,null,null,null,null,null,null,null,null,null,null,null,null,null,{"$f":"Раздел2!D229","v":0}]
[null,"Шпага","222",0,0,0,0,0,0,null,null,null,null,null,null,null,null,null,null,null,null,null,null,null,null,null,null,null,null,null,null,null,null,null,null,null,null,null,null,null,null,null,null,null,null,null,null,null,null,null,null,null,null,null,null,null,null,null,null,null,null,{"$f":"Раздел2!D230","v":0}]
[null,"Арт-фехтование","223",0,0,0,0,0,0,null,null,null,null,null,null,null,null,null,null,null,null,null,null,null,null,null,null,null,null,null,null,null,null,null,null,null,null,null,null,null,null,null,null,null,null,null,null,null,null,null,null,null,null,null,null,null,null,null,null,null,null,{"$f":"Раздел2!D231","v":0}]
[null,"Фигурное катание на коньках","224",0,0,0,0,0,0,null,null,null,null,null,null,null,null,null,null,null,null,null,null,null,null,null,null,null,null,null,null,null,null,null,null,null,null,null,null,null,null,null,null,null,null,null,null,null,null,null,null,null,null,null,null,null,null,null,null,null,null,{"$f":"Раздел2!D232","v":0}]
[null,"Фитнес-аэробика","225",0,0,0,0,0,0,null,null,null,null,null,null,null,null,null,null,null,null,null,null,null,null,null,null,null,null,null,null,null,null,null,null,null,null,null,null,null,null,null,null,null,null,null,null,null,null,null,null,null,null,null,null,null,null,null,null,null,null,{"$f":"Раздел2!D233","v":0}]
[null,"Флаинг диск","226",0,0,0,0,0,0,null,null,null,null,null,null,null,null,null,null,null,null,null,null,null,null,null,null,null,null,null,null,null,null,null,null,null,null,null,null,null,null,null,null,null,null,null,null,null,null,null,null,null,null,null,null,null,null,null,null,null,null,{"$f":"Раздел2!D234","v":0}]
[null,"Флорбол","227",0,0,0,0,0,0,null,null,null,null,null,null,null,null,null,null,null,null,null,null,null,null,null,null,null,null,null,null,null,null,null,null,null,null,null,null,null,null,null,null,null,null,null,null,null,null,null,null,null,null,null,null,null,null,null,null,null,null,{"$f":"Раздел2!D235","v":0}]
[null,"Фристайл - всего","228",0,0,0,0,0,0,{"$f":"SUM(J236:J241)","v":0},{"$f":"SUM(K236:K241)","v":0},0,0,0,0,0,0,0,0,0,0,0,0,0,0,0,0,0,0,0,0,0,0,0,0,0,0,0,0,0,0,0,0,0,0,0,0,0,0,0,0,0,0,0,0,0,0,0,0,null,null,{"$f":"Раздел2!D236","v":0}]
[null,"в том числе:\nАкробатика","229",0,0,0,0,0,0,null,null,null,null,null,null,null,null,null,null,null,null,null,null,null,null,null,null,null,null,null,null,null,null,null,null,null,null,null,null,null,null,null,null,null,null,null,null,null,null,null,null,null,null,null,null,null,null,null,null,null,null,{"$f":"Раздел2!D237","v":0}]
[null,"Биг-эйр","230",0,0,0,0,0,0,null,null,null,null,null,null,null,null,null,null,null,null,null,null,null,null,null,null,null,null,null,null,null,null,null,null,null,null,null,null,null,null,null,null,null,null,null,null,null,null,null,null,null,null,null,null,null,null,null,null,null,null,{"$f":"Раздел2!D238","v":0}]
[null,"Могул","231",0,0,0,0,0,0,null,null,null,null,null,null,null,null,null,null,null,null,null,null,null,null,null,null,null,null,null,null,null,null,null,null,null,null,null,null,null,null,null,null,null,null,null,null,null,null,null,null,null,null,null,null,null,null,null,null,null,null,{"$f":"Раздел2!D239","v":0}]
[null,"Ски-кросс","232",0,0,0,0,0,0,null,null,null,null,null,null,null,null,null,null,null,null,null,null,null,null,null,null,null,null,null,null,null,null,null,null,null,null,null,null,null,null,null,null,null,null,null,null,null,null,null,null,null,null,null,null,null,null,null,null,null,null,{"$f":"Раздел2!D240","v":0}]
[null,"Хаф-пайп","233",0,0,0,0,0,0,null,null,null,null,null,null,null,null,null,null,null,null,null,null,null,null,null,null,null,null,null,null,null,null,null,null,null,null,null,null,null,null,null,null,null,null,null,null,null,null,null,null,null,null,null,null,null,null,null,null,null,null,{"$f":"Раздел2!D241","v":0}]
[null,"Слоуп-стайл","234",0,0,0,0,0,0,null,null,null,null,null,null,null,null,null,null,null,null,null,null,null,null,null,null,null,null,null,null,null,null,null,null,null,null,null,null,null,null,null,null,null,null,null,null,null,null,null,null,null,null,null,null,null,null,null,null,null,null,{"$f":"Раздел2!D242","v":0}]
[null,"Функциональное многоборье","235",0,0,0,0,0,0,null,null,null,null,null,null,null,null,null,null,null,null,null,null,null,null,null,null,null,null,null,null,null,null,null,null,null,null,null,null,null,null,null,null,null,null,null,null,null,null,null,null,null,null,null,null,null,null,null,null,null,null,{"$f":"Раздел2!D243","v":0}]
[null,"Футбол - всего","236",0,0,0,0,0,0,{"$f":"SUM(J244:J249)","v":0},{"$f":"SUM(K244:K249)","v":0},0,0,0,0,0,0,0,0,0,0,0,0,0,0,0,0,0,0,0,0,0,0,0,0,0,0,0,0,0,0,0,0,0,0,0,0,0,0,0,0,0,0,0,0,0,0,0,0,null,null,{"$f":"Раздел2!D244","v":1}]
[null,"в том числе:\nФутбол (муж.)","237",0,0,0,0,0,0,null,null,null,null,null,null,null,null,null,null,null,null,null,null,null,null,null,null,null,null,null,null,null,null,null,null,null,null,null,null,null,null,null,null,null,null,null,null,null,null,null,null,null,null,null,null,null,null,null,null,null,null,{"$f":"Раздел2!D245","v":1}]
[null,"Футбол (жен.)","238",0,0,0,0,0,0,null,null,null,null,null,null,null,null,null,null,null,null,null,null,null,null,null,null,null,null,null,null,null,null,null,null,null,null,null,null,null,null,null,null,null,null,null,null,null,null,null,null,null,null,null,null,null,null,null,null,null,null,{"$f":"Раздел2!D246","v":0}]
[null,"Мини-футбол (футзал)","239",0,0,0,0,0,0,null,null,null,null,null,null,null,null,null,null,null,null,null,null,null,null,null,null,null,null,null,null,null,null,null,null,null,null,null,null,null,null,null,null,null,null,null,null,null,null,null,null,null,null,null,null,null,null,null,null,null,null,{"$f":"Раздел2!D247","v":0}]
[null,"Пляжный футбол","240",0,0,0,0,0,0,null,null,null,null,null,null,null,null,null,null,null,null,null,null,null,null,null,null,null,null,null,null,null,null,null,null,null,null,null,null,null,null,null,null,null,null,null,null,null,null,null,null,null,null,null,null,null,null,null,null,null,null,{"$f":"Раздел2!D248","v":0}]
[null,"Футбол 6х6, 7х7, 8х8","241",0,0,0,0,0,0,null,null,null,null,null,null,null,null,null,null,null,null,null,null,null,null,null,null,null,null,null,null,null,null,null,null,null,null,null,null,null,null,null,null,null,null,null,null,null,null,null,null,null,null,null,null,null,null,null,null,null,null,{"$f":"Раздел2!D249","v":0}]
[null,"Интерактивный футбол","242",0,0,0,0,0,0,null,null,null,null,null,null,null,null,null,null,null,null,null,null,null,null,null,null,null,null,null,null,null,null,null,null,null,null,null,null,null,null,null,null,null,null,null,null,null,null,null,null,null,null,null,null,null,null,null,null,null,null,{"$f":"Раздел2!D250","v":0}]
[null,"Футгольф","243",0,0,0,0,0,0,null,null,null,null,null,null,null,null,null,null,null,null,null,null,null,null,null,null,null,null,null,null,null,null,null,null,null,null,null,null,null,null,null,null,null,null,null,null,null,null,null,null,null,null,null,null,null,null,null,null,null,null,{"$f":"Раздел2!D251","v":0}]
[null,"Хапкидо","244",0,0,0,0,0,0,null,null,null,null,null,null,null,null,null,null,null,null,null,null,null,null,null,null,null,null,null,null,null,null,null,null,null,null,null,null,null,null,null,null,null,null,null,null,null,null,null,null,null,null,null,null,null,null,null,null,null,null,{"$f":"Раздел2!D252","v":0}]
[null,"Хапсагай","245",0,0,0,0,0,0,null,null,null,null,null,null,null,null,null,null,null,null,null,null,null,null,null,null,null,null,null,null,null,null,null,null,null,null,null,null,null,null,null,null,null,null,null,null,null,null,null,null,null,null,null,null,null,null,null,null,null,null,{"$f":"Раздел2!D253","v":0}]
[null,"Хоккей - всего","246",0,0,0,0,0,0,{"$f":"SUM(J254:J255)","v":0},{"$f":"SUM(K254:K255)","v":0},0,0,0,0,0,0,0,0,0,0,0,0,0,0,0,0,0,0,0,0,0,0,0,0,0,0,0,0,0,0,0,0,0,0,0,0,0,0,0,0,0,0,0,0,0,0,0,0,null,null,{"$f":"Раздел2!D254","v":0}]
[null,"в том числе:\nХоккей (муж.)","247",0,0,0,0,0,0,null,null,null,null,null,null,null,null,null,null,null,null,null,null,null,null,null,null,null,null,null,null,null,null,null,null,null,null,null,null,null,null,null,null,null,null,null,null,null,null,null,null,null,null,null,null,null,null,null,null,null,null,{"$f":"Раздел2!D255","v":0}]
[null,"Хоккей (жен.)","248",0,0,0,0,0,0,null,null,null,null,null,null,null,null,null,null,null,null,null,null,null,null,null,null,null,null,null,null,null,null,null,null,null,null,null,null,null,null,null,null,null,null,null,null,null,null,null,null,null,null,null,null,null,null,null,null,null,null,{"$f":"Раздел2!D256","v":0}]
[null,"Хоккей на траве - всего","249",0,0,0,0,0,0,{"$f":"SUM(J257:J259)","v":0},{"$f":"SUM(K257:K259)","v":0},0,0,0,0,0,0,0,0,0,0,0,0,0,0,0,0,0,0,0,0,0,0,0,0,0,0,0,0,0,0,0,0,0,0,0,0,0,0,0,0,0,0,0,0,0,0,0,0,null,null,{"$f":"Раздел2!D257","v":0}]
[null,"в том числе:\nХоккей на траве (муж.)","250",0,0,0,0,0,0,null,null,null,null,null,null,null,null,null,null,null,null,null,null,null,null,null,null,null,null,null,null,null,null,null,null,null,null,null,null,null,null,null,null,null,null,null,null,null,null,null,null,null,null,null,null,null,null,null,null,null,null,{"$f":"Раздел2!D258","v":0}]
[null,"Хоккей на траве (жен.)","251",0,0,0,0,0,0,null,null,null,null,null,null,null,null,null,null,null,null,null,null,null,null,null,null,null,null,null,null,null,null,null,null,null,null,null,null,null,null,null,null,null,null,null,null,null,null,null,null,null,null,null,null,null,null,null,null,null,null,{"$f":"Раздел2!D259","v":0}]
[null,"Индорхоккей","252",0,0,0,0,0,0,null,null,null,null,null,null,null,null,null,null,null,null,null,null,null,null,null,null,null,null,null,null,null,null,null,null,null,null,null,null,null,null,null,null,null,null,null,null,null,null,null,null,null,null,null,null,null,null,null,null,null,null,{"$f":"Раздел2!D260","v":0}]
[null,"Хоккей с мячом","253",0,0,0,0,0,0,null,null,null,null,null,null,null,null,null,null,null,null,null,null,null,null,null,null,null,null,null,null,null,null,null,null,null,null,null,null,null,null,null,null,null,null,null,null,null,null,null,null,null,null,null,null,null,null,null,null,null,null,{"$f":"Раздел2!D261","v":0}]
[null,"Художественная гимнастика","254",0,0,0,0,0,0,null,null,null,null,null,null,null,null,null,null,null,null,null,null,null,null,null,null,null,null,null,null,null,null,null,null,null,null,null,null,null,null,null,null,null,null,null,null,null,null,null,null,null,null,null,null,null,null,null,null,null,null,{"$f":"Раздел2!D262","v":1}]
[null,"Хуреш","255",0,0,0,0,0,0,null,null,null,null,null,null,null,null,null,null,null,null,null,null,null,null,null,null,null,null,null,null,null,null,null,null,null,null,null,null,null,null,null,null,null,null,null,null,null,null,null,null,null,null,null,null,null,null,null,null,null,null,{"$f":"Раздел2!D263","v":0}]
[null,"Чир спорт","256",0,0,0,0,0,0,null,null,null,null,null,null,null,null,null,null,null,null,null,null,null,null,null,null,null,null,null,null,null,null,null,null,null,null,null,null,null,null,null,null,null,null,null,null,null,null,null,null,null,null,null,null,null,null,null,null,null,null,{"$f":"Раздел2!D264","v":0}]
[null,"Шахматы","257",0,0,0,0,0,0,null,null,null,null,null,null,null,null,null,null,null,null,null,null,null,null,null,null,null,null,null,null,null,null,null,null,null,null,null,null,null,null,null,null,null,null,null,null,null,null,null,null,null,null,null,null,null,null,null,null,null,null,{"$f":"Раздел2!D265","v":0}]
[null,"Шашки","258",{"$f":"SUM(E265:G265)","v":0},{"$f":"SUM(J265,O265,T265,Y265,AD265,AI265,AN265,AS265,AX265,BC265,)","v":0},{"$f":"SUM(K265,P265,U265,Z265,AE265,AJ265,AO265,AT265,AY265,BD265,)","v":0},{"$f":"SUM(L265,Q265,V265,AA265,AF265,AK265,AP265,AU265,AZ265,BE265,)","v":0},{"$f":"SUM(M265,R265,W265,AB265,AG265,AL265,AQ265,AV265,BA265,BF265,)","v":0},{"$f":"SUM(N265,S265,X265,AC265,AH265,AM265,AR265,AW265,BB265,BG265,)","v":0},null,null,null,null,null,null,null,null,null,null,null,null,null,null,null,null,null,null,null,null,null,null,null,null,null,null,null,null,null,null,null,null,null,null,null,null,null,null,null,null,null,null,null,null,null,null,null,null,null,null,null,null,{"$f":"Раздел2!D266","v":0}]
[null,"Шодсанлат","259",0,0,0,0,0,0,null,null,null,null,null,null,null,null,null,null,null,null,null,null,null,null,null,null,null,null,null,null,null,null,null,null,null,null,null,null,null,null,null,null,null,null,null,null,null,null,null,null,null,null,null,null,null,null,null,null,null,null,{"$f":"Раздел2!D267","v":0}]
[null,"Эстетическая гимнастика","260",0,0,0,0,0,0,null,null,null,null,null,null,null,null,null,null,null,null,null,null,null,null,null,null,null,null,null,null,null,null,null,null,null,null,null,null,null,null,null,null,null,null,null,null,null,null,null,null,null,null,null,null,null,null,null,null,null,null,{"$f":"Раздел2!D268","v":0}]
[null,"Якутские национальные прыжки","261",0,{"$f":"SUM(J268,O268,T268,Y268,AD268,AI268,AN268,AS268,AX268,BC268,)","v":0},0,{"$f":"SUM(L268,Q268,V268,AA268,AF268,AK268,AP268,AU268,AZ268,BE268,)","v":0},0,{"$f":"SUM(N268,S268,X268,AC268,AH268,AM268,AR268,AW268,BB268,BG268,)","v":0},null,null,null,null,null,null,null,null,null,null,null,null,null,null,null,null,null,null,null,null,null,null,null,null,null,null,null,null,null,null,null,null,null,null,null,null,null,null,null,null,null,null,null,null,null,null,null,null,null,null,null,null,{"$f":"Раздел2!D269","v":0}]
[null,"ИТОГО","262",0,0,0,0,0,0,{"$f":"SUM(J8:J19,J22:J25,J28:J33,J44:J49,J54:J56,J38:J41,J60:J70,J75:J84,J88:J94,J97:J102,J110:J115,J116:J124,J127:J132,J135,J140:J141,J147:J150,J155:J160,J161:J175,J176:J188,J194:J201,J206:J208,J212:J216,J217:J226,J231:J235,J242:J243,J250:J253,J256,J260:J268)","v":0},{"$f":"SUM(K8:K19,K22:K25,K28:K33,K44:K49,K54:K56,K38:K41,K60:K70,K75:K84,K88:K94,K97:K102,K110:K115,K116:K124,K127:K132,K135,K140:K141,K147:K150,K155:K160,K161:K175,K176:K188,K194:K201,K206:K208,K212:K216,K217:K226,K231:K235,K242:K243,K250:K253,K256,K260:K268)","v":0},0,0,0,0,0,0,0,0,0,0,0,0,0,0,0,0,0,0,{"$f":"SUM(AD8:AD19,AD22:AD25,AD28:AD33,AD44:AD49,AD54:AD56,AD38:AD41,AD60:AD70,AD75:AD84,AD88:AD94,AD97:AD102,AD110:AD115,AD116:AD124,AD127:AD132,AD135,AD140:AD141,AD147:AD150,AD155:AD160,AD161:AD175,AD176:AD188,AD194:AD201,AD206:AD208,AD212:AD216,AD217:AD226,AD231:AD235,AD242:AD243,AD250:AD253,AD256,AD260:AD268)","v":0},0,0,0,0,0,0,0,0,0,0,0,0,0,0,0,0,0,0,0,0,0,0,0,0,0,0,0,0,0]

{"sheet":"Раздел9","index":9,"n_rows":272,"n_cols":40,"rows_kept":272,"cut":false,"hidden":false,"merged":[[3,14,3,22],[3,23,3,27],[4,27,7,27],[4,23,5,26],[4,18,7,18],[4,19,7,19],[4,20,4,22],[5,14,7,14],[5,15,7,15],[5,16,6,17],[5,20,7,20],[5,21,7,21],[5,22,7,22],[4,14,4,17],[4,3,7,3],[3,5,3,13],[5,7,6,8],[5,6,7,6],[5,5,7,5],[4,9,7,9],[4,10,7,10],[4,11,4,13],[5,11,7,11],[5,12,7,12],[5,13,7,13],[4,4,7,4],[2,1,7,1],[2,2,7,2],[2,3,2,27],[2,28,2,29],[0,0,126,0],[0,1,0,27],[1,23,1,29],[3,28,5,29],[6,28,7,28],[6,29,7,29],[6,23,7,23],[6,24,7,24],[6,25,7,25],[6,26,7,26],[3,3,3,4],[4,5,4,8]]}
[null,"Раздел IX. Тренерский состав"]
[null,null,null,null,null,null,null,null,null,null,null,null,null,null,null,null,null,null,null,null,null,null,null,"Код по ОКЕИ: человек – 792"]
[null,"Виды спорта","№ строки","Тренеры",null,null,null,null,null,null,null,null,null,null,null,null,null,null,null,null,null,null,null,null,null,null,null,null,"Тренеры-преподаватели"]
[null,null,null,"Число тренеров",null,"штатные тренеры:",null,null,null,null,null,null,null,null,"совместители:",null,null,null,null,null,null,null,null,"из гр.4:",null,null,null,null,"Число тренеров-преподавателей"]
[null,null,null,"Всего","в том числе штатных","профессиональное образование",null,null,null,"Профессиональная переподготовка (за отчетный год)","Повышение квалификации (за отчетный год)","квалификационные категории",null,null,"профессиональное образование",null,null,null,"Профессиональная переподготовка (за отчетный год)","Повышение квалификации (за отчетный год)","квалификационные категории",null,null,"в возрасте:",null,null,null,"Звание «Заслуженный тренер России»"]
[null,null,null,null,null,"высшее","среднее","в том числе\nфизкультурное",null,null,null,"Высшая","Первая","Вторая","высшее","среднее","в том числе\nфизкультурное",null,null,null,"Высшая","Первая","Вторая"]
[null,null,null,null,null,null,null,null,null,null,null,null,null,null,null,null,null,null,null,null,null,null,null,"до 35 лет","35-49 лет","49-65 лет","старше 65 лет",null,"Всего","в том числе штатных"]
[null,null,null,null,null,null,null,"высшее","среднее",null,null,null,null,null,null,null,"высшее","среднее"]
[null,1,2,3,4,5,6,7,8,9,10,11,12,13,14,15,16,17,18,19,20,21,22,23,24,25,26,27,28,29,null,"гр 3-4","ЦСП"]
[null,"Авиамодельный спорт","01",null,null,null,null,null,null,null,null,null,null,null,null,null,null,null,null,null,null,null,null,null,null,null,null,null,null,null,0,{"$f":"D10-E10","v":0},0,{"$f":"Раздел2!D9","v":0},0,0,0,0,0,0]
[null,"Автомобильный спорт","02",null,null,null,null,null,null,null,null,null,null,null,null,null,null,null,null,null,null,null,null,null,null,null,null,null,null,null,0,{"$f":"D11-E11","v":0},0,{"$f":"Раздел2!D10","v":0},0,0,0,0,0,0]
[null,"Автомодельный спорт","03",null,null,null,null,null,null,null,null,null,null,null,null,null,null,null,null,null,null,null,null,null,null,null,null,null,null,null,0,0,0,{"$f":"Раздел2!D11","v":0},0,0,0,0,0,0]
[null,"Айкидо","04",null,null,null,null,null,null,null,null,null,null,null,null,null,null,null,null,null,null,null,null,null,null,null,null,null,null,null,0,0,0,{"$f":"Раздел2!D12","v":0},0,0,0,0,0,0]
[null,"Айсшток","05",null,null,null,null,null,null,null,null,null,null,null,null,null,null,null,null,null,null,null,null,null,null,null,null,null,null,null,0,0,0,{"$f":"Раздел2!D13","v":0},0,0,0,0,0,0]
[null,"Акробатический рок-н-ролл","06",null,null,null,null,null,null,null,null,null,null,null,null,null,null,null,null,null,null,null,null,null,null,null,null,null,null,null,0,0,0,{"$f":"Раздел2!D14","v":0},0,0,0,0,0,0]
[null,"Альпинизм","07",null,null,null,null,null,null,null,null,null,null,null,null,null,null,null,null,null,null,null,null,null,null,null,null,null,null,null,0,0,0,{"$f":"Раздел2!D15","v":0},0,0,0,0,0,0]
[null,"Американский футбол","08",null,null,null,null,null,null,null,null,null,null,null,null,null,null,null,null,null,null,null,null,null,null,null,null,null,null,null,0,0,0,{"$f":"Раздел2!D16","v":0},0,0,0,0,0,0]
[null,"Армейский рукопашный бой","09",null,null,null,null,null,null,null,null,null,null,null,null,null,null,null,null,null,null,null,null,null,null,null,null,null,null,null,0,0,0,{"$f":"Раздел2!D17","v":0},0,0,0,0,0,0]
[null,"Армрестлинг","10",null,null,null,null,null,null,null,null,null,null,null,null,null,null,null,null,null,null,null,null,null,null,null,null,null,null,null,0,0,0,{"$f":"Раздел2!D18","v":0},0,0,0,0,0,0]
[null,"Бадминтон","11",null,null,null,null,null,null,null,null,null,null,null,null,null,null,null,null,null,null,null,null,null,null,null,null,null,null,null,0,0,0,{"$f":"Раздел2!D19","v":0},0,0,0,0,0,0]
[null,"Баскетбол - всего","12",{"$f":"SUM(D22:D23)","v":5},{"$f":"SUM(E22:E23)","v":1},0,1,0,1,0,0,0,1,0,2,2,2,2,0,0,0,0,0,0,1,0,0,0,0,0,0,4,0,{"$f":"Раздел2!D20","v":1},0,0,0,0,0,0]
[null,"в том числе:\nБаскетбол (муж.)","13",5,1,null,1,null,1,null,null,null,1,null,2,2,2,2,null,null,null,null,null,null,1,null,null,null,null,null,0,4,0,{"$f":"Раздел2!D21","v":1},0,0,0,0,0,0]
[null,"Баскетбол (жен.)","14",null,null,null,null,null,null,null,null,null,null,null,null,null,null,null,null,null,null,null,null,null,null,null,null,null,null,null,0,0,0,{"$f":"Раздел2!D22","v":0},0,0,0,0,0,0]
[null,"Бейсбол","15",null,null,null,null,null,null,null,null,null,null,null,null,null,null,null,null,null,null,null,null,null,null,null,null,null,null,null,0,0,0,{"$f":"Раздел2!D23","v":0},0,0,0,0,0,0]
[null,"Биатлон","16",null,null,null,null,null,null,null,null,null,null,null,null,null,null,null,null,null,null,null,null,null,null,null,null,null,null,null,0,0,0,{"$f":"Раздел2!D24","v":0},0,0,0,0,0,0]
[null,"Бильярдный спорт","17",null,null,null,null,null,null,null,null,null,null,null,null,null,null,null,null,null,null,null,null,null,null,null,null,null,null,null,0,0,0,{"$f":"Раздел2!D25","v":0},0,0,0,0,0,0]
[null,"Бобслей - всего","18",{"$f":"SUM(D28:D29)","v":0},{"$f":"SUM(E28:E29)","v":0},0,0,0,0,0,0,0,0,0,0,0,0,0,0,0,0,0,0,0,0,0,0,0,0,0,0,0,0,{"$f":"Раздел2!D26","v":0},0,0,0,0,0,0]
[null,"в том числе:\nБобслей","19",null,null,null,null,null,null,null,null,null,null,null,null,null,null,null,null,null,null,null,null,null,null,null,null,null,null,null,0,0,0,{"$f":"Раздел2!D27","v":0},0,0,0,0,0,0]
[null,"Скелетон","20",null,null,null,null,null,null,null,null,null,null,null,null,null,null,null,null,null,null,null,null,null,null,null,null,null,null,null,0,0,0,{"$f":"Раздел2!D28","v":0},0,0,0,0,0,0]
[null,"Бодибилдинг","21",null,null,null,null,null,null,null,null,null,null,null,null,null,null,null,null,null,null,null,null,null,null,null,null,null,null,null,0,0,0,{"$f":"Раздел2!D29","v":0},0,0,0,0,0,0]
[null,"Бокс","22",3,2,1,1,1,null,null,null,null,1,null,1,null,null,null,null,null,null,null,null,null,null,1,1,null,null,null,0,1,0,{"$f":"Раздел2!D30","v":1},0,0,0,0,0,0]
[null,"Борьба на поясах","23",null,null,null,null,null,null,null,null,null,null,null,null,null,null,null,null,null,null,null,null,null,null,null,null,null,null,null,0,0,0,{"$f":"Раздел2!D31","v":0},0,0,0,0,0,0]
[null,"Боулинг","24",null,null,null,null,null,null,null,null,null,null,null,null,null,null,null,null,null,null,null,null,null,null,null,null,null,null,null,0,0,0,{"$f":"Раздел2!D32","v":0},0,0,0,0,0,0]
[null,"Боулспорт","25",null,null,null,null,null,null,null,null,null,null,null,null,null,null,null,null,null,null,null,null,null,null,null,null,null,null,null,null,0,null,{"$f":"Раздел2!D33","v":0}]
[null,"Велосипедный спорт - всего","26",{"$f":"SUM(D36:D39)","v":0},{"$f":"SUM(E36:E39)","v":0},0,0,0,0,0,0,0,0,0,0,0,0,0,0,0,0,0,0,0,0,0,0,0,0,0,0,0,0,{"$f":"Раздел2!D34","v":0},0,0,0,0,0,0]
[null,"в том числе:\nBMX","27",null,null,null,null,null,null,null,null,null,null,null,null,null,null,null,null,null,null,null,null,null,null,null,null,null,null,null,0,0,0,{"$f":"Раздел2!D35","v":0},0,0,0,0,0,0]
[null,"Маунтинбайк","28",null,null,null,null,null,null,null,null,null,null,null,null,null,null,null,null,null,null,null,null,null,null,null,null,null,null,null,0,0,0,{"$f":"Раздел2!D36","v":0},0,0,0,0,0,0]
[null,"Трек","29",null,null,null,null,null,null,null,null,null,null,null,null,null,null,null,null,null,null,null,null,null,null,null,null,null,null,null,0,0,0,{"$f":"Раздел2!D37","v":0},0,0,0,0,0,0]
[null,"Шоссе","30",null,null,null,null,null,null,null,null,null,null,null,null,null,null,null,null,null,null,null,null,null,null,null,null,null,null,null,0,0,0,{"$f":"Раздел2!D38","v":0},0,0,0,0,0,0]
[null,"Вертолетный спорт","31",null,null,null,null,null,null,null,null,null,null,null,null,null,null,null,null,null,null,null,null,null,null,null,null,null,null,null,0,0,0,{"$f":"Раздел2!D39","v":0},0,0,0,0,0,0]
[null,"Водно-моторный спорт","32",null,null,null,null,null,null,null,null,null,null,null,null,null,null,null,null,null,null,null,null,null,null,null,null,null,null,null,0,0,0,{"$f":"Раздел2!D40","v":0},0,0,0,0,0,0]
[null,"Водно-спасательное многоборье","33",null,null,null,null,null,null,null,null,null,null,null,null,null,null,null,null,null,null,null,null,null,null,null,null,null,null,null,0,0,0,{"$f":"Раздел2!D41","v":0},0,0,0,0,0,0]
[null,"Водное поло - всего ","34",{"$f":"SUM(D44:D45)","v":0},{"$f":"SUM(E44:E45)","v":0},0,0,0,0,0,0,0,0,0,0,0,0,0,0,0,0,0,0,0,0,0,0,0,0,0,0,0,0,{"$f":"Раздел2!D42","v":0},0,0,0,0,0,0]
[null,"в том числе:\nВодное поло (муж.)","35",null,null,null,null,null,null,null,null,null,null,null,null,null,null,null,null,null,null,null,null,null,null,null,null,null,null,null,0,0,0,{"$f":"Раздел2!D43","v":0},0,0,0,0,0,0]
[null,"Водное поло (жен.)","36",null,null,null,null,null,null,null,null,null,null,null,null,null,null,null,null,null,null,null,null,null,null,null,null,null,null,null,0,0,0,{"$f":"Раздел2!D44","v":0},0,0,0,0,0,0]
[null,"Воднолыжный спорт","37",null,null,null,null,null,null,null,null,null,null,null,null,null,null,null,null,null,null,null,null,null,null,null,null,null,null,null,0,0,0,{"$f":"Раздел2!D45","v":0},0,0,0,0,0,0]
[null,"Военно-прикладной спорт","38",null,null,null,null,null,null,null,null,null,null,null,null,null,null,null,null,null,null,null,null,null,null,null,null,null,null,null,0,0,0,{"$f":"Раздел2!D46","v":0},0,0,0,0,0,0]
[null,"Военно-спортивное многоборье","39",null,null,null,null,null,null,null,null,null,null,null,null,null,null,null,null,null,null,null,null,null,null,null,null,null,null,null,0,0,0,{"$f":"Раздел2!D47","v":0},0,0,0,0,0,0]
[null,"Воздухоплавательный спорт","40",null,null,null,null,null,null,null,null,null,null,null,null,null,null,null,null,null,null,null,null,null,null,null,null,null,null,null,0,0,0,{"$f":"Раздел2!D48","v":0},0,0,0,0,0,0]
[null,"Воздушно-силовая атлетика","41",null,null,null,null,null,null,null,null,null,null,null,null,null,null,null,null,null,null,null,null,null,null,null,null,null,null,null,null,0,null,{"$f":"Раздел2!D49","v":0}]
[null,"Волейбол - всего","42",{"$f":"SUM(D52:D55)","v":0},{"$f":"SUM(E52:E55)","v":0},0,0,0,0,0,0,0,0,0,0,0,0,0,0,0,0,0,0,0,0,0,0,0,0,0,0,0,0,{"$f":"Раздел2!D50","v":0},0,0,0,0,0,0]
[null,"в том числе:\nВолейбол (муж.)","43",null,null,null,null,null,null,null,null,null,null,null,null,null,null,null,null,null,null,null,null,null,null,null,null,null,null,null,0,0,0,{"$f":"Раздел2!D51","v":0},0,0,0,0,0,0]
[null,"Волейбол (жен.)","44",null,null,null,null,null,null,null,null,null,null,null,null,null,null,null,null,null,null,null,null,null,null,null,null,null,null,null,0,0,0,{"$f":"Раздел2!D52","v":0},0,0,0,0,0,0]
[null,"Пляжный волейбол (муж.)","45",null,null,null,null,null,null,null,null,null,null,null,null,null,null,null,null,null,null,null,null,null,null,null,null,null,null,null,0,0,0,{"$f":"Раздел2!D53","v":0},0,0,0,0,0,0]
[null,"Пляжный волейбол (жен.)","46",null,null,null,null,null,null,null,null,null,null,null,null,null,null,null,null,null,null,null,null,null,null,null,null,null,null,null,0,0,0,{"$f":"Раздел2!D54","v":0},0,0,0,0,0,0]
[null,"Восточное боевое единоборство","47",null,null,null,null,null,null,null,null,null,null,null,null,null,null,null,null,null,null,null,null,null,null,null,null,null,null,null,0,0,0,{"$f":"Раздел2!D55","v":0},0,0,0,0,0,0]
[null,"Всестилевое каратэ","48",null,null,null,null,null,null,null,null,null,null,null,null,null,null,null,null,null,null,null,null,null,null,null,null,null,null,null,0,0,0,{"$f":"Раздел2!D56","v":0},0,0,0,0,0,0]
[null,"Гандбол - всего","49",{"$f":"SUM(D59:D61)","v":0},{"$f":"SUM(E59:E61)","v":0},0,0,0,0,0,0,0,0,0,0,0,0,0,0,0,0,0,0,0,0,0,0,0,0,0,0,0,0,{"$f":"Раздел2!D57","v":0},0,0,0,0,0,0]
[null,"в том числе:\nГандбол (муж.)","50",null,null,null,null,null,null,null,null,null,null,null,null,null,null,null,null,null,null,null,null,null,null,null,null,null,null,null,0,0,0,{"$f":"Раздел2!D58","v":0},0,0,0,0,0,0]
[null,"Гандбол (жен.)","51",null,null,null,null,null,null,null,null,null,null,null,null,null,null,null,null,null,null,null,null,null,null,null,null,null,null,null,0,0,0,{"$f":"Раздел2!D59","v":0},0,0,0,0,0,0]
[null,"Пляжный гандбол","52",null,null,null,null,null,null,null,null,null,null,null,null,null,null,null,null,null,null,null,null,null,null,null,null,null,null,null,0,0,0,{"$f":"Раздел2!D60","v":0},0,0,0,0,0,0]
[null,"Гиревой спорт","53",null,null,null,null,null,null,null,null,null,null,null,null,null,null,null,null,null,null,null,null,null,null,null,null,null,null,null,0,0,0,{"$f":"Раздел2!D61","v":0},0,0,0,0,0,0]
[null,"Го","54",null,null,null,null,null,null,null,null,null,null,null,null,null,null,null,null,null,null,null,null,null,null,null,null,null,null,null,0,0,0,{"$f":"Раздел2!D62","v":0},0,0,0,0,0,0]
[null,"Гольф","55",null,null,null,null,null,null,null,null,null,null,null,null,null,null,null,null,null,null,null,null,null,null,null,null,null,null,null,0,0,0,{"$f":"Раздел2!D63","v":0},0,0,0,0,0,0]
[null,"Гонки на охотничьих лыжах","56",null,null,null,null,null,null,null,null,null,null,null,null,null,null,null,null,null,null,null,null,null,null,null,null,null,null,null,0,0,0,{"$f":"Раздел2!D64","v":0},0,0,0,0,0,0]
[null,"Гонки с препятствиями","57",null,null,null,null,null,null,null,null,null,null,null,null,null,null,null,null,null,null,null,null,null,null,null,null,null,null,null,null,0,null,{"$f":"Раздел2!D65","v":0}]
[null,"Горнолыжный спорт","58",null,null,null,null,null,null,null,null,null,null,null,null,null,null,null,null,null,null,null,null,null,null,null,null,null,null,null,0,0,0,{"$f":"Раздел2!D66","v":0},0,0,0,0,0,0]
[null,"Городошный спорт","59",null,null,null,null,null,null,null,null,null,null,null,null,null,null,null,null,null,null,null,null,null,null,null,null,null,null,null,0,0,0,{"$f":"Раздел2!D67","v":0},0,0,0,0,0,0]
[null,"Гребля на байдарках и каноэ","60",null,null,null,null,null,null,null,null,null,null,null,null,null,null,null,null,null,null,null,null,null,null,null,null,null,null,null,0,0,0,{"$f":"Раздел2!D68","v":0},0,0,0,0,0,0]
[null,"Гребля на шлюпках","61",null,null,null,null,null,null,null,null,null,null,null,null,null,null,null,null,null,null,null,null,null,null,null,null,null,null,null,0,0,0,{"$f":"Раздел2!D69","v":0},0,0,0,0,0,0]
[null,"Гребной слалом","62",null,null,null,null,null,null,null,null,null,null,null,null,null,null,null,null,null,null,null,null,null,null,null,null,null,null,null,0,0,0,{"$f":"Раздел2!D70","v":0},0,0,0,0,0,0]
[null,"Гребной спорт - всего","63",{"$f":"SUM(D73:D76)","v":0},{"$f":"SUM(E73:E76)","v":0},0,0,0,0,0,0,0,0,0,0,0,0,0,0,0,0,0,0,0,0,0,0,0,0,0,0,0,0,{"$f":"Раздел2!D71","v":0},0,0,0,0,0,0]
[null,"в том числе:\nАкадемическая гребля","64",null,null,null,null,null,null,null,null,null,null,null,null,null,null,null,null,null,null,null,null,null,null,null,null,null,null,null,0,0,0,{"$f":"Раздел2!D72","v":0},0,0,0,0,0,0]
[null,"Гребля-индор","65",null,null,null,null,null,null,null,null,null,null,null,null,null,null,null,null,null,null,null,null,null,null,null,null,null,null,null,0,0,0,{"$f":"Раздел2!D73","v":0},0,0,0,0,0,0]
[null,"Народная гребля","66",null,null,null,null,null,null,null,null,null,null,null,null,null,null,null,null,null,null,null,null,null,null,null,null,null,null,null,0,{"$f":"D75-E75","v":0},0,{"$f":"Раздел2!D74","v":0},0,0,0,0,0,0]
[null,"Прибрежная гребля","67",null,null,null,null,null,null,null,null,null,null,null,null,null,null,null,null,null,null,null,null,null,null,null,null,null,null,null,0,0,0,{"$f":"Раздел2!D75","v":0},0,0,0,0,0,0]
[null,"Гребно-парусное двоеборье","68",null,null,null,null,null,null,null,null,null,null,null,null,null,null,null,null,null,null,null,null,null,null,null,null,null,null,null,0,0,0,{"$f":"Раздел2!D76","v":0},0,0,0,0,0,0]
[null,"Дартс","69",null,null,null,null,null,null,null,null,null,null,null,null,null,null,null,null,null,null,null,null,null,null,null,null,null,null,null,0,0,0,{"$f":"Раздел2!D77","v":0},0,0,0,0,0,0]
[null,"Джиу-джитсу","70",null,null,null,null,null,null,null,null,null,null,null,null,null,null,null,null,null,null,null,null,null,null,null,null,null,null,null,0,0,0,{"$f":"Раздел2!D78","v":0},0,0,0,0,0,0]
[null,"Дзюдо","71",null,null,null,null,null,null,null,null,null,null,null,null,null,null,null,null,null,null,null,null,null,null,null,null,null,null,null,0,0,0,{"$f":"Раздел2!D79","v":0},0,0,0,0,0,0]
[null,"Ездовой спорт","72",null,null,null,null,null,null,null,null,null,null,null,null,null,null,null,null,null,null,null,null,null,null,null,null,null,null,null,0,0,0,{"$f":"Раздел2!D80","v":0},0,0,0,0,0,0]
[null,"Капоэйра","73",null,null,null,null,null,null,null,null,null,null,null,null,null,null,null,null,null,null,null,null,null,null,null,null,null,null,null,0,0,0,{"$f":"Раздел2!D81","v":0},0,0,0,0,0,0]
[null,"Каратэ","74",null,null,null,null,null,null,null,null,null,null,null,null,null,null,null,null,null,null,null,null,null,null,null,null,null,null,null,0,0,0,{"$f":"Раздел2!D82","v":0},0,0,0,0,0,0]
[null,"Кендо","75",null,null,null,null,null,null,null,null,null,null,null,null,null,null,null,null,null,null,null,null,null,null,null,null,null,null,null,0,0,0,{"$f":"Раздел2!D83","v":0},0,0,0,0,0,0]
[null,"Керешу","76",null,null,null,null,null,null,null,null,null,null,null,null,null,null,null,null,null,null,null,null,null,null,null,null,null,null,null,0,0,0,{"$f":"Раздел2!D84","v":0},0,0,0,0,0,0]
[null,"Кёрлинг - всего","77",{"$f":"SUM(D87:D89)","v":0},{"$f":"SUM(E87:E89)","v":0},0,0,0,0,0,0,0,0,0,0,0,0,0,0,0,0,0,0,0,0,0,0,0,0,0,0,0,0,{"$f":"Раздел2!D85","v":0},0,0,0,0,0,0]
[null,"в том числе:\nКерлинг (муж.)","78",null,null,null,null,null,null,null,null,null,null,null,null,null,null,null,null,null,null,null,null,null,null,null,null,null,null,null,0,0,0,{"$f":"Раздел2!D86","v":0},0,0,0,0,0,0]
[null,"Керлинг (жен.)","79",null,null,null,null,null,null,null,null,null,null,null,null,null,null,null,null,null,null,null,null,null,null,null,null,null,null,null,0,0,0,{"$f":"Раздел2!D87","v":0},0,0,0,0,0,0]
[null,"Кёрлинг – смешанные пары","80",null,null,null,null,null,null,null,null,null,null,null,null,null,null,null,null,null,null,null,null,null,null,null,null,null,null,null,0,0,0,{"$f":"Раздел2!D88","v":0},0,0,0,0,0,0]
[null,"Кикбоксинг","81",null,null,null,null,null,null,null,null,null,null,null,null,null,null,null,null,null,null,null,null,null,null,null,null,null,null,null,0,0,0,{"$f":"Раздел2!D89","v":0},0,0,0,0,0,0]
[null,"Кинологический спорт","82",null,null,null,null,null,null,null,null,null,null,null,null,null,null,null,null,null,null,null,null,null,null,null,null,null,null,null,0,0,0,{"$f":"Раздел2!D90","v":0},0,0,0,0,0,0]
[null,"Киокусинкай","83",null,null,null,null,null,null,null,null,null,null,null,null,null,null,null,null,null,null,null,null,null,null,null,null,null,null,null,0,0,0,{"$f":"Раздел2!D91","v":0},0,0,0,0,0,0]
[null,"Комплексное единоборство","84",null,null,null,null,null,null,null,null,null,null,null,null,null,null,null,null,null,null,null,null,null,null,null,null,null,null,null,0,0,0,{"$f":"Раздел2!D92","v":0},0,0,0,0,0,0]
[null,"Компьютерный спорт","85",null,null,null,null,null,null,null,null,null,null,null,null,null,null,null,null,null,null,null,null,null,null,null,null,null,null,null,0,0,0,{"$f":"Раздел2!D93","v":0},0,0,0,0,0,0]
[null,"Конный спорт","86",null,null,null,null,null,null,null,null,null,null,null,null,null,null,null,null,null,null,null,null,null,null,null,null,null,null,null,0,0,0,{"$f":"Раздел2!D94","v":0},0,0,0,0,0,0]
[null,"Конькобежный спорт - всего","87",{"$f":"SUM(D97:D98)","v":0},{"$f":"SUM(E97:E98)","v":0},0,0,0,0,0,0,0,0,0,0,0,0,0,0,0,0,0,0,0,0,0,0,0,0,0,0,0,0,{"$f":"Раздел2!D95","v":0},0,0,0,0,0,0]
[null,"в том числе:\nКонькобежный спорт","88",null,null,null,null,null,null,null,null,null,null,null,null,null,null,null,null,null,null,null,null,null,null,null,null,null,null,null,0,0,0,{"$f":"Раздел2!D96","v":0},0,0,0,0,0,0]
[null,"Шорт-трек","89",null,null,null,null,null,null,null,null,null,null,null,null,null,null,null,null,null,null,null,null,null,null,null,null,null,null,null,0,0,0,{"$f":"Раздел2!D97","v":0},0,0,0,0,0,0]
[null,"Корэш","90",null,null,null,null,null,null,null,null,null,null,null,null,null,null,null,null,null,null,null,null,null,null,null,null,null,null,null,0,0,0,{"$f":"Раздел2!D98","v":0},0,0,0,0,0,0]
[null,"Корфбол","91",null,null,null,null,null,null,null,null,null,null,null,null,null,null,null,null,null,null,null,null,null,null,null,null,null,null,null,0,0,0,{"$f":"Раздел2!D99","v":0},0,0,0,0,0,0]
[null,"Крикет","92",null,null,null,null,null,null,null,null,null,null,null,null,null,null,null,null,null,null,null,null,null,null,null,null,null,null,null,null,0,null,{"$f":"Раздел2!D100","v":0}]
[null,"Кудо","93",null,null,null,null,null,null,null,null,null,null,null,null,null,null,null,null,null,null,null,null,null,null,null,null,null,null,null,0,0,0,{"$f":"Раздел2!D101","v":0},0,0,0,0,0,0]
[null,"Лапта","94",null,null,null,null,null,null,null,null,null,null,null,null,null,null,null,null,null,null,null,null,null,null,null,null,null,null,null,0,0,0,{"$f":"Раздел2!D102","v":0},0,0,0,0,0,0]
[null,"Легкая атлетика - всего","95",{"$f":"SUM(D105:D111)","v":11},{"$f":"SUM(E105:E111)","v":3},2,1,2,1,0,0,2,0,0,8,0,8,0,0,0,2,0,0,1,1,0,1,0,0,0,0,8,0,{"$f":"Раздел2!D103","v":1},0,0,0,0,0,0]
[null,"в том числе:\nСпринтерский и барьерный бег","96",null,null,null,null,null,null,null,null,null,null,null,null,null,null,null,null,null,null,null,null,null,null,null,null,null,null,null,0,0,0,{"$f":"Раздел2!D104","v":0},0,0,0,0,0,0]
[null,"Бег на средние дистанции и бег с препятствиями","97",null,null,null,null,null,null,null,null,null,null,null,null,null,null,null,null,null,null,null,null,null,null,null,null,null,null,null,0,0,0,{"$f":"Раздел2!D105","v":0},0,0,0,0,0,0]
[null,"Бег на длинные и сверхдлинные дистанции","98",null,null,null,null,null,null,null,null,null,null,null,null,null,null,null,null,null,null,null,null,null,null,null,null,null,null,null,0,0,0,{"$f":"Раздел2!D106","v":0},0,0,0,0,0,0]
[null,"Многоборья","99",11,3,2,1,2,1,null,null,2,null,null,8,null,8,null,null,null,2,null,null,1,1,null,1,null,null,null,0,8,0,{"$f":"Раздел2!D107","v":1},0,0,0,0,0,0]
[null,"Прыжки","100",null,null,null,null,null,null,null,null,null,null,null,null,null,null,null,null,null,null,null,null,null,null,null,null,null,null,null,0,0,0,{"$f":"Раздел2!D108","v":0},0,0,0,0,0,0]
[null,"Метания","101",null,null,null,null,null,null,null,null,null,null,null,null,null,null,null,null,null,null,null,null,null,null,null,null,null,null,null,0,0,0,{"$f":"Раздел2!D109","v":0},0,0,0,0,0,0]
[null,"Спортивная ходьба","102",null,null,null,null,null,null,null,null,null,null,null,null,null,null,null,null,null,null,null,null,null,null,null,null,null,null,null,0,0,0,{"$f":"Раздел2!D110","v":0},0,0,0,0,0,0]
[null,"Лыжное двоеборье","103",null,null,null,null,null,null,null,null,null,null,null,null,null,null,null,null,null,null,null,null,null,null,null,null,null,null,null,0,0,0,{"$f":"Раздел2!D111","v":0},0,0,0,0,0,0]
[null,"Лыжные гонки","104",null,null,null,null,null,null,null,null,null,null,null,null,null,null,null,null,null,null,null,null,null,null,null,null,null,null,null,0,0,0,{"$f":"Раздел2!D112","v":0},0,0,0,0,0,0]
[null,"Мас-рестлинг","105",null,null,null,null,null,null,null,null,null,null,null,null,null,null,null,null,null,null,null,null,null,null,null,null,null,null,null,0,0,0,{"$f":"Раздел2!D113","v":0},0,0,0,0,0,0]
[null,"Международное военно-спортивное многоборье","106",null,null,null,null,null,null,null,null,null,null,null,null,null,null,null,null,null,null,null,null,null,null,null,null,null,null,null,0,0,0,{"$f":"Раздел2!D114","v":0},0,0,0,0,0,0]
[null,"Многоборье кинологов","107",null,null,null,null,null,null,null,null,null,null,null,null,null,null,null,null,null,null,null,null,null,null,null,null,null,null,null,0,0,0,{"$f":"Раздел2!D115","v":0},0,0,0,0,0,0]
[null,"Многоборье спасателей МЧС России","108",null,null,null,null,null,null,null,null,null,null,null,null,null,null,null,null,null,null,null,null,null,null,null,null,null,null,null,0,0,0,{"$f":"Раздел2!D116","v":0},0,0,0,0,0,0]
[null,"Морское многоборье","109",null,null,null,null,null,null,null,null,null,null,null,null,null,null,null,null,null,null,null,null,null,null,null,null,null,null,null,0,0,0,{"$f":"Раздел2!D117","v":0},0,0,0,0,0,0]
[null,"Мотоциклетный спорт","110",null,null,null,null,null,null,null,null,null,null,null,null,null,null,null,null,null,null,null,null,null,null,null,null,null,null,null,0,0,0,{"$f":"Раздел2!D118","v":0},0,0,0,0,0,0]
[null,"Настольный теннис","111",null,null,null,null,null,null,null,null,null,null,null,null,null,null,null,null,null,null,null,null,null,null,null,null,null,null,null,0,0,0,{"$f":"Раздел2!D119","v":0},0,0,0,0,0,0]
[null,"Падел","112",null,null,null,null,null,null,null,null,null,null,null,null,null,null,null,null,null,null,null,null,null,null,null,null,null,null,null,null,0,null,{"$f":"Раздел2!D120","v":0}]
[null,"Парашютный спорт","113",null,null,null,null,null,null,null,null,null,null,null,null,null,null,null,null,null,null,null,null,null,null,null,null,null,null,null,0,0,0,{"$f":"Раздел2!D121","v":0},0,0,0,0,0,0]
[null,"Парусный спорт","114",null,null,null,null,null,null,null,null,null,null,null,null,null,null,null,null,null,null,null,null,null,null,null,null,null,null,null,0,0,0,{"$f":"Раздел2!D122","v":0},0,0,0,0,0,0]
[null,"Пауэрлифтинг","115",null,null,null,null,null,null,null,null,null,null,null,null,null,null,null,null,null,null,null,null,null,null,null,null,null,null,null,0,0,0,{"$f":"Раздел2!D123","v":0},0,0,0,0,0,0]
[null,"Перетягивание каната","116",null,null,null,null,null,null,null,null,null,null,null,null,null,null,null,null,null,null,null,null,null,null,null,null,null,null,null,0,0,0,{"$f":"Раздел2!D124","v":0},0,0,0,0,0,0]
[null,"Плавание - всего","117",{"$f":"SUM(D127:D128)","v":2},{"$f":"SUM(E127:E128)","v":2},2,0,2,0,0,0,0,0,0,0,0,0,0,0,0,0,0,0,1,1,0,0,0,0,0,0,0,0,{"$f":"Раздел2!D125","v":1},0,0,0,0,0,0]
[null,"в том числе:\nПлавание ","118",2,2,2,null,2,null,null,null,null,null,null,null,null,null,null,null,null,null,null,null,1,1,null,null,null,null,null,0,0,0,{"$f":"Раздел2!D126","v":1},0,0,0,0,0,0]
[null,"Открытая вода","119",null,null,null,null,null,null,null,null,null,null,null,null,null,null,null,null,null,null,null,null,null,null,null,null,null,null,null,0,0,0,{"$f":"Раздел2!D127","v":0},0,0,0,0,0,0]
[null,"Планерный спорт","120",null,null,null,null,null,null,null,null,null,null,null,null,null,null,null,null,null,null,null,null,null,null,null,null,null,null,null,0,0,0,{"$f":"Раздел2!D128","v":0},0,0,0,0,0,0]
[null,"Подводный спорт","121",null,null,null,null,null,null,null,null,null,null,null,null,null,null,null,null,null,null,null,null,null,null,null,null,null,null,null,0,0,0,{"$f":"Раздел2!D129","v":0},0,0,0,0,0,0]
[null,"Пожарно-спасательный спорт","122",null,null,null,null,null,null,null,null,null,null,null,null,null,null,null,null,null,null,null,null,null,null,null,null,null,null,null,0,0,0,{"$f":"Раздел2!D130","v":0},0,0,0,0,0,0]
[null,"Полиатлон","123",null,null,null,null,null,null,null,null,null,null,null,null,null,null,null,null,null,null,null,null,null,null,null,null,null,null,null,0,0,0,{"$f":"Раздел2!D131","v":0},0,0,0,0,0,0]
[null,"Практическая стрельба","124",null,null,null,null,null,null,null,null,null,null,null,null,null,null,null,null,null,null,null,null,null,null,null,null,null,null,null,0,0,0,{"$f":"Раздел2!D132","v":0},0,0,0,0,0,0]
[null,"Прыжки в воду - всего","125",{"$f":"SUM(D135:D136)","v":0},{"$f":"SUM(E135:E136)","v":0},0,0,0,0,0,0,0,0,0,0,0,0,0,0,0,0,0,0,0,0,0,0,0,0,0,0,0,0,{"$f":"Раздел2!D133","v":0},0,0,0,0,0,0]
[null,"в том числе:\nПрыжки в воду","126",null,null,null,null,null,null,null,null,null,null,null,null,null,null,null,null,null,null,null,null,null,null,null,null,null,null,null,0,0,0,{"$f":"Раздел2!D134","v":0},0,0,0,0,0,0]
[null,"Прыжки в открытый водоем","127",null,null,null,null,null,null,null,null,null,null,null,null,null,null,null,null,null,null,null,null,null,null,null,null,null,null,null,0,0,0,{"$f":"Раздел2!D135","v":0},0,0,0,0,0,0]
[null,"Прыжки на батуте - всего","128",{"$f":"SUM(D138:D141)","v":0},{"$f":"SUM(E138:E141)","v":0},0,0,0,0,0,0,0,0,0,0,0,0,0,0,0,0,0,0,0,0,0,0,0,0,0,0,0,0,{"$f":"Раздел2!D136","v":0},0,0,0,0,0,0]
[null,"в том числе:\nАкробатическая дорожка","129",null,null,null,null,null,null,null,null,null,null,null,null,null,null,null,null,null,null,null,null,null,null,null,null,null,null,null,0,0,0,{"$f":"Раздел2!D137","v":0},0,0,0,0,0,0]
[null,"Двойной минитрамп","130",null,null,null,null,null,null,null,null,null,null,null,null,null,null,null,null,null,null,null,null,null,null,null,null,null,null,null,0,{"$f":"D139-E139","v":0},0,{"$f":"Раздел2!D138","v":0},0,0,0,0,0,0]
[null,"Индивидуальные прыжки","131",null,null,null,null,null,null,null,null,null,null,null,null,null,null,null,null,null,null,null,null,null,null,null,null,null,null,null,0,0,0,{"$f":"Раздел2!D139","v":0},0,0,0,0,0,0]
[null,"Синхронные прыжки","132",null,null,null,null,null,null,null,null,null,null,null,null,null,null,null,null,null,null,null,null,null,null,null,null,null,null,null,0,0,0,{"$f":"Раздел2!D140","v":0},0,0,0,0,0,0]
[null,"Прыжки на лыжах с трамплина","133",null,null,null,null,null,null,null,null,null,null,null,null,null,null,null,null,null,null,null,null,null,null,null,null,null,null,null,0,0,0,{"$f":"Раздел2!D141","v":0},0,0,0,0,0,0]
[null,"Пулевая стрельба - всего","134",{"$f":"SUM(D144:D148)","v":0},{"$f":"SUM(E144:E148)","v":0},0,0,0,0,0,0,0,0,0,0,0,0,0,0,0,0,0,0,0,0,0,0,0,0,0,0,0,0,{"$f":"Раздел2!D142","v":0},0,0,0,0,0,0]
[null,"в том числе:\nПневматическая винтовка","135",null,null,null,null,null,null,null,null,null,null,null,null,null,null,null,null,null,null,null,null,null,null,null,null,null,null,null,0,0,0,{"$f":"Раздел2!D143","v":0},0,0,0,0,0,0]
[null,"Пневматический пистолет","136",null,null,null,null,null,null,null,null,null,null,null,null,null,null,null,null,null,null,null,null,null,null,null,null,null,null,null,0,0,0,{"$f":"Раздел2!D144","v":0},0,0,0,0,0,0]
[null,"Малокалиберная винтовка","137",null,null,null,null,null,null,null,null,null,null,null,null,null,null,null,null,null,null,null,null,null,null,null,null,null,null,null,0,0,0,{"$f":"Раздел2!D145","v":0},0,0,0,0,0,0]
[null,"Малокалиберный пистолет","138",null,null,null,null,null,null,null,null,null,null,null,null,null,null,null,null,null,null,null,null,null,null,null,null,null,null,null,0,0,0,{"$f":"Раздел2!D146","v":0},0,0,0,0,0,0]
[null,"Движущаяся мишень","139",null,null,null,null,null,null,null,null,null,null,null,null,null,null,null,null,null,null,null,null,null,null,null,null,null,null,null,0,0,0,{"$f":"Раздел2!D147","v":0},0,0,0,0,0,0]
[null,"Пэйнтбол","140",null,null,null,null,null,null,null,null,null,null,null,null,null,null,null,null,null,null,null,null,null,null,null,null,null,null,null,0,0,0,{"$f":"Раздел2!D148","v":0},0,0,0,0,0,0]
[null,"Радиоспорт","141",null,null,null,null,null,null,null,null,null,null,null,null,null,null,null,null,null,null,null,null,null,null,null,null,null,null,null,0,0,0,{"$f":"Раздел2!D149","v":0},0,0,0,0,0,0]
[null,"Рафтинг","142",null,null,null,null,null,null,null,null,null,null,null,null,null,null,null,null,null,null,null,null,null,null,null,null,null,null,null,0,0,0,{"$f":"Раздел2!D150","v":0},0,0,0,0,0,0]
[null,"Регби - всего","143",{"$f":"SUM(D153:D156)","v":0},{"$f":"SUM(E153:E156)","v":0},0,0,0,0,0,0,0,0,0,0,0,0,0,0,0,0,0,0,0,0,0,0,0,0,0,0,0,0,{"$f":"Раздел2!D151","v":0},0,0,0,0,0,0]
[null,"в том числе:\nРегби","144",null,null,null,null,null,null,null,null,null,null,null,null,null,null,null,null,null,null,null,null,null,null,null,null,null,null,null,0,0,0,{"$f":"Раздел2!D152","v":0},0,0,0,0,0,0]
[null,"Регби 7 (муж.)","145",null,null,null,null,null,null,null,null,null,null,null,null,null,null,null,null,null,null,null,null,null,null,null,null,null,null,null,0,0,0,{"$f":"Раздел2!D153","v":0},0,0,0,0,0,0]
[null,"Регби 7 (жен.)","146",null,null,null,null,null,null,null,null,null,null,null,null,null,null,null,null,null,null,null,null,null,null,null,null,null,null,null,0,0,0,{"$f":"Раздел2!D154","v":0},0,0,0,0,0,0]
[null,"Регби - пляжное","147",null,null,null,null,null,null,null,null,null,null,null,null,null,null,null,null,null,null,null,null,null,null,null,null,null,null,null,0,0,0,{"$f":"Раздел2!D155","v":0},0,0,0,0,0,0]
[null,"Регбол","148",null,null,null,null,null,null,null,null,null,null,null,null,null,null,null,null,null,null,null,null,null,null,null,null,null,null,null,0,0,0,{"$f":"Раздел2!D156","v":0},0,0,0,0,0,0]
[null,"Роллер спорт","149",null,null,null,null,null,null,null,null,null,null,null,null,null,null,null,null,null,null,null,null,null,null,null,null,null,null,null,0,0,0,{"$f":"Раздел2!D157","v":0},0,0,0,0,0,0]
[null,"Роуп скиппинг (спортивная скакалка)","150",null,null,null,null,null,null,null,null,null,null,null,null,null,null,null,null,null,null,null,null,null,null,null,null,null,null,null,null,0,null,{"$f":"Раздел2!D158","v":0}]
[null,"Рукопашный бой","151",null,null,null,null,null,null,null,null,null,null,null,null,null,null,null,null,null,null,null,null,null,null,null,null,null,null,null,0,0,0,{"$f":"Раздел2!D159","v":0},0,0,0,0,0,0]
[null,"Рыболовный спорт","152",null,null,null,null,null,null,null,null,null,null,null,null,null,null,null,null,null,null,null,null,null,null,null,null,null,null,null,0,0,0,{"$f":"Раздел2!D160","v":0},0,0,0,0,0,0]
[null,"Сават","153",null,null,null,null,null,null,null,null,null,null,null,null,null,null,null,null,null,null,null,null,null,null,null,null,null,null,null,0,0,0,{"$f":"Раздел2!D161","v":0},0,0,0,0,0,0]
[null,"Самбо","154",null,null,null,null,null,null,null,null,null,null,null,null,null,null,null,null,null,null,null,null,null,null,null,null,null,null,null,0,0,0,{"$f":"Раздел2!D162","v":0},0,0,0,0,0,0]
[null,"Самолетный спорт","155",null,null,null,null,null,null,null,null,null,null,null,null,null,null,null,null,null,null,null,null,null,null,null,null,null,null,null,0,0,0,{"$f":"Раздел2!D163","v":0},0,0,0,0,0,0]
[null,"Санный спорт","156",null,null,null,null,null,null,null,null,null,null,null,null,null,null,null,null,null,null,null,null,null,null,null,null,null,null,null,0,0,0,{"$f":"Раздел2!D164","v":0},0,0,0,0,0,0]
[null,"Северное многоборье","157",null,null,null,null,null,null,null,null,null,null,null,null,null,null,null,null,null,null,null,null,null,null,null,null,null,null,null,0,0,0,{"$f":"Раздел2!D165","v":0},0,0,0,0,0,0]
[null,"Серфинг","158",null,null,null,null,null,null,null,null,null,null,null,null,null,null,null,null,null,null,null,null,null,null,null,null,null,null,null,0,0,0,{"$f":"Раздел2!D166","v":0},0,0,0,0,0,0]
[null,"Синхронное плавание","159",null,null,null,null,null,null,null,null,null,null,null,null,null,null,null,null,null,null,null,null,null,null,null,null,null,null,null,0,0,0,{"$f":"Раздел2!D167","v":0},0,0,0,0,0,0]
[null,"Скалолазание","160",null,null,null,null,null,null,null,null,null,null,null,null,null,null,null,null,null,null,null,null,null,null,null,null,null,null,null,0,0,0,{"$f":"Раздел2!D168","v":0},0,0,0,0,0,0]
[null,"Сквош","161",null,null,null,null,null,null,null,null,null,null,null,null,null,null,null,null,null,null,null,null,null,null,null,null,null,null,null,0,0,0,{"$f":"Раздел2!D169","v":0},0,0,0,0,0,0]
[null,"Скейтбординг","162",null,null,null,null,null,null,null,null,null,null,null,null,null,null,null,null,null,null,null,null,null,null,null,null,null,null,null,0,0,0,{"$f":"Раздел2!D170","v":0},0,0,0,0,0,0]
[null,"Служебно-боевая стрельба ","163",null,null,null,null,null,null,null,null,null,null,null,null,null,null,null,null,null,null,null,null,null,null,null,null,null,null,null,0,0,0,{"$f":"Раздел2!D171","v":0},0,0,0,0,0,0]
[null,"Служебно-прикладной спорт","164",null,null,null,null,null,null,null,null,null,null,null,null,null,null,null,null,null,null,null,null,null,null,null,null,null,null,null,0,0,0,{"$f":"Раздел2!D172","v":0},0,0,0,0,0,0]
[null,"Служебно-прикладной спорт ФСО России","165",null,null,null,null,null,null,null,null,null,null,null,null,null,null,null,null,null,null,null,null,null,null,null,null,null,null,null,0,0,0,{"$f":"Раздел2!D173","v":0},0,0,0,0,0,0]
[null,"Служебно-прикладной спорт ФТС России","166",null,null,null,null,null,null,null,null,null,null,null,null,null,null,null,null,null,null,null,null,null,null,null,null,null,null,null,0,0,0,{"$f":"Раздел2!D174","v":0},0,0,0,0,0,0]
[null,"Служебное двоеборье","167",null,null,null,null,null,null,null,null,null,null,null,null,null,null,null,null,null,null,null,null,null,null,null,null,null,null,null,0,0,0,{"$f":"Раздел2!D175","v":0},0,0,0,0,0,0]
[null,"Служебное единоборство","168",null,null,null,null,null,null,null,null,null,null,null,null,null,null,null,null,null,null,null,null,null,null,null,null,null,null,null,0,0,0,{"$f":"Раздел2!D176","v":0},0,0,0,0,0,0]
[null,"Служебное многоборье","169",null,null,null,null,null,null,null,null,null,null,null,null,null,null,null,null,null,null,null,null,null,null,null,null,null,null,null,0,0,0,{"$f":"Раздел2!D177","v":0},0,0,0,0,0,0]
[null,"Служебный биатлон","170",null,null,null,null,null,null,null,null,null,null,null,null,null,null,null,null,null,null,null,null,null,null,null,null,null,null,null,0,0,0,{"$f":"Раздел2!D178","v":0},0,0,0,0,0,0]
[null,"Спасательный спорт","171",null,null,null,null,null,null,null,null,null,null,null,null,null,null,null,null,null,null,null,null,null,null,null,null,null,null,null,0,0,0,{"$f":"Раздел2!D179","v":0},0,0,0,0,0,0]
[null,"Стрельба из боевого ручного стрелкового оружия","172",null,null,null,null,null,null,null,null,null,null,null,null,null,null,null,null,null,null,null,null,null,null,null,null,null,null,null,0,0,0,{"$f":"Раздел2!D180","v":0},0,0,0,0,0,0]
[null,"Стрельба из штатного или табельного оружия","173",null,null,null,null,null,null,null,null,null,null,null,null,null,null,null,null,null,null,null,null,null,null,null,null,null,null,null,0,0,0,{"$f":"Раздел2!D181","v":0},0,0,0,0,0,0]
[null,"Смешанное боевое единоборство (ММА)","174",null,null,null,null,null,null,null,null,null,null,null,null,null,null,null,null,null,null,null,null,null,null,null,null,null,null,null,0,0,0,{"$f":"Раздел2!D182","v":0},0,0,0,0,0,0]
[null,"Сноуборд","175",null,null,null,null,null,null,null,null,null,null,null,null,null,null,null,null,null,null,null,null,null,null,null,null,null,null,null,0,0,0,{"$f":"Раздел2!D183","v":0},0,0,0,0,0,0]
[null,"Современное пятиборье","176",null,null,null,null,null,null,null,null,null,null,null,null,null,null,null,null,null,null,null,null,null,null,null,null,null,null,null,0,0,0,{"$f":"Раздел2!D184","v":0},0,0,0,0,0,0]
[null,"Софтбол","177",null,null,null,null,null,null,null,null,null,null,null,null,null,null,null,null,null,null,null,null,null,null,null,null,null,null,null,0,0,0,{"$f":"Раздел2!D185","v":0},0,0,0,0,0,0]
[null,"Спорт сверхлегкой авиации","178",null,null,null,null,null,null,null,null,null,null,null,null,null,null,null,null,null,null,null,null,null,null,null,null,null,null,null,0,0,0,{"$f":"Раздел2!D186","v":0},0,0,0,0,0,0]
[null,"Спортивная акробатика","179",null,null,null,null,null,null,null,null,null,null,null,null,null,null,null,null,null,null,null,null,null,null,null,null,null,null,null,0,0,0,{"$f":"Раздел2!D187","v":0},0,0,0,0,0,0]
[null,"Спортивная аэробика","180",null,null,null,null,null,null,null,null,null,null,null,null,null,null,null,null,null,null,null,null,null,null,null,null,null,null,null,0,0,0,{"$f":"Раздел2!D188","v":0},0,0,0,0,0,0]
[null,"Спортивная борьба - всего","181",{"$f":"SUM(D191:D195)","v":3},{"$f":"SUM(E191:E195)","v":2},1,1,0,1,0,0,0,0,0,1,0,1,0,0,0,0,0,0,2,0,0,0,0,0,0,0,1,0,{"$f":"Раздел2!D189","v":1},0,0,0,0,0,0]
[null,"в том числе:\nВольная борьба","182",null,null,null,null,null,null,null,null,null,null,null,null,null,null,null,null,null,null,null,null,null,null,null,null,null,null,null,0,0,0,{"$f":"Раздел2!D190","v":0},0,0,0,0,0,0]
[null,"Греко-римская борьба","183",3,2,1,1,null,1,null,null,null,null,null,1,null,1,null,null,null,null,null,null,2,null,null,null,null,null,null,0,1,0,{"$f":"Раздел2!D191","v":1},0,0,0,0,0,0]
[null,"Грэпплинг","184",null,null,null,null,null,null,null,null,null,null,null,null,null,null,null,null,null,null,null,null,null,null,null,null,null,null,null,0,0,0,{"$f":"Раздел2!D192","v":0},0,0,0,0,0,0]
[null,"Грэпплинг-ги","185",null,null,null,null,null,null,null,null,null,null,null,null,null,null,null,null,null,null,null,null,null,null,null,null,null,null,null,0,0,0,{"$f":"Раздел2!D193","v":0},0,0,0,0,0,0]
[null,"Панкратион","186",null,null,null,null,null,null,null,null,null,null,null,null,null,null,null,null,null,null,null,null,null,null,null,null,null,null,null,0,0,0,{"$f":"Раздел2!D194","v":0},0,0,0,0,0,0]
[null,"Спортивная гимнастика","187",null,null,null,null,null,null,null,null,null,null,null,null,null,null,null,null,null,null,null,null,null,null,null,null,null,null,null,0,0,0,{"$f":"Раздел2!D195","v":0},0,0,0,0,0,0]
[null,"Спортивная йога","188",null,null,null,null,null,null,null,null,null,null,null,null,null,null,null,null,null,null,null,null,null,null,null,null,null,null,null,0,0,0,{"$f":"Раздел2!D196","v":0},0,0,0,0,0,0]
[null,"Спортивно-прикладное собаководство","189",null,null,null,null,null,null,null,null,null,null,null,null,null,null,null,null,null,null,null,null,null,null,null,null,null,null,null,0,0,0,{"$f":"Раздел2!D197","v":0},0,0,0,0,0,0]
[null,"Спортивное метание ножа","190",null,null,null,null,null,null,null,null,null,null,null,null,null,null,null,null,null,null,null,null,null,null,null,null,null,null,null,null,0,null,{"$f":"Раздел2!D198","v":0}]
[null,"Спортивное ориентирование","191",null,null,null,null,null,null,null,null,null,null,null,null,null,null,null,null,null,null,null,null,null,null,null,null,null,null,null,0,0,0,{"$f":"Раздел2!D199","v":0},0,0,0,0,0,0]
[null,"Спортивный бридж","192",null,null,null,null,null,null,null,null,null,null,null,null,null,null,null,null,null,null,null,null,null,null,null,null,null,null,null,0,0,0,{"$f":"Раздел2!D200","v":0},0,0,0,0,0,0]
[null,"Спортивный туризм","193",null,null,null,null,null,null,null,null,null,null,null,null,null,null,null,null,null,null,null,null,null,null,null,null,null,null,null,0,0,0,{"$f":"Раздел2!D201","v":0},0,0,0,0,0,0]
[null,"Стендовая стрельба - всего","194",{"$f":"SUM(D204:D207)","v":0},{"$f":"SUM(E204:E207)","v":0},0,0,0,0,0,0,0,0,0,0,0,0,0,0,0,0,0,0,0,0,0,0,0,0,0,0,{"$f":"D203-E203","v":0},0,{"$f":"Раздел2!D202","v":0},0,0,0,0,0,0]
[null,"в том числе:\nТрап","195",null,null,null,null,null,null,null,null,null,null,null,null,null,null,null,null,null,null,null,null,null,null,null,null,null,null,null,0,0,0,{"$f":"Раздел2!D203","v":0},0,0,0,0,0,0]
[null,"Скит","196",null,null,null,null,null,null,null,null,null,null,null,null,null,null,null,null,null,null,null,null,null,null,null,null,null,null,null,0,0,0,{"$f":"Раздел2!D204","v":0},0,0,0,0,0,0]
[null,"Дубль-трап","197",null,null,null,null,null,null,null,null,null,null,null,null,null,null,null,null,null,null,null,null,null,null,null,null,null,null,null,0,0,0,{"$f":"Раздел2!D205","v":0},0,0,0,0,0,0]
[null,"Спортинг","198",null,null,null,null,null,null,null,null,null,null,null,null,null,null,null,null,null,null,null,null,null,null,null,null,null,null,null,0,0,0,{"$f":"Раздел2!D206","v":0},0,0,0,0,0,0]
[null,"Страйкбол","199",null,null,null,null,null,null,null,null,null,null,null,null,null,null,null,null,null,null,null,null,null,null,null,null,null,null,null,0,0,0,{"$f":"Раздел2!D207","v":0},0,0,0,0,0,0]
[null,"Стрельба из арбалета","200",null,null,null,null,null,null,null,null,null,null,null,null,null,null,null,null,null,null,null,null,null,null,null,null,null,null,null,0,0,0,{"$f":"Раздел2!D208","v":0},0,0,0,0,0,0]
[null,"Стрельба из лука - всего","201",{"$f":"SUM(D211:D213)","v":0},{"$f":"SUM(E211:E213)","v":0},0,0,0,0,0,0,0,0,0,0,0,0,0,0,0,0,0,0,0,0,0,0,0,0,0,0,0,0,{"$f":"Раздел2!D209","v":0},0,0,0,0,0,0]
[null,"в том числе:\nКлассический лук","202",null,null,null,null,null,null,null,null,null,null,null,null,null,null,null,null,null,null,null,null,null,null,null,null,null,null,null,0,0,0,{"$f":"Раздел2!D210","v":0},0,0,0,0,0,0]
[null,"   Блочный лук","203",null,null,null,null,null,null,null,null,null,null,null,null,null,null,null,null,null,null,null,null,null,null,null,null,null,null,null,0,0,0,{"$f":"Раздел2!D211","v":0},0,0,0,0,0,0]
[null,"   Ачери ","204",null,null,null,null,null,null,null,null,null,null,null,null,null,null,null,null,null,null,null,null,null,null,null,null,null,null,null,0,0,0,{"$f":"Раздел2!D212","v":0},0,0,0,0,0,0]
[null,"Судомодельный спорт","205",null,null,null,null,null,null,null,null,null,null,null,null,null,null,null,null,null,null,null,null,null,null,null,null,null,null,null,0,0,0,{"$f":"Раздел2!D213","v":0},0,0,0,0,0,0]
[null,"Сумо","206",null,null,null,null,null,null,null,null,null,null,null,null,null,null,null,null,null,null,null,null,null,null,null,null,null,null,null,0,0,0,{"$f":"Раздел2!D214","v":0},0,0,0,0,0,0]
[null,"Таврели","207",null,null,null,null,null,null,null,null,null,null,null,null,null,null,null,null,null,null,null,null,null,null,null,null,null,null,null,0,0,0,{"$f":"Раздел2!D215","v":0},0,0,0,0,0,0]
[null,"Тайский бокс","208",null,null,null,null,null,null,null,null,null,null,null,null,null,null,null,null,null,null,null,null,null,null,null,null,null,null,null,0,0,0,{"$f":"Раздел2!D216","v":0},0,0,0,0,0,0]
[null,"Танцевальный спорт","209",null,null,null,null,null,null,null,null,null,null,null,null,null,null,null,null,null,null,null,null,null,null,null,null,null,null,null,0,0,0,{"$f":"Раздел2!D217","v":0},0,0,0,0,0,0]
[null,"Теннис","210",null,null,null,null,null,null,null,null,null,null,null,null,null,null,null,null,null,null,null,null,null,null,null,null,null,null,null,0,0,0,{"$f":"Раздел2!D218","v":0},0,0,0,0,0,0]
[null,"Триатлон","211",null,null,null,null,null,null,null,null,null,null,null,null,null,null,null,null,null,null,null,null,null,null,null,null,null,null,null,0,0,0,{"$f":"Раздел2!D219","v":0},0,0,0,0,0,0]
[null,"Тхэквондо (ВТФ)","212",null,null,null,null,null,null,null,null,null,null,null,null,null,null,null,null,null,null,null,null,null,null,null,null,null,null,null,0,0,0,{"$f":"Раздел2!D220","v":0},0,0,0,0,0,0]
[null,"Тхэквондо ГТФ","213",null,null,null,null,null,null,null,null,null,null,null,null,null,null,null,null,null,null,null,null,null,null,null,null,null,null,null,null,0,null,{"$f":"Раздел2!D221","v":0}]
[null,"Тхэквондо ИТФ","214",null,null,null,null,null,null,null,null,null,null,null,null,null,null,null,null,null,null,null,null,null,null,null,null,null,null,null,0,0,0,{"$f":"Раздел2!D222","v":0},0,0,0,0,0,0]
[null,"Тхэквондо МФТ","215",null,null,null,null,null,null,null,null,null,null,null,null,null,null,null,null,null,null,null,null,null,null,null,null,null,null,null,null,0,null,{"$f":"Раздел2!D223","v":0}]
[null,"Тяжелая атлетика","216",null,null,null,null,null,null,null,null,null,null,null,null,null,null,null,null,null,null,null,null,null,null,null,null,null,null,null,0,0,0,{"$f":"Раздел2!D224","v":0},0,0,0,0,0,0]
[null,"Универсальный бой","217",null,null,null,null,null,null,null,null,null,null,null,null,null,null,null,null,null,null,null,null,null,null,null,null,null,null,null,0,0,0,{"$f":"Раздел2!D225","v":0},0,0,0,0,0,0]
[null,"Ушу","218",null,null,null,null,null,null,null,null,null,null,null,null,null,null,null,null,null,null,null,null,null,null,null,null,null,null,null,0,0,0,{"$f":"Раздел2!D226","v":0},0,0,0,0,0,0]
[null,"Фехтование - всего","219",{"$f":"SUM(D229:D232)","v":0},{"$f":"SUM(E229:E232)","v":0},0,0,0,0,0,0,0,0,0,0,0,0,0,0,0,0,0,0,0,0,0,0,0,0,0,0,0,0,{"$f":"Раздел2!D227","v":0},0,0,0,0,0,0]
[null,"в том числе:\nРапира","220",null,null,null,null,null,null,null,null,null,null,null,null,null,null,null,null,null,null,null,null,null,null,null,null,null,null,null,0,0,0,{"$f":"Раздел2!D228","v":0},0,0,0,0,0,0]
[null,"Сабля","221",null,null,null,null,null,null,null,null,null,null,null,null,null,null,null,null,null,null,null,null,null,null,null,null,null,null,null,0,0,0,{"$f":"Раздел2!D229","v":0},0,0,0,0,0,0]
[null,"Шпага","222",null,null,null,null,null,null,null,null,null,null,null,null,null,null,null,null,null,null,null,null,null,null,null,null,null,null,null,0,0,0,{"$f":"Раздел2!D230","v":0},0,0,0,0,0,0]
[null,"Арт-фехтование","223",null,null,null,null,null,null,null,null,null,null,null,null,null,null,null,null,null,null,null,null,null,null,null,null,null,null,null,0,0,0,{"$f":"Раздел2!D231","v":0},0,0,0,0,0,0]
[null,"Фигурное катание на коньках","224",null,null,null,null,null,null,null,null,null,null,null,null,null,null,null,null,null,null,null,null,null,null,null,null,null,null,null,0,0,0,{"$f":"Раздел2!D232","v":0},0,0,0,0,0,0]
[null,"Фитнес-аэробика","225",null,null,null,null,null,null,null,null,null,null,null,null,null,null,null,null,null,null,null,null,null,null,null,null,null,null,null,0,0,0,{"$f":"Раздел2!D233","v":0},0,0,0,0,0,0]
[null,"Флаинг диск","226",null,null,null,null,null,null,null,null,null,null,null,null,null,null,null,null,null,null,null,null,null,null,null,null,null,null,null,0,0,0,{"$f":"Раздел2!D234","v":0},0,0,0,0,0,0]
[null,"Флорбол","227",null,null,null,null,null,null,null,null,null,null,null,null,null,null,null,null,null,null,null,null,null,null,null,null,null,null,null,0,0,0,{"$f":"Раздел2!D235","v":0},0,0,0,0,0,0]
[null,"Фристайл - всего","228",{"$f":"SUM(D238:D243)","v":0},{"$f":"SUM(E238:E243)","v":0},0,0,0,0,0,0,0,0,0,0,0,0,0,0,0,0,0,0,0,0,0,0,0,0,0,0,0,0,{"$f":"Раздел2!D236","v":0},0,0,0,0,0,0]
[null,"в том числе:\nАкробатика","229",null,null,null,null,null,null,null,null,null,null,null,null,null,null,null,null,null,null,null,null,null,null,null,null,null,null,null,0,0,0,{"$f":"Раздел2!D237","v":0},0,0,0,0,0,0]
[null,"Биг-эйр","230",null,null,null,null,null,null,null,null,null,null,null,null,null,null,null,null,null,null,null,null,null,null,null,null,null,null,null,0,0,0,{"$f":"Раздел2!D238","v":0},0,0,0,0,0,0]
[null,"Могул","231",null,null,null,null,null,null,null,null,null,null,null,null,null,null,null,null,null,null,null,null,null,null,null,null,null,null,null,0,0,0,{"$f":"Раздел2!D239","v":0},0,0,0,0,0,0]
[null,"Ски-кросс","232",null,null,null,null,null,null,null,null,null,null,null,null,null,null,null,null,null,null,null,null,null,null,null,null,null,null,null,0,0,0,{"$f":"Раздел2!D240","v":0},0,0,0,0,0,0]
[null,"Хаф-пайп","233",null,null,null,null,null,null,null,null,null,null,null,null,null,null,null,null,null,null,null,null,null,null,null,null,null,null,null,0,0,0,{"$f":"Раздел2!D241","v":0},0,0,0,0,0,0]
[null,"Слоуп-стайл","234",null,null,null,null,null,null,null,null,null,null,null,null,null,null,null,null,null,null,null,null,null,null,null,null,null,null,null,0,0,0,{"$f":"Раздел2!D242","v":0},0,0,0,0,0,0]
[null,"Функциональное многоборье","235",null,null,null,null,null,null,null,null,null,null,null,null,null,null,null,null,null,null,null,null,null,null,null,null,null,null,null,0,0,0,{"$f":"Раздел2!D243","v":0},0,0,0,0,0,0]
[null,"Футбол - всего","236",{"$f":"SUM(D246:D251)","v":5},{"$f":"SUM(E246:E251)","v":4},4,0,3,0,0,0,1,0,0,1,0,0,0,0,0,0,0,0,0,1,2,1,0,0,0,0,1,0,{"$f":"Раздел2!D244","v":1},0,0,0,0,0,0]
[null,"в том числе:\nФутбол (муж.)","237",5,4,4,null,3,null,null,null,1,null,null,1,null,null,null,null,null,null,null,null,null,1,2,1,null,null,null,0,1,0,{"$f":"Раздел2!D245","v":1},0,0,0,0,0,0]
[null,"Футбол (жен.)","238",null,null,null,null,null,null,null,null,null,null,null,null,null,null,null,null,null,null,null,null,null,null,null,null,null,null,null,0,0,0,{"$f":"Раздел2!D246","v":0},0,0,0,0,0,0]
[null,"Мини-футбол (футзал)","239",null,null,null,null,null,null,null,null,null,null,null,null,null,null,null,null,null,null,null,null,null,null,null,null,null,null,null,0,0,0,{"$f":"Раздел2!D247","v":0},0,0,0,0,0,0]
[null,"Пляжный футбол","240",null,null,null,null,null,null,null,null,null,null,null,null,null,null,null,null,null,null,null,null,null,null,null,null,null,null,null,0,0,0,{"$f":"Раздел2!D248","v":0},0,0,0,0,0,0]
[null,"Футбол 6х6, 7х7, 8х8","241",null,null,null,null,null,null,null,null,null,null,null,null,null,null,null,null,null,null,null,null,null,null,null,null,null,null,null,null,0,null,{"$f":"Раздел2!D249","v":0}]
[null,"Интерактивный футбол","242",null,null,null,null,null,null,null,null,null,null,null,null,null,null,null,null,null,null,null,null,null,null,null,null,null,null,null,null,0,null,{"$f":"Раздел2!D250","v":0}]
[null,"Футгольф","243",null,null,null,null,null,null,null,null,null,null,null,null,null,null,null,null,null,null,null,null,null,null,null,null,null,null,null,0,0,0,{"$f":"Раздел2!D251","v":0},0,0,0,0,0,0]
[null,"Хапкидо","244",null,null,null,null,null,null,null,null,null,null,null,null,null,null,null,null,null,null,null,null,null,null,null,null,null,null,null,0,0,0,{"$f":"Раздел2!D252","v":0},0,0,0,0,0,0]
[null,"Хапсагай","245",null,null,null,null,null,null,null,null,null,null,null,null,null,null,null,null,null,null,null,null,null,null,null,null,null,null,null,0,0,0,{"$f":"Раздел2!D253","v":0},0,0,0,0,0,0]
[null,"Хоккей - всего","246",{"$f":"SUM(D256:D257)","v":0},{"$f":"SUM(E256:E257)","v":0},0,0,0,0,0,0,0,0,0,0,0,0,0,0,0,0,0,0,0,0,0,0,0,0,0,0,0,0,{"$f":"Раздел2!D254","v":0},0,0,0,0,0,0]
[null,"в том числе:\nХоккей (муж.)","247",null,null,null,null,null,null,null,null,null,null,null,null,null,null,null,null,null,null,null,null,null,null,null,null,null,null,null,0,0,0,{"$f":"Раздел2!D255","v":0},0,0,0,0,0,0]
[null,"Хоккей (жен.)","248",null,null,null,null,null,null,null,null,null,null,null,null,null,null,null,null,null,null,null,null,null,null,null,null,null,null,null,0,0,0,{"$f":"Раздел2!D256","v":0},0,0,0,0,0,0]
[null,"Хоккей на траве - всего","249",{"$f":"SUM(D259:D261)","v":0},{"$f":"SUM(E259:E261)","v":0},0,0,0,0,0,0,0,0,0,0,0,0,0,0,0,0,0,0,0,0,0,0,0,0,0,0,0,0,{"$f":"Раздел2!D257","v":0},0,0,0,0,0,0]
[null,"в том числе:\nХоккей на траве (муж.)","250",null,null,null,null,null,null,null,null,null,null,null,null,null,null,null,null,null,null,null,null,null,null,null,null,null,null,null,0,0,0,{"$f":"Раздел2!D258","v":0},0,0,0,0,0,0]
[null,"Хоккей на траве (жен.)","251",null,null,null,null,null,null,null,null,null,null,null,null,null,null,null,null,null,null,null,null,null,null,null,null,null,null,null,0,0,0,{"$f":"Раздел2!D259","v":0},0,0,0,0,0,0]
[null,"Индорхоккей","252",null,null,null,null,null,null,null,null,null,null,null,null,null,null,null,null,null,null,null,null,null,null,null,null,null,null,null,0,0,0,{"$f":"Раздел2!D260","v":0},0,0,0,0,0,0]
[null,"Хоккей с мячом","253",null,null,null,null,null,null,null,null,null,null,null,null,null,null,null,null,null,null,null,null,null,null,null,null,null,null,null,0,0,0,{"$f":"Раздел2!D261","v":0},0,0,0,0,0,0]
[null,"Художественная гимнастика","254",4,4,3,1,3,null,null,null,3,1,null,null,null,null,null,null,null,null,null,null,1,1,2,null,1,null,null,0,0,0,{"$f":"Раздел2!D262","v":1},0,0,0,0,0,0]
[null,"Хуреш","255",null,null,null,null,null,null,null,null,null,null,null,null,null,null,null,null,null,null,null,null,null,null,null,null,null,null,null,0,0,0,{"$f":"Раздел2!D263","v":0},0,0,0,0,0,0]
[null,"Чир спорт","256",null,null,null,null,null,null,null,null,null,null,null,null,null,null,null,null,null,null,null,null,null,null,null,null,null,null,null,0,0,0,{"$f":"Раздел2!D264","v":0},0,0,0,0,0,0]
[null,"Шахматы","257",null,null,null,null,null,null,null,null,null,null,null,null,null,null,null,null,null,null,null,null,null,null,null,null,null,null,null,0,0,0,{"$f":"Раздел2!D265","v":0},0,0,0,0,0,0]
[null,"Шашки","258",null,null,null,null,null,null,null,null,null,null,null,null,null,null,null,null,null,null,null,null,null,null,null,null,null,null,null,0,{"$f":"D267-E267","v":0},0,{"$f":"Раздел2!D266","v":0},0,0,0,0,0,0]
[null,"Шодсанлат","259",null,null,null,null,null,null,null,null,null,null,null,null,null,null,null,null,null,null,null,null,null,null,null,null,null,null,null,0,0,0,{"$f":"Раздел2!D267","v":0},0,0,0,0,0,0]
[null,"Эстетическая гимнастика","260",null,null,null,null,null,null,null,null,null,null,null,null,null,null,null,null,null,null,null,null,null,null,null,null,null,null,null,0,0,0,{"$f":"Раздел2!D268","v":0},0,0,0,0,0,0]
[null,"Якутские национальные прыжки","261",null,null,null,null,null,null,null,null,null,null,null,null,null,null,null,null,null,null,null,null,null,null,null,null,null,null,null,0,0,0,{"$f":"Раздел2!D269","v":0},0,0,0,0,0,0]
[null,"ИТОГО","262",{"$f":"SUM(D10:D21,D24:D27,D30:D35,D46:D51,D56:D58,D40:D43,D62:D72,D77:D86,D90:D96,D99:D104,D112:D117,D118:D126,D129:D134,D137,D142:D143,D149:D152,D157:D162,D163:D177,D178:D190,D196:D203,D208:D210,D214:D218,D219:D228,D233:D237,D244:D245,D252:D255,D258,D262:D270)","v":33},{"$f":"SUM(E10:E21,E24:E27,E30:E35,E46:E51,E56:E58,E40:E43,E62:E72,E77:E86,E90:E96,E99:E104,E112:E117,E118:E126,E129:E134,E137,E142:E143,E149:E152,E157:E162,E163:E177,E178:E190,E196:E203,E208:E210,E214:E218,E219:E228,E233:E237,E244:E245,E252:E255,E258,E262:E270)","v":18},13,5,11,3,0,0,6,3,0,13,2,11,2,0,0,2,0,0,5,5,5,3,1,{"$f":"SUM(AC10:AC21,AC24:AC27,AC30:AC35,AC46:AC51,AC56:AC58,AC40:AC43,AC62:AC72,AC77:AC86,AC90:AC96,AC99:AC104,AC112:AC117,AC118:AC126,AC129:AC134,AC137,AC142:AC143,AC149:AC152,AC157:AC162,AC163:AC177,AC178:AC190,AC196:AC203,AC208:AC210,AC214:AC218,AC219:AC228,AC233:AC237,AC244:AC245,AC252:AC255,AC258,AC262:AC270)","v":0},0,0,15,0,0,0,0,0,0,0,0]
[null,"ИТОГО тренеров ЦСП","263",null,null,null,null,null,null,null,null,null,null,null,null,null,null,null,null,null,null,null,null,null,null,null,null,null,null,null,0,0,{"$f":"Раздел1!I18","v":0},0,0,0,0,0,0,0]

{"sheet":"Раздел10","index":10,"n_rows":29,"n_cols":17,"rows_kept":29,"cut":false,"hidden":false,"merged":[[5,13,6,13],[5,7,5,8],[5,9,6,9],[5,10,6,10],[5,11,6,11],[5,12,6,12],[0,0,0,8],[1,0,28,0],[1,1,1,13],[1,14,28,14],[2,11,2,13],[3,1,6,1],[3,2,6,2],[3,3,4,4],[3,5,3,13],[4,5,4,8],[4,9,4,11],[4,12,4,13],[5,3,6,3],[5,4,6,4],[5,5,6,5],[5,6,6,6]]}
[]
[null,"Раздел X. Административные работники и специалисты"]
[null,null,null,null,null,null,null,null,null,null,null,"Код по ОКЕИ: человек – 792"]
[null,"Наименование должности","№ строки","Число работников",null,"из них имеют (из гр. 4):"]
[null,null,null,null,null,"профессиональное образование",null,null,null,"квалификационную категорию",null,null,"почетные звания"]
[null,null,null,"Всего","в том числе штатные","высшее","среднее","в том числе\nфизкультурное",null,"высшую","первую","вторую","Заслужен-ный тренер России","Заслуженный работник физической культуры Российской Федерации"]
[null,null,null,null,null,null,null,"высшее","среднее"]
[null,1,2,3,4,5,6,7,8,9,10,11,12,13]
[null,"Директор (руководитель)","01",1,1,1,null,1,null,null,null,null,null,null,null,null,{"$f":"#REF!","v":{"$error":"#REF!"}}]
[null,"Заместители директора (руководителя)","02",{"$f":"SUM(D11:D12)","v":3},{"$f":"SUM(E11:E12)","v":3},3,0,2,0,0,0,0,0,0]
[null,"      в том числе:\n   по спортивной работе","03",1,1,1,null,1]
[null,"   другие","04",2,2,2,null,1]
[null,"Главный бухгалтер","05"]
[null,"Инструкторы по спорту","06"]
[null,"Спортсмены, спортсмены-инструкторы","07",null,null,null,null,null,null,null,null,null,null,null,null,{"$f":"Раздел2!#REF!","v":{"$error":"#REF!"}}]
[null,"   в том числе:\n   проходящие спортивную подготовку в \n   организациях, осуществляющих спортивную \n   подготовку","08"]
[null,"Инструкторы – методисты (включая старшего)","09",4,3,3,null,2,null,2,1]
[null,"Техники (специалист) по эксплуатации и ремонту спортивной техники, инвентаря и снаряжения","10"]
[null,"Преподаватели","11"]
[null,"Воспитатели (включая старшего)","12"]
[null,"Методисты (включая старшего)","13"]
[null,"Педагоги – психологи","14"]
[null,"Медицинские работники:","15",{"$f":"SUM(D24:D26)","v":0},{"$f":"SUM(E24:E26)","v":0},{"$f":"SUM(F24:F26)","v":0},0,0,0,0,0,0,0,0]
[null,"   в том числе:\n   врачи","16"]
[null,"   средний медицинский персонал","17"]
[null,"   младший медицинский персонал","18"]
[null,"Специалисты спортсооружений","19"]
[null,"Прочий персонал","20",1,1,null,1]
[null,"ИТОГО","21",{"$f":"SUM(D27:D28,D17:D23,D13:D15,D9:D10)","v":9},{"$f":"SUM(E27:E28,E17:E23,E13:E15,E9:E10)","v":8},7,1,{"$f":"SUM(H27:H28,H17:H23,H13:H15,H9:H10)","v":5},0,2,1,0,0,0]

{"sheet":"Раздел11","index":11,"n_rows":42,"n_cols":16,"rows_kept":42,"cut":false,"hidden":false,"merged":[[0,0,0,8],[1,0,41,0],[1,1,1,14],[2,11,2,15],[3,1,5,1],[3,2,5,2],[3,3,5,3],[3,4,3,8],[3,9,3,13],[3,14,5,14],[3,15,5,15],[4,4,5,4],[4,5,4,8],[4,9,5,9],[4,10,4,13]]}
[]
[null,"Раздел XI. Спортивные сооружения"]
[null,null,null,null,null,null,null,null,null,null,null,"Код по ОКЕИ: единица – 642"]
[null,"Наименование спортивного сооружения","№ стро-ки","Число спортивных сооружений – всего","находящихся на балансе (из гр. 3)",null,null,null,null,"арендуемых (из гр. 3)",null,null,null,null,"используемых на безвозмездной основе\n(из гр. 3)","Количество спортсооружений, входящих во Всероссийский реестр объектов спорта (из гр. 3)"]
[null,null,null,null,"всего","в том числе по формам собственности:",null,null,null,"всего","в том числе по формам собственности:"]
[null,null,null,null,null,"федеральной","субъектов Российской Федерации","муници-пальной","другой",null,"федеральной","субъектов Российской Федерации","муници-пальной","другой"]
[null,1,2,3,4,5,6,7,8,9,10,11,12,13,14,15]
[null,"Стадионы с трибунами – всего","01",{"$f":"E8+J8+O8","v":1},{"$f":"SUM(F8:I8)","v":0},null,null,null,null,{"$f":"SUM(K8:N8)","v":0},null,null,null,null,1]
[null,"в том числе на 1500 мест и более","02",{"$f":"E9+J9+O9","v":0},{"$f":"SUM(F9:I9)","v":0},null,null,null,null,{"$f":"SUM(K9:N9)","v":0}]
[null,"Плоскостные спортивные сооружения - всего","03",8,1,{"$f":"SUM(F11:F12)","v":0},{"$f":"SUM(G11:G12)","v":0},{"$f":"SUM(H11:H12)","v":1},0,0,{"$f":"SUM(K11:K12)","v":0},{"$f":"SUM(L11:L12)","v":0},0,0,7,{"$f":"SUM(P11:P12)","v":0}]
[null,"в том числе:\nПлоскостные спортивные сооружения","04",7,1,null,null,1,null,0,null,null,null,null,6]
[null,"Футбольные поля","05",1,0,null,null,null,null,0,null,null,null,null,1]
[null,"Спортивные залы – всего","06",15,2,{"$f":"SUM(F14:F17)","v":0},{"$f":"SUM(G14:G17)","v":0},{"$f":"SUM(H14:H17)","v":2},0,0,{"$f":"SUM(K14:K17)","v":0},{"$f":"SUM(L14:L17)","v":0},0,0,13,2]
[null,"      в том числе размером:\n     (42 х 24 м)","07",1,1,null,null,1,null,0]
[null,"     (36 х 18 м); (30 х 18 м) и (30 х 15 м)","08",2,1,null,null,1,null,0,null,null,null,null,1,2]
[null,"     (24 х 12 м) и (18 х 9 м)","09",12,0,null,null,null,null,0,null,null,null,null,12]
[null,"     иных размеров",10,0,0,null,null,null,null,0]
[null,"Манежи легкоатлетические",11,0,0,null,null,null,null,0]
[null,"Манежи футбольные",12,0,0,null,null,null,null,0]
[null,"Велотреки",13,0,0,null,null,null,null,0]
[null,"Велодромы",14,0,0,null,null,null,null,0]
[null,"Бассейны – всего",15,1,0,{"$f":"SUM(F23:F26)","v":0},{"$f":"SUM(G23:G26)","v":0},{"$f":"SUM(H23:H26)","v":0},0,1,{"$f":"SUM(K23:K26)","v":0},{"$f":"SUM(L23:L26)","v":0},1,0,0,0]
[null,"     в том числе: \n     плавательные 50-метровые",16,0,0,null,null,null,null,0]
[null,"     плавательные 25-метровые",17,1,0,null,null,null,null,1,null,null,1]
[null,"     нестандартных размеров",18,0,0,null,null,null,null,0]
[null,"     для прыжков в воду",19,0,0,null,null,null,null,0]
[null,"         из строки 15 - крытые",20,0,0,null,null,null,null,0]
[null,"Гребные базы",21,0,0,null,null,null,null,0]
[null,"Гребные каналы",22,0,0,null,null,null,null,0]
[null,"Крытые спортивные объекты с искусственным льдом – всего",23,0,0,{"$f":"SUM(F31:F32)","v":0},{"$f":"SUM(G31:G32)","v":0},{"$f":"SUM(H31:H32)","v":0},0,0,{"$f":"SUM(K31:K32)","v":0},{"$f":"SUM(L31:L32)","v":0},0,0,0,0]
[null,"  в том числе:\n  крытые спортивные объекты с искусственным     льдом ",24,0,0,null,null,null,null,0]
[null,"     конькобежные",25,0,0,null,null,null,null,0]
[null,"Лыжные базы",26,0,0,null,null,null,null,0]
[null,"Лыжные стадионы",27,0,0,null,null,null,null,0]
[null,"Биатлонные комплексы",28,0,0,null,null,null,null,0]
[null,"Сооружения для стрелковых видов спорта – всего",29,0,0,{"$f":"SUM(F37:F40)","v":0},{"$f":"SUM(G37:G40)","v":0},{"$f":"SUM(H37:H40)","v":0},0,0,{"$f":"SUM(K37:K40)","v":0},{"$f":"SUM(L37:L40)","v":0},0,0,0,{"$f":"SUM(P37:P40)","v":0}]
[null,"     в том числе: \n     тиры",30,0,0,null,null,null,null,0]
[null,"     стрельбища",31,0,0,null,null,null,null,0]
[null,"     стенды",32,0,0,null,null,null,null,0]
[null,"     лукодромы",33,0,0,null,null,null,null,0]
[null,"Другие спортивные сооружения",34,2,{"$f":"SUM(F41:I41)","v":0},null,null,null,null,{"$f":"SUM(K41:N41)","v":0},null,null,null,null,2]
[null,"ИТОГО",35,{"$f":"E42+J42+O42","v":27},3,{"$f":"SUM(F8,F10,F13,F18:F22,F28:F30,F33:F36,F41)","v":0},{"$f":"SUM(G8,G10,G13,G18:G22,G28:G30,G33:G36,G41)","v":0},3,0,1,{"$f":"SUM(K8,K10,K13,K18:K22,K28:K30,K33:K36,K41)","v":0},{"$f":"SUM(L8,L10,L13,L18:L22,L28:L30,L33:L36,L41)","v":0},1,0,{"$f":"SUM(O8,O10,O13,O18:O22,O28:O30,O33:O36,O41)","v":23},{"$f":"SUM(P8,P10,P13,P18:P22,P28:P30,P33:P36,P41)","v":2}]

{"sheet":"Раздел12","index":12,"n_rows":31,"n_cols":31,"rows_kept":31,"cut":false,"hidden":false,"merged":[[1,29,28,29],[2,23,2,28],[3,7,3,28],[4,7,4,18],[4,19,4,28],[5,3,8,3],[5,4,8,4],[5,5,8,5],[6,27,8,27],[5,7,5,14],[6,24,8,24],[5,19,5,23],[5,6,8,6],[6,26,8,26],[5,15,6,18],[6,23,8,23],[6,25,8,25],[0,0,0,19],[1,0,28,0],[1,1,1,28],[5,24,5,28],[6,28,8,28],[6,7,6,10],[6,11,6,14],[6,19,8,19],[6,20,8,20],[6,21,8,21],[6,22,8,22],[7,7,7,18],[3,1,8,1],[3,2,8,2],[3,3,4,4],[3,5,4,6]]}
[]
[null,"Раздел XII. Сведения о численности и оплате труда работников"]
[null,null,null,null,null,null,null,null,null,null,null,null,null,null,null,null,null,null,null,null,null,null,null,"Коды по ОКЕИ: человек – 792; единица – 642; тысяча рублей – 384"]
[null,"Наименование должности","№ строки","Количество ставок, единиц",null,"Средняя численность работников, человек",null,"Фонд начисленной заработной платы работников, тыс. руб."]
[null,null,null,null,null,null,null,"всего",null,null,null,null,null,null,null,null,null,null,null,"по источникам финансирования"]
[null,null,null,"всего (без внешних совместителей)","внешних совме-стителей","списочного состава\n(без внеш-них совме-стителей)\n","внешних совме-стителей","списочного состава (без внешних совместителей)",null,null,null,null,null,null,null,"внешних совместителей",null,null,null,"списочного состава\n(без внешних совместителей)",null,null,null,null,"внешних совместителей"]
[null,null,null,null,null,null,null,"всего",null,null,null,"внутренних совместителей",null,null,null,null,null,null,null,"итого","федеральный бюджет","бюджет субъекта РФ","муниципальный бюджет","ПДД","итого","федеральный бюджет","бюджет субъекта РФ","муниципальный бюджет","ПДД"]
[null,null,null,null,null,null,null,"по разделам функциональной классификации расходов бюджета и средства от приносящей доход деятельности (ПДД)"]
[null,null,null,null,null,null,null,"Итого","07",11,"ПДД","Итого","07",11,"ПДД","Итого","07",11,"ПДД"]
[null,1,2,3,4,5,6,7,8,9,10,11,12,13,14,15,16,17,18,19,20,21,22,23,24,25,26,27,28,null,"13 5"]
[null,"Директор","01",1,null,1,null,{"$f":"SUM(I11:K11)","v":875},null,838.4,36.6,{"$f":"SUM(M11:O11)","v":0},null,null,null,{"$f":"SUM(Q11:S11)","v":0},null,null,null,{"$f":"SUM(U11:X11)","v":875},null,null,838.4,36.6,{"$f":"SUM(Z11:AC11)","v":0},null,null,null,null,null,{"$f":"Раздел13!E9+Раздел13!F9","v":0}]
[null,"Заместители директора, руководители структурных подразделений и их заместители","02",3,null,3,null,{"$f":"SUM(I12:K12)","v":2515.2999999999997},null,2435.6,79.7,{"$f":"SUM(M12:O12)","v":874.7},null,874.7,null,{"$f":"SUM(Q12:S12)","v":0},null,null,null,{"$f":"SUM(U12:X12)","v":2515.2999999999997},null,null,2435.6,79.7,{"$f":"SUM(Z12:AC12)","v":0},null,null,null,null,null,{"$f":"Раздел13!G9+Раздел13!H9","v":0}]
[null,"Работники учреждений, осуществляющие спортивную подготовку:","03",{"$f":"SUM(D20,D14,D23)","v":49},{"$f":"SUM(E20,E14,E23)","v":5},22,5,11941.300000000001,0,11685.400000000001,255.9,501.9,0,501.9,0,1541,0,1541,0,11941.300000000001,0,0,11685.400000000001,255.9,1541,0,0,1541,{"$f":"SUM(AC20,AC14,AC23)","v":0},null,{"$f":"Раздел13!I9+Раздел13!J9","v":21148.400000000001}]
[null,"     тренерский персонал - всего:","04",{"$f":"SUM(D15:D17)","v":44},{"$f":"SUM(E15:E17)","v":5},19,5,10712.6,0,10456.700000000001,255.9,501.9,0,501.9,0,1445.8,0,1445.8,0,10712.6,0,0,10456.700000000001,255.9,{"$f":"SUM(Z14:AC14)","v":1445.8},0,0,1445.8,{"$f":"SUM(AC15:AC17)","v":0},null,{"$f":"Раздел13!K9","v":383.6}]
[null,"   в том числе:\n   главные тренеры по видам спорта;","05",null,null,null,null,0,null,null,null,0,null,null,null,0,null,null,null,0,null,null,null,null,0]
[null,"     старшие тренеры по видам спорта; ","06",null,null,null,null,0,null,null,null,0,null,null,null,0,null,null,null,0,null,null,null,null,0]
[null,"     тренеры по видам спорта - всего:","07",{"$f":"SUM(D18:D19)","v":44},{"$f":"SUM(E18:E19)","v":5},19,5,10712.6,0,10456.700000000001,255.9,501.9,0,501.9,0,1445.8,0,{"$f":"SUM(R18:R19)","v":1445.8},0,10712.6,0,0,10456.700000000001,255.9,1445.8,0,0,1445.8,0]
[null,"       в том числе:\n       тренеры","08",44,5,19,5,10712.6,null,10456.700000000001,255.9,501.9,null,501.9,null,1445.8,null,1445.8,null,10712.6,null,null,10456.700000000001,255.9,1445.8,null,null,1445.8]
[null,"         тренеры-преподаватели","09",null,null,null,null,0,null,null,null,0,null,null,null,0,null,null,null,0,null,null,null,null,0]
[null,"      методический персонал:",10,{"$f":"SUM(D21:D22)","v":5},{"$f":"SUM(E21:E22)","v":0},3,0,1228.7,0,1228.7,0,0,0,0,0,95.2,0,95.2,0,1228.7,0,0,1228.7,0,95.2,0,0,95.2,{"$f":"SUM(AC21:AC22)","v":0}]
[null,"      в том числе:\n      инструкторы-методисты;",11,4,null,2,null,849,null,849,null,0,null,null,null,95.2,null,95.2,null,849,null,null,849,null,95.2,null,null,95.2]
[null,"      старшие инструкторы-методисты",12,1,null,1,null,379.7,null,379.7,null,0,null,null,null,0,null,null,null,379.7,null,null,379.7,null,0]
[null,"     спортсмены, спортсмены-инструкторы",13,null,null,null,null,0,null,null,null,0,null,null,null,0,null,null,null,0,null,null,null,null,0]
[null,"Тренеры спортивных сборных команд:",14,{"$f":"SUM(D25:D27)","v":0},{"$f":"SUM(E25:E27)","v":0},0,0,0,0,0,0,0,0,0,0,0,0,0,0,0,0,0,0,0,0,0,0,0,0]
[null,"    в том числе:    \n    главные тренеры спортивных сборных команд;",15,null,null,null,null,0,null,null,null,0,null,null,null,0,null,null,null,0,null,null,null,null,0]
[null,"    старшие тренеры спортивных сборных команд",16,null,null,null,null,0,null,null,null,0,null,null,null,0,null,null,null,0,null,null,null,null,0]
[null,"Старшие тренеры по резерву сборных команд",17,null,null,null,null,0,null,null,null,0,null,null,null,0,null,null,null,0,null,null,null,null,{"$f":"SUM(Z27:AC27)","v":0}]
[null,"Тренеры-консультанты",18,null,null,null,null,0,null,null,null,0,null,null,null,0,null,null,null,{"$f":"SUM(U28:X28)","v":0},null,null,null,null,0]
[null,"Медицинские работники",19,null,null,null,null,0,null,null,null,0,null,null,null,0,null,null,null,0,null,null,null,null,0]
[null,"Прочий персонал",20,32.700000000000003,1,19,1,4404.7,null,4393.3,11.4,{"$f":"SUM(M30:O30)","v":721.4},null,721.4,null,254.7,null,254.7,null,4404.7,null,null,4393.3,11.4,254.7,null,null,254.7]
[null,"ИТОГО",21,{"$f":"SUM(D11:D13,D24,D28:D30)","v":85.7},{"$f":"SUM(E11:E13,E24,E28:E30)","v":6},45,6,19736.3,0,19352.7,383.6,2098,0,2098,0,1795.7,0,1795.7,0,19736.3,0,0,19352.7,383.6,1795.7,0,0,1795.7,0]

{"sheet":"Раздел13","index":13,"n_rows":36,"n_cols":22,"rows_kept":36,"cut":false,"hidden":false,"merged":[[0,0,39,0],[0,1,0,14],[2,1,5,1],[2,2,5,2],[2,3,5,3],[2,4,3,10],[4,4,4,5],[4,6,4,7],[4,8,4,9],[36,13,36,15],[27,3,27,4],[4,10,5,10],[28,5,28,9],[1,8,1,10],[32,2,32,4],[34,2,34,4],[35,2,35,3]]}
[null,"Раздел XIII. Финансовая деятельность организаций"]
[null,null,null,null,null,null,null,null,"Код по ОКЕИ: тысяча рублей - 384"]
[null,"Расходы на содержание организаций\n","№ строки","ВСЕГО","в том числе по источникам финансирования и \nразделам функциональной классификации расходов бюджета:"]
[]
[null,null,null,null,"федеральный бюджет",null,"бюджет субъекта Российской Федерации ",null,"муниципальный бюджет ",null,"внебюджетные источники "]
[null,null,null,null,"07","11","07","11","07","11",null,null,null,null,null,null,null,null,null,null,null,"12 Р"]
[null,1,"2",3,4,5,6,7,8,9,"10",null,null,null,null,null,null,null,null,null,null,{"$f":"SUM(Раздел12!U31,Раздел12!Z31)","v":0}]
[null,"Всего расходов","01",{"$f":"SUM(E8:K8)","v":29881.000000000004},{"$f":"SUM(E9:E13,E16,E21:E22,E26)","v":0},{"$f":"SUM(F9:F13,F16,F21:F22,F26)","v":0},0,0,0,29056.900000000005,824.1,null,null,null,null,null,null,null,null,null,null,{"$f":"SUM(Раздел12!V31,Раздел12!AA31)","v":0}]
[null,"в том числе: \nЗаработная плата","02",{"$f":"SUM(E9:K9)","v":21532},null,null,null,null,null,21148.400000000001,383.6,null,null,null,null,null,null,null,null,null,null,{"$f":"SUM(Раздел12!W31,Раздел12!AB31)","v":21148.400000000001}]
[null,"Организация и проведение спортивных мероприятий","03",0,null,null,null,null,null,null,null,null,null,null,null,null,null,null,null,null,null,{"$f":"SUM(Раздел12!X31,Раздел12!AC31)","v":383.6}]
[null,"Участие в соревнованиях и\nтренировочных сборах","04",296.39999999999998,null,null,null,null,null,296.39999999999998,null,null,null,null,null,null,null,null,null,null,null,{"$f":"Раздел12!I31+Раздел12!Q31","v":0}]
[null,"Медико-восстановительные мероприятия","05",0,null,null,null,null,null,null,null,null,null,null,null,null,null,null,null,null,null,{"$f":"Раздел12!J31+Раздел12!R31","v":21148.400000000001}]
[null,"Материально-техническое обеспечение - всего:","06",0,{"$f":"SUM(E14:E15)","v":0},{"$f":"SUM(F14:F15)","v":0},0,0,{"$f":"SUM(I14:I15)","v":0},0,0,null,null,null,null,null,null,null,null,null,null,{"$f":"Раздел12!K31+Раздел12!S31","v":383.6}]
[null,"   в том числе: \n   экипировка, спортивное оборудование, \n   инвентарь;","07",0]
[null,"   прочее","08",0]
[null,"Профессиональная переподготовка и повышение квалификации  специалистов, осуществляющих деятельность в области физической культуры и спорта - всего:","09",8.4,{"$f":"SUM(E17:E20)","v":0},{"$f":"SUM(F17:F20)","v":0},0,0,0,8.4,0]
[null,"  в том числе: \n  тренеры;","10",8.4,null,null,null,null,null,8.4]
[null,"  тренеры-преподаватели;","11",0]
[null,"  инструкторы-методисты;","12",0]
[null,"  другие специалисты","13",0]
[null,"Предоставление  доступа к объекту спорта","14",0]
[null,"Содержание спортивных сооружений - всего:","15",2598.4,{"$f":"SUM(E23:E25)","v":0},{"$f":"SUM(F23:F25)","v":0},0,0,0,2277.4,321]
[null,"   в том числе: \n   аренда (услуги спортсооружений);","16",19.100000000000001,null,null,null,null,null,19.100000000000001]
[null,"   собственные спортсооружения;","17",2579.3000000000002,null,null,null,null,null,2258.3000000000002,321]
[null,"   другие расходы на содержание","18",0]
[null,"Прочие расходы","19",5445.8,null,null,null,null,null,5326.3,119.5]
[null,null,null,{"$error":"#REF!"}]
[null,"Поступило средств от приносящей доход детельности, тысяча рублей:"]
[]
[]
[]
[null,"Должностное лицо, ответственное за предоставление первичных статистических данных (лицо, уполномоченное предоставлять первичные статистические данные \nот имени юридического лица).\n"]
[null,"Директор МБУ \"СШОР № 2\"","Егоренкова Светлана Петровна"]
[null,"             (должность)",null,"        (ФИО)",null,"  ","       (подпись)"]
[null,"8(86365)5-13-84","sdush-2@yandex.ru",null,null,null,"2020-12-23"]
[null,"     (номер контактного телефона)","                   (e-mail)",null,null,null,"(дата составления)"]